BEGIN:VCALENDAR
VERSION:2.0
PRODID:-//Studioprogramma Absolution - ECPv6.2.5//NONSGML v1.0//EN
CALSCALE:GREGORIAN
METHOD:PUBLISH
X-ORIGINAL-URL:https://studioprogramma.absolution.nl
X-WR-CALDESC:Evenementen voor Studioprogramma Absolution
REFRESH-INTERVAL;VALUE=DURATION:PT1H
X-Robots-Tag:noindex
X-PUBLISHED-TTL:PT1H
BEGIN:VTIMEZONE
TZID:Europe/Helsinki
BEGIN:DAYLIGHT
TZOFFSETFROM:+0200
TZOFFSETTO:+0300
TZNAME:EEST
DTSTART:20220327T010000
END:DAYLIGHT
BEGIN:STANDARD
TZOFFSETFROM:+0300
TZOFFSETTO:+0200
TZNAME:EET
DTSTART:20221030T010000
END:STANDARD
END:VTIMEZONE
BEGIN:VEVENT
DTSTART;TZID=Europe/Helsinki:20220210T100000
DTEND;TZID=Europe/Helsinki:20220210T160000
DTSTAMP:20260424T080734
CREATED:20211221T091357Z
LAST-MODIFIED:20211221T091358Z
UID:3383-1644487200-1644508800@studioprogramma.absolution.nl
SUMMARY:Absolution Gymnastiek voor je huid 10-2-22
DESCRIPTION:Voor iedereen die de basistraining reeds gevolgd heeft en behoefte heeft aan een behandeling die meer gericht is op veroudering en verslapping van de huid. Model: ja
URL:https://studioprogramma.absolution.nl/workshops/absolution-gymnastiek-voor-je-huid-10-2-22/
LOCATION:Absolution Studio – Apeldoorn\, Europaweg 220\, Apeldoorn\, Gelderland\, 7336 AR\, Nederland
CATEGORIES:Absolution
ATTACH;FMTTYPE=image/jpeg:https://studioprogramma.absolution.nl/wp-content/uploads/2019/01/Cursus_afbeeldingen_BodyscrubenHamman.jpg
ORGANIZER;CN="Absolution":MAILTO:info@absolution.nl
GEO:52.1926836;5.9329345
X-APPLE-STRUCTURED-LOCATION;VALUE=URI;X-ADDRESS=Absolution Studio – Apeldoorn Europaweg 220 Apeldoorn Gelderland 7336 AR Nederland;X-APPLE-RADIUS=500;X-TITLE=Europaweg 220:geo:5.9329345,52.1926836
END:VEVENT
BEGIN:VEVENT
DTSTART;TZID=Europe/Helsinki:20220214T100000
DTEND;TZID=Europe/Helsinki:20220214T160000
DTSTAMP:20260424T080734
CREATED:20211221T115229Z
LAST-MODIFIED:20211221T115229Z
UID:3393-1644832800-1644854400@studioprogramma.absolution.nl
SUMMARY:Absolution Upsell training 14-2-22
DESCRIPTION:In deze training leer je hoe je extra applicaties kunt toevoegen aan je bestaande gezichtsbehandeling. Wij hebben hier nieuwe en verrassende praktijktechnieken voor ontwikkeld\, welke de verkoop ook zeker zullen bevorderen. Model: nee
URL:https://studioprogramma.absolution.nl/workshops/absolution-upsell-training-14-2-22/
LOCATION:Absolution Studio – Apeldoorn\, Europaweg 220\, Apeldoorn\, Gelderland\, 7336 AR\, Nederland
CATEGORIES:Absolution
ATTACH;FMTTYPE=image/jpeg:https://studioprogramma.absolution.nl/wp-content/uploads/2018/07/Cursus_afbeeldingen_basistheorie.jpg
ORGANIZER;CN="Absolution":MAILTO:info@absolution.nl
GEO:52.1926836;5.9329345
X-APPLE-STRUCTURED-LOCATION;VALUE=URI;X-ADDRESS=Absolution Studio – Apeldoorn Europaweg 220 Apeldoorn Gelderland 7336 AR Nederland;X-APPLE-RADIUS=500;X-TITLE=Europaweg 220:geo:5.9329345,52.1926836
END:VEVENT
BEGIN:VEVENT
DTSTART;TZID=Europe/Helsinki:20220215T100000
DTEND;TZID=Europe/Helsinki:20220215T160000
DTSTAMP:20260424T080734
CREATED:20211221T115516Z
LAST-MODIFIED:20211221T115517Z
UID:3396-1644919200-1644940800@studioprogramma.absolution.nl
SUMMARY:Absolution decolleté tegen de tijd 15-2-22
DESCRIPTION:Tijdens deze training leer je werken met cupping en massage technieken specifiek voor op het decolleté. Model: nee
URL:https://studioprogramma.absolution.nl/workshops/absolution-decollete-tegen-de-tijd-15-2-22/
LOCATION:Absolution Studio – Apeldoorn\, Europaweg 220\, Apeldoorn\, Gelderland\, 7336 AR\, Nederland
CATEGORIES:Absolution
ATTACH;FMTTYPE=image/jpeg:https://studioprogramma.absolution.nl/wp-content/uploads/2019/01/Cursus_afbeeldingen_bodymassage.jpg
ORGANIZER;CN="Absolution":MAILTO:info@absolution.nl
GEO:52.1926836;5.9329345
X-APPLE-STRUCTURED-LOCATION;VALUE=URI;X-ADDRESS=Absolution Studio – Apeldoorn Europaweg 220 Apeldoorn Gelderland 7336 AR Nederland;X-APPLE-RADIUS=500;X-TITLE=Europaweg 220:geo:5.9329345,52.1926836
END:VEVENT
BEGIN:VEVENT
DTSTART;TZID=Europe/Helsinki:20220217T100000
DTEND;TZID=Europe/Helsinki:20220217T160000
DTSTAMP:20260424T080734
CREATED:20211221T093721Z
LAST-MODIFIED:20211221T093721Z
UID:3389-1645092000-1645113600@studioprogramma.absolution.nl
SUMMARY:Absolution Body Re-Lax 17-2-22
DESCRIPTION:Deze massage techniek is gericht op het ontspannen van body en mind. Model: ja
URL:https://studioprogramma.absolution.nl/workshops/absolution-body-re-lax-17-2-22/
LOCATION:Absolution Studio – Apeldoorn\, Europaweg 220\, Apeldoorn\, Gelderland\, 7336 AR\, Nederland
CATEGORIES:Absolution
ATTACH;FMTTYPE=image/jpeg:https://studioprogramma.absolution.nl/wp-content/uploads/2020/01/Cursus_afbeeldingen_jan2020_bodyresculpt.jpg
ORGANIZER;CN="Absolution":MAILTO:info@absolution.nl
GEO:52.1926836;5.9329345
X-APPLE-STRUCTURED-LOCATION;VALUE=URI;X-ADDRESS=Absolution Studio – Apeldoorn Europaweg 220 Apeldoorn Gelderland 7336 AR Nederland;X-APPLE-RADIUS=500;X-TITLE=Europaweg 220:geo:5.9329345,52.1926836
END:VEVENT
END:VCALENDAR