BEGIN:VCALENDAR
VERSION:2.0
PRODID:-//Studioprogramma Absolution - ECPv6.2.5//NONSGML v1.0//EN
CALSCALE:GREGORIAN
METHOD:PUBLISH
X-WR-CALNAME:Studioprogramma Absolution
X-ORIGINAL-URL:https://studioprogramma.absolution.nl
X-WR-CALDESC:Evenementen voor Studioprogramma Absolution
REFRESH-INTERVAL;VALUE=DURATION:PT1H
X-Robots-Tag:noindex
X-PUBLISHED-TTL:PT1H
BEGIN:VTIMEZONE
TZID:Europe/Helsinki
BEGIN:DAYLIGHT
TZOFFSETFROM:+0200
TZOFFSETTO:+0300
TZNAME:EEST
DTSTART:20220327T010000
END:DAYLIGHT
BEGIN:STANDARD
TZOFFSETFROM:+0300
TZOFFSETTO:+0200
TZNAME:EET
DTSTART:20221030T010000
END:STANDARD
END:VTIMEZONE
BEGIN:VEVENT
DTSTART;TZID=Europe/Helsinki:20220307T100000
DTEND;TZID=Europe/Helsinki:20220307T160000
DTSTAMP:20260424T062906
CREATED:20220121T104442Z
LAST-MODIFIED:20220121T104442Z
UID:3516-1646647200-1646668800@studioprogramma.absolution.nl
SUMMARY:Absolution Refresh praktijktraining 7-3-22
DESCRIPTION:Deze training is geschikt voor iedereen die de basis theorie- en de basis praktijktraining heeft gevolgd en op de hoogte wil blijven van de nieuwste ontwikkelingen van Absolution. Tijdens deze training komen alle nieuwe producten aan bod en wordt er in de praktijk gewerkt. Model: ja
URL:https://studioprogramma.absolution.nl/workshops/absolution-refresh-praktijktraining-7-3-22/
LOCATION:Absolution Studio – Apeldoorn\, Europaweg 220\, Apeldoorn\, Gelderland\, 7336 AR\, Nederland
CATEGORIES:Absolution
ATTACH;FMTTYPE=image/jpeg:https://studioprogramma.absolution.nl/wp-content/uploads/2018/07/Cursus_afbeeldingen_verkooptraining.jpg
ORGANIZER;CN="Absolution":MAILTO:info@absolution.nl
GEO:52.1926836;5.9329345
X-APPLE-STRUCTURED-LOCATION;VALUE=URI;X-ADDRESS=Absolution Studio – Apeldoorn Europaweg 220 Apeldoorn Gelderland 7336 AR Nederland;X-APPLE-RADIUS=500;X-TITLE=Europaweg 220:geo:5.9329345,52.1926836
END:VEVENT
BEGIN:VEVENT
DTSTART;TZID=Europe/Helsinki:20220308T100000
DTEND;TZID=Europe/Helsinki:20220308T160000
DTSTAMP:20260424T062906
CREATED:20220121T105007Z
LAST-MODIFIED:20220121T105007Z
UID:3522-1646733600-1646755200@studioprogramma.absolution.nl
SUMMARY:La Cure Peau Nette / La Cure Peau Calme 8-3-22
DESCRIPTION:In deze training leert u nieuwe behandeltechnieken die specifiek zijn afgestemd op La Cure Peau Nette en La Cure Peau Calme. Model: ja
URL:https://studioprogramma.absolution.nl/workshops/la-cure-peau-nette-la-cure-peau-calme-8-3-22/
LOCATION:Absolution Studio – Apeldoorn\, Europaweg 220\, Apeldoorn\, Gelderland\, 7336 AR\, Nederland
CATEGORIES:Absolution
ATTACH;FMTTYPE=image/jpeg:https://studioprogramma.absolution.nl/wp-content/uploads/2020/01/Cursus_afbeeldingen_jan2020_1.jpg
ORGANIZER;CN="Absolution":MAILTO:info@absolution.nl
GEO:52.1926836;5.9329345
X-APPLE-STRUCTURED-LOCATION;VALUE=URI;X-ADDRESS=Absolution Studio – Apeldoorn Europaweg 220 Apeldoorn Gelderland 7336 AR Nederland;X-APPLE-RADIUS=500;X-TITLE=Europaweg 220:geo:5.9329345,52.1926836
END:VEVENT
BEGIN:VEVENT
DTSTART;TZID=Europe/Helsinki:20220310T100000
DTEND;TZID=Europe/Helsinki:20220310T160000
DTSTAMP:20260424T062906
CREATED:20220121T090238Z
LAST-MODIFIED:20220121T090238Z
UID:3476-1646906400-1646928000@studioprogramma.absolution.nl
SUMMARY:Absolution Body Re-Start 10-3-22
DESCRIPTION:Een kickstart voor je body waar bij we werken op energie banen en op de afvoer via de lymfe. Model: ja
URL:https://studioprogramma.absolution.nl/workshops/absolution-body-re-start-10-3-22/
LOCATION:Absolution Studio – Apeldoorn\, Europaweg 220\, Apeldoorn\, Gelderland\, 7336 AR\, Nederland
CATEGORIES:Absolution
ATTACH;FMTTYPE=image/jpeg:https://studioprogramma.absolution.nl/wp-content/uploads/2018/07/Cursus_afbeeldingen_basispraktijk.jpg
GEO:52.1926836;5.9329345
X-APPLE-STRUCTURED-LOCATION;VALUE=URI;X-ADDRESS=Absolution Studio – Apeldoorn Europaweg 220 Apeldoorn Gelderland 7336 AR Nederland;X-APPLE-RADIUS=500;X-TITLE=Europaweg 220:geo:5.9329345,52.1926836
END:VEVENT
BEGIN:VEVENT
DTSTART;TZID=Europe/Helsinki:20220314T100000
DTEND;TZID=Europe/Helsinki:20220314T160000
DTSTAMP:20260424T062906
CREATED:20220121T094425Z
LAST-MODIFIED:20220121T094426Z
UID:3504-1647252000-1647273600@studioprogramma.absolution.nl
SUMMARY:Absolution Glow protocol 14-3-22
DESCRIPTION:Wij hebben een nieuwe praktijktraining ontwikkeld met massage technieken waarbij we gebruik maken van een beauty tool voor in de cabine de Kansa Wand. Hierbij hebben we 4 verschillende product protocollen gemaakt. Model: ja
URL:https://studioprogramma.absolution.nl/workshops/absolution-glow-protocol-14-3-22/
LOCATION:Absolution Studio – Apeldoorn\, Europaweg 220\, Apeldoorn\, Gelderland\, 7336 AR\, Nederland
CATEGORIES:Absolution
ATTACH;FMTTYPE=image/jpeg:https://studioprogramma.absolution.nl/wp-content/uploads/2018/07/Cursus_afbeeldingen_bodyscrubhamman.jpg
ORGANIZER;CN="Absolution":MAILTO:info@absolution.nl
GEO:52.1926836;5.9329345
X-APPLE-STRUCTURED-LOCATION;VALUE=URI;X-ADDRESS=Absolution Studio – Apeldoorn Europaweg 220 Apeldoorn Gelderland 7336 AR Nederland;X-APPLE-RADIUS=500;X-TITLE=Europaweg 220:geo:5.9329345,52.1926836
END:VEVENT
BEGIN:VEVENT
DTSTART;TZID=Europe/Helsinki:20220316T100000
DTEND;TZID=Europe/Helsinki:20220316T160000
DTSTAMP:20260424T062906
CREATED:20220124T103924Z
LAST-MODIFIED:20220124T103924Z
UID:3566-1647424800-1647446400@studioprogramma.absolution.nl
SUMMARY:Absolution Glow protocol 16-3-22
DESCRIPTION:Wij hebben een nieuwe praktijktraining ontwikkeld met massage technieken waarbij we gebruik maken van een beauty tool voor in de cabine de Kansa Wand. Hierbij hebben we 4 verschillende product protocollen gemaakt. Model: ja
URL:https://studioprogramma.absolution.nl/workshops/absolution-glow-protocol-16-3-22/
LOCATION:Absolution Studio – Apeldoorn\, Europaweg 220\, Apeldoorn\, Gelderland\, 7336 AR\, Nederland
CATEGORIES:Absolution
ATTACH;FMTTYPE=image/jpeg:https://studioprogramma.absolution.nl/wp-content/uploads/2018/07/Cursus_afbeeldingen_bodyscrubhamman.jpg
ORGANIZER;CN="Absolution":MAILTO:info@absolution.nl
GEO:52.1926836;5.9329345
X-APPLE-STRUCTURED-LOCATION;VALUE=URI;X-ADDRESS=Absolution Studio – Apeldoorn Europaweg 220 Apeldoorn Gelderland 7336 AR Nederland;X-APPLE-RADIUS=500;X-TITLE=Europaweg 220:geo:5.9329345,52.1926836
END:VEVENT
BEGIN:VEVENT
DTSTART;TZID=Europe/Helsinki:20220317T100000
DTEND;TZID=Europe/Helsinki:20220317T160000
DTSTAMP:20260424T062906
CREATED:20211221T120848Z
LAST-MODIFIED:20211221T120848Z
UID:3414-1647511200-1647532800@studioprogramma.absolution.nl
SUMMARY:Absolution visagietraining by Niels Jansen 17-3-22
DESCRIPTION:In deze training leer je het aanbrengen van de make up van Absolution. \nU heeft geen model nodig.
URL:https://studioprogramma.absolution.nl/workshops/absolution-visagietraining-by-niels-jansen-17-3-22/
LOCATION:Absolution Studio – Apeldoorn\, Europaweg 220\, Apeldoorn\, Gelderland\, 7336 AR\, Nederland
CATEGORIES:Absolution
ATTACH;FMTTYPE=image/jpeg:https://studioprogramma.absolution.nl/wp-content/uploads/2021/02/ACMakeUpPhoto8FCAudreyBozzetto.jpg
ORGANIZER;CN="Absolution":MAILTO:info@absolution.nl
GEO:52.1926836;5.9329345
X-APPLE-STRUCTURED-LOCATION;VALUE=URI;X-ADDRESS=Absolution Studio – Apeldoorn Europaweg 220 Apeldoorn Gelderland 7336 AR Nederland;X-APPLE-RADIUS=500;X-TITLE=Europaweg 220:geo:5.9329345,52.1926836
END:VEVENT
BEGIN:VEVENT
DTSTART;TZID=Europe/Helsinki:20220321T100000
DTEND;TZID=Europe/Helsinki:20220321T160000
DTSTAMP:20260424T062906
CREATED:20220121T093450Z
LAST-MODIFIED:20220121T093450Z
UID:3493-1647856800-1647878400@studioprogramma.absolution.nl
SUMMARY:Absolution Body Re-Sculpt met cupping 21-3-22
DESCRIPTION:Wij werken met een droge borstel techniek\, cupping en het body scrub protocol. Model: nee
URL:https://studioprogramma.absolution.nl/workshops/absolution-body-re-sculpt-met-cupping-21-3-22/
LOCATION:Absolution Studio – Apeldoorn\, Europaweg 220\, Apeldoorn\, Gelderland\, 7336 AR\, Nederland
CATEGORIES:Absolution
ATTACH;FMTTYPE=image/jpeg:https://studioprogramma.absolution.nl/wp-content/uploads/2019/01/Cursus_afbeeldingen_BodyscrubenHamman.jpg
ORGANIZER;CN="Absolution":MAILTO:info@absolution.nl
GEO:52.1926836;5.9329345
X-APPLE-STRUCTURED-LOCATION;VALUE=URI;X-ADDRESS=Absolution Studio – Apeldoorn Europaweg 220 Apeldoorn Gelderland 7336 AR Nederland;X-APPLE-RADIUS=500;X-TITLE=Europaweg 220:geo:5.9329345,52.1926836
END:VEVENT
BEGIN:VEVENT
DTSTART;TZID=Europe/Helsinki:20220322T100000
DTEND;TZID=Europe/Helsinki:20220322T160000
DTSTAMP:20260424T062906
CREATED:20220121T105838Z
LAST-MODIFIED:20220121T105838Z
UID:3528-1647943200-1647964800@studioprogramma.absolution.nl
SUMMARY:Absolution Gymnastiek voor je huid 22-3-22
DESCRIPTION:Voor iedereen die de basistraining reeds gevolgd heeft en behoefte heeft aan een behandeling die meer gericht is op veroudering en verslapping van de huid. Model: ja
URL:https://studioprogramma.absolution.nl/workshops/absolution-gymnastiek-voor-je-huid-22-3-22/
LOCATION:Absolution Studio – Apeldoorn\, Europaweg 220\, Apeldoorn\, Gelderland\, 7336 AR\, Nederland
CATEGORIES:Absolution
ATTACH;FMTTYPE=image/jpeg:https://studioprogramma.absolution.nl/wp-content/uploads/2019/01/Cursus_afbeeldingen_BodyscrubenHamman.jpg
ORGANIZER;CN="Absolution":MAILTO:info@absolution.nl
GEO:52.1926836;5.9329345
X-APPLE-STRUCTURED-LOCATION;VALUE=URI;X-ADDRESS=Absolution Studio – Apeldoorn Europaweg 220 Apeldoorn Gelderland 7336 AR Nederland;X-APPLE-RADIUS=500;X-TITLE=Europaweg 220:geo:5.9329345,52.1926836
END:VEVENT
BEGIN:VEVENT
DTSTART;TZID=Europe/Helsinki:20220328T100000
DTEND;TZID=Europe/Helsinki:20220328T160000
DTSTAMP:20260424T062906
CREATED:20211221T120604Z
LAST-MODIFIED:20211221T120605Z
UID:3411-1648461600-1648483200@studioprogramma.absolution.nl
SUMMARY:Absolution verkooptraining 28-3-22
DESCRIPTION:In deze training leert u over uw eigen grenzen te stappen om tegemoet te komen aan de behoeftes van de klant. U leert het beste uit uzelf te halen. Zonder uit te gaan van aannames.
URL:https://studioprogramma.absolution.nl/workshops/absolution-verkooptraining-28-3-22/
LOCATION:Absolution Studio – Apeldoorn\, Europaweg 220\, Apeldoorn\, Gelderland\, 7336 AR\, Nederland
CATEGORIES:Absolution
ATTACH;FMTTYPE=image/jpeg:https://studioprogramma.absolution.nl/wp-content/uploads/2018/07/Cursus_afbeeldingen_basistheorie.jpg
ORGANIZER;CN="Absolution":MAILTO:info@absolution.nl
GEO:52.1926836;5.9329345
X-APPLE-STRUCTURED-LOCATION;VALUE=URI;X-ADDRESS=Absolution Studio – Apeldoorn Europaweg 220 Apeldoorn Gelderland 7336 AR Nederland;X-APPLE-RADIUS=500;X-TITLE=Europaweg 220:geo:5.9329345,52.1926836
END:VEVENT
BEGIN:VEVENT
DTSTART;TZID=Europe/Helsinki:20220329T100000
DTEND;TZID=Europe/Helsinki:20220329T160000
DTSTAMP:20260424T062906
CREATED:20220121T110551Z
LAST-MODIFIED:20220121T110551Z
UID:3537-1648548000-1648569600@studioprogramma.absolution.nl
SUMMARY:Absolution Basis theorie 29-3-22
DESCRIPTION:Voor iedereen die gaat starten met Absolution of een totale herhaling wil.\nTijdens deze training komt de filosofie van Absolution aan bod en gaan we dieper in op de producten met hun specifieke werkingen en bijzondere ingrediënten. Model: niet nodig
URL:https://studioprogramma.absolution.nl/workshops/absolution-basis-theorie-29-3-22/
LOCATION:Absolution Studio – Apeldoorn\, Europaweg 220\, Apeldoorn\, Gelderland\, 7336 AR\, Nederland
CATEGORIES:Absolution
ATTACH;FMTTYPE=image/jpeg:https://studioprogramma.absolution.nl/wp-content/uploads/2018/07/Cursus_afbeeldingen_refreshtraining.jpg
ORGANIZER;CN="Absolution":MAILTO:info@absolution.nl
GEO:52.1926836;5.9329345
X-APPLE-STRUCTURED-LOCATION;VALUE=URI;X-ADDRESS=Absolution Studio – Apeldoorn Europaweg 220 Apeldoorn Gelderland 7336 AR Nederland;X-APPLE-RADIUS=500;X-TITLE=Europaweg 220:geo:5.9329345,52.1926836
END:VEVENT
BEGIN:VEVENT
DTSTART;TZID=Europe/Helsinki:20220330T100000
DTEND;TZID=Europe/Helsinki:20220330T160000
DTSTAMP:20260424T062906
CREATED:20220121T110120Z
LAST-MODIFIED:20220121T110120Z
UID:3531-1648634400-1648656000@studioprogramma.absolution.nl
SUMMARY:Absolution Basis praktijk 30-3-22
DESCRIPTION:Het vervolg op de training Basis Theorie en voor de schoonheidsspecialiste die in de salon de Absolution behandelingen gaat geven.\nTijdens deze training gaan we aan het werk met de producten en de massagetechniek volgens het Absolution protocol.\nDeze unieke benadering en manier van werken legt nadruk op resultaat en huidverbetering en verkoop. Model: ja
URL:https://studioprogramma.absolution.nl/workshops/absolution-basis-praktijk-30-3-22/
LOCATION:Absolution Studio – Apeldoorn\, Europaweg 220\, Apeldoorn\, Gelderland\, 7336 AR\, Nederland
CATEGORIES:Absolution
ATTACH;FMTTYPE=image/jpeg:https://studioprogramma.absolution.nl/wp-content/uploads/2019/01/Cursus_afbeeldingen_verkooptraining.jpg
ORGANIZER;CN="Absolution":MAILTO:info@absolution.nl
GEO:52.1926836;5.9329345
X-APPLE-STRUCTURED-LOCATION;VALUE=URI;X-ADDRESS=Absolution Studio – Apeldoorn Europaweg 220 Apeldoorn Gelderland 7336 AR Nederland;X-APPLE-RADIUS=500;X-TITLE=Europaweg 220:geo:5.9329345,52.1926836
END:VEVENT
END:VCALENDAR