BEGIN:VCALENDAR
VERSION:2.0
PRODID:-//Studioprogramma Absolution - ECPv6.2.5//NONSGML v1.0//EN
CALSCALE:GREGORIAN
METHOD:PUBLISH
X-WR-CALNAME:Studioprogramma Absolution
X-ORIGINAL-URL:https://studioprogramma.absolution.nl
X-WR-CALDESC:Evenementen voor Studioprogramma Absolution
REFRESH-INTERVAL;VALUE=DURATION:PT1H
X-Robots-Tag:noindex
X-PUBLISHED-TTL:PT1H
BEGIN:VTIMEZONE
TZID:Europe/Helsinki
BEGIN:DAYLIGHT
TZOFFSETFROM:+0200
TZOFFSETTO:+0300
TZNAME:EEST
DTSTART:20220327T010000
END:DAYLIGHT
BEGIN:STANDARD
TZOFFSETFROM:+0300
TZOFFSETTO:+0200
TZNAME:EET
DTSTART:20221030T010000
END:STANDARD
END:VTIMEZONE
BEGIN:VEVENT
DTSTART;TZID=Europe/Helsinki:20220601T100000
DTEND;TZID=Europe/Helsinki:20220601T160000
DTSTAMP:20260424T013220
CREATED:20220121T110754Z
LAST-MODIFIED:20220121T110754Z
UID:3540-1654077600-1654099200@studioprogramma.absolution.nl
SUMMARY:Absolution Basis theorie 1-6-22
DESCRIPTION:Voor iedereen die gaat starten met Absolution of een totale herhaling wil.\nTijdens deze training komt de filosofie van Absolution aan bod en gaan we dieper in op de producten met hun specifieke werkingen en bijzondere ingrediënten. Model: niet nodig
URL:https://studioprogramma.absolution.nl/workshops/absolution-basis-theorie-1-6-22/
LOCATION:Absolution Studio – Apeldoorn\, Europaweg 220\, Apeldoorn\, Gelderland\, 7336 AR\, Nederland
CATEGORIES:Absolution
ATTACH;FMTTYPE=image/jpeg:https://studioprogramma.absolution.nl/wp-content/uploads/2018/07/Cursus_afbeeldingen_refreshtraining.jpg
ORGANIZER;CN="Absolution":MAILTO:info@absolution.nl
GEO:52.1926836;5.9329345
X-APPLE-STRUCTURED-LOCATION;VALUE=URI;X-ADDRESS=Absolution Studio – Apeldoorn Europaweg 220 Apeldoorn Gelderland 7336 AR Nederland;X-APPLE-RADIUS=500;X-TITLE=Europaweg 220:geo:5.9329345,52.1926836
END:VEVENT
BEGIN:VEVENT
DTSTART;TZID=Europe/Helsinki:20220602T100000
DTEND;TZID=Europe/Helsinki:20220602T160000
DTSTAMP:20260424T013220
CREATED:20220121T110322Z
LAST-MODIFIED:20220624T091750Z
UID:3534-1654164000-1654185600@studioprogramma.absolution.nl
SUMMARY:Absolution Basis praktijk 2-6-22
DESCRIPTION:Het vervolg op de training Basis Theorie en voor de schoonheidsspecialiste die in de salon de Absolution behandelingen gaat geven.\nTijdens deze training gaan we aan het werk met de producten en de massagetechniek volgens het Absolution protocol.\nDeze unieke benadering en manier van werken legt nadruk op resultaat en huidverbetering en verkoop. Model: ja
URL:https://studioprogramma.absolution.nl/workshops/absolution-basis-praktijk-2-6-22/
LOCATION:Absolution Studio – Apeldoorn\, Europaweg 220\, Apeldoorn\, Gelderland\, 7336 AR\, Nederland
CATEGORIES:Absolution
ATTACH;FMTTYPE=image/jpeg:https://studioprogramma.absolution.nl/wp-content/uploads/2020/01/Cursus_afbeeldingen_jan2020_bodyresculpt.jpg
ORGANIZER;CN="Absolution":MAILTO:info@absolution.nl
GEO:52.1926836;5.9329345
X-APPLE-STRUCTURED-LOCATION;VALUE=URI;X-ADDRESS=Absolution Studio – Apeldoorn Europaweg 220 Apeldoorn Gelderland 7336 AR Nederland;X-APPLE-RADIUS=500;X-TITLE=Europaweg 220:geo:5.9329345,52.1926836
END:VEVENT
BEGIN:VEVENT
DTSTART;TZID=Europe/Helsinki:20220608T100000
DTEND;TZID=Europe/Helsinki:20220608T160000
DTSTAMP:20260424T013220
CREATED:20220121T093707Z
LAST-MODIFIED:20220121T093707Z
UID:3496-1654682400-1654704000@studioprogramma.absolution.nl
SUMMARY:Absolution Body Re-Sculpt met cupping 8-6-22
DESCRIPTION:Wij werken met een droge borstel techniek\, cupping en het body scrub protocol. Model: nee
URL:https://studioprogramma.absolution.nl/workshops/absolution-body-re-sculpt-met-cupping-8-6-22/
LOCATION:Absolution Studio – Apeldoorn\, Europaweg 220\, Apeldoorn\, Gelderland\, 7336 AR\, Nederland
CATEGORIES:Absolution
ATTACH;FMTTYPE=image/jpeg:https://studioprogramma.absolution.nl/wp-content/uploads/2019/01/Cursus_afbeeldingen_BodyscrubenHamman.jpg
ORGANIZER;CN="Absolution":MAILTO:info@absolution.nl
GEO:52.1926836;5.9329345
X-APPLE-STRUCTURED-LOCATION;VALUE=URI;X-ADDRESS=Absolution Studio – Apeldoorn Europaweg 220 Apeldoorn Gelderland 7336 AR Nederland;X-APPLE-RADIUS=500;X-TITLE=Europaweg 220:geo:5.9329345,52.1926836
END:VEVENT
BEGIN:VEVENT
DTSTART;TZID=Europe/Helsinki:20220613T100000
DTEND;TZID=Europe/Helsinki:20220613T160000
DTSTAMP:20260424T013220
CREATED:20220121T093133Z
LAST-MODIFIED:20220121T093133Z
UID:3490-1655114400-1655136000@studioprogramma.absolution.nl
SUMMARY:Absolution decolleté tegen de tijd 13-6-22
DESCRIPTION:Tijdens deze training leer je werken met cupping en massage technieken specifiek voor op het decolleté. Model: nee
URL:https://studioprogramma.absolution.nl/workshops/absolution-decollete-tegen-de-tijd-13-6-22/
LOCATION:Absolution Studio – Apeldoorn\, Europaweg 220\, Apeldoorn\, Gelderland\, 7336 AR\, Nederland
CATEGORIES:Absolution
ATTACH;FMTTYPE=image/jpeg:https://studioprogramma.absolution.nl/wp-content/uploads/2019/01/Cursus_afbeeldingen_bodymassage.jpg
ORGANIZER;CN="Absolution":MAILTO:info@absolution.nl
GEO:52.1926836;5.9329345
X-APPLE-STRUCTURED-LOCATION;VALUE=URI;X-ADDRESS=Absolution Studio – Apeldoorn Europaweg 220 Apeldoorn Gelderland 7336 AR Nederland;X-APPLE-RADIUS=500;X-TITLE=Europaweg 220:geo:5.9329345,52.1926836
END:VEVENT
BEGIN:VEVENT
DTSTART;TZID=Europe/Helsinki:20220614T100000
DTEND;TZID=Europe/Helsinki:20220614T160000
DTSTAMP:20260424T013220
CREATED:20211221T120137Z
LAST-MODIFIED:20211221T120138Z
UID:3405-1655200800-1655222400@studioprogramma.absolution.nl
SUMMARY:Absolution Casus-training 14-6-22
DESCRIPTION:In deze training behandelen we de verschillende huidbehoeftes  en welke producten hierbij centraal staan en het beste geadviseerd kunnen worden aan de hand van diverse casussen.
URL:https://studioprogramma.absolution.nl/workshops/absolution-casus-training-14-6-22/
LOCATION:Absolution Studio – Apeldoorn\, Europaweg 220\, Apeldoorn\, Gelderland\, 7336 AR\, Nederland
CATEGORIES:Absolution
ATTACH;FMTTYPE=image/jpeg:https://studioprogramma.absolution.nl/wp-content/uploads/2018/07/Cursus_afbeeldingen_refreshtraining.jpg
ORGANIZER;CN="Absolution":MAILTO:info@absolution.nl
GEO:52.1926836;5.9329345
X-APPLE-STRUCTURED-LOCATION;VALUE=URI;X-ADDRESS=Absolution Studio – Apeldoorn Europaweg 220 Apeldoorn Gelderland 7336 AR Nederland;X-APPLE-RADIUS=500;X-TITLE=Europaweg 220:geo:5.9329345,52.1926836
END:VEVENT
BEGIN:VEVENT
DTSTART;TZID=Europe/Helsinki:20220616T100000
DTEND;TZID=Europe/Helsinki:20220616T150000
DTSTAMP:20260424T013220
CREATED:20220510T145819Z
LAST-MODIFIED:20220510T150154Z
UID:3756-1655373600-1655391600@studioprogramma.absolution.nl
SUMMARY:Workshop BusinessCollage 16-6-22
DESCRIPTION:Gun jezelf vlak voor de zomer een moment om de balans op te maken. Je werkt heel hard IN je salon. Hoeveel tijd gun jij jezelf om te werken AAN je salon en aan jezelf? Waar sta jij in het geheel van leven & werk? Met BusinessCollage© maak jij jouw JA visueel als schoonheidsspecialiste en als mens. \nHaal meer uit jezelf en je salon Als je doet\, wat je deed; krijg je wat je kreeg. Daag jezelf uit en visualiseer jouw toekomst en maak je eigen BusinessCollage©. Gebruik deze collage als reflectiemiddel om dromen\, verlangen\, ambitie en groei in beeld te brengen. \nProgramma: \n\nIntroductie (kracht van positieve psychologie).\nAan de slag: je eigen collage maken (A2 vel\, stapel tijdschriften\, schaar\, lijm).\nInzichten ophalen.\nDoorvertalen naar: actie.\n\nOver de workshopbegeleider\, Kristel Veltkamp (van Redboots): \nAls communicatiespecialist helpt zij organisaties met het in de wereld zetten van hun verhaal. Ofwel: het verhaal van je product of dienst\, waarmee je waarde levert voor anderen. Kijk voor meer informatie op www.businesscollage.nl of www.redboots.nl
URL:https://studioprogramma.absolution.nl/workshops/workshop-businesscollage-16-6-22/
LOCATION:Absolution Studio – Apeldoorn\, Europaweg 220\, Apeldoorn\, Gelderland\, 7336 AR\, Nederland
CATEGORIES:Absolution
ORGANIZER;CN="Absolution":MAILTO:info@absolution.nl
GEO:52.1926836;5.9329345
X-APPLE-STRUCTURED-LOCATION;VALUE=URI;X-ADDRESS=Absolution Studio – Apeldoorn Europaweg 220 Apeldoorn Gelderland 7336 AR Nederland;X-APPLE-RADIUS=500;X-TITLE=Europaweg 220:geo:5.9329345,52.1926836
END:VEVENT
END:VCALENDAR