BEGIN:VCALENDAR
VERSION:2.0
PRODID:-//Studioprogramma Absolution - ECPv6.2.5//NONSGML v1.0//EN
CALSCALE:GREGORIAN
METHOD:PUBLISH
X-ORIGINAL-URL:https://studioprogramma.absolution.nl
X-WR-CALDESC:Evenementen voor Studioprogramma Absolution
REFRESH-INTERVAL;VALUE=DURATION:PT1H
X-Robots-Tag:noindex
X-PUBLISHED-TTL:PT1H
BEGIN:VTIMEZONE
TZID:Europe/Helsinki
BEGIN:DAYLIGHT
TZOFFSETFROM:+0200
TZOFFSETTO:+0300
TZNAME:EEST
DTSTART:20220327T010000
END:DAYLIGHT
BEGIN:STANDARD
TZOFFSETFROM:+0300
TZOFFSETTO:+0200
TZNAME:EET
DTSTART:20221030T010000
END:STANDARD
END:VTIMEZONE
BEGIN:VEVENT
DTSTART;TZID=Europe/Helsinki:20221101T100000
DTEND;TZID=Europe/Helsinki:20221101T160000
DTSTAMP:20260423T181027
CREATED:20220622T123603Z
LAST-MODIFIED:20220815T103152Z
UID:3899-1667296800-1667318400@studioprogramma.absolution.nl
SUMMARY:Absolution Casus Training - dinsdag 1 november
DESCRIPTION:In deze training behandelen we de verschillende huidbehoeftes  en welke producten hierbij centraal staan en het beste geadviseerd kunnen worden aan de hand van diverse casussen\nModel: niet nodig
URL:https://studioprogramma.absolution.nl/workshops/absolution-casus-training-dinsdag-1-november/
LOCATION:Absolution Studio – Apeldoorn\, Europaweg 220\, Apeldoorn\, Gelderland\, 7336 AR\, Nederland
CATEGORIES:Absolution
ORGANIZER;CN="Absolution":MAILTO:info@absolution.nl
GEO:52.1926836;5.9329345
X-APPLE-STRUCTURED-LOCATION;VALUE=URI;X-ADDRESS=Absolution Studio – Apeldoorn Europaweg 220 Apeldoorn Gelderland 7336 AR Nederland;X-APPLE-RADIUS=500;X-TITLE=Europaweg 220:geo:5.9329345,52.1926836
END:VEVENT
BEGIN:VEVENT
DTSTART;TZID=Europe/Helsinki:20221102T100000
DTEND;TZID=Europe/Helsinki:20221102T160000
DTSTAMP:20260423T181027
CREATED:20220622T123420Z
LAST-MODIFIED:20220622T123420Z
UID:3896-1667383200-1667404800@studioprogramma.absolution.nl
SUMMARY:Absolution Workshop Training - woensdag 2 november
DESCRIPTION:Hoe leuk is het om een workshop te kunnen geven aan jouw klanten\nmodel: niet nodig
URL:https://studioprogramma.absolution.nl/workshops/absolution-workshop-training-woensdag-2-november/
LOCATION:Gelderland
CATEGORIES:Absolution
END:VEVENT
BEGIN:VEVENT
DTSTART;TZID=Europe/Helsinki:20221103T100000
DTEND;TZID=Europe/Helsinki:20221103T163000
DTSTAMP:20260423T181027
CREATED:20220825T103534Z
LAST-MODIFIED:20220922T145907Z
UID:4172-1667469600-1667493000@studioprogramma.absolution.nl
SUMMARY:Absolution - klanten inspiratiedag  - 3 november - invulling volgt
DESCRIPTION:Schrijf je nu alvast in\, de exacte invulling volgt.\nMaar we beloven alvast dat het een heel inspirerende dag gaat worden 🙂\nDe locatie is in onze studio in Apeldoorn
URL:https://studioprogramma.absolution.nl/workshops/absolution-inspiratiedag-3-november-invulling-volgt/
LOCATION:Absolution Studio – Apeldoorn\, Europaweg 220\, Apeldoorn\, Gelderland\, 7336 AR\, Nederland
CATEGORIES:Absolution
ATTACH;FMTTYPE=image/png:https://studioprogramma.absolution.nl/wp-content/uploads/2022/09/Schermafbeelding-2022-09-22-om-12.15.33.png
ORGANIZER;CN="Absolution":MAILTO:info@absolution.nl
GEO:52.1926836;5.9329345
X-APPLE-STRUCTURED-LOCATION;VALUE=URI;X-ADDRESS=Absolution Studio – Apeldoorn Europaweg 220 Apeldoorn Gelderland 7336 AR Nederland;X-APPLE-RADIUS=500;X-TITLE=Europaweg 220:geo:5.9329345,52.1926836
END:VEVENT
BEGIN:VEVENT
DTSTART;TZID=Europe/Helsinki:20221104T100000
DTEND;TZID=Europe/Helsinki:20221104T163000
DTSTAMP:20260423T181027
CREATED:20220922T120003Z
LAST-MODIFIED:20221012T091514Z
UID:4431-1667556000-1667579400@studioprogramma.absolution.nl
SUMMARY:Absolution - Klanten inspiratiedag - 4 november
DESCRIPTION:Een inspirerende dag waar Isabel Carron ( de oprichtster van Absolution) zelf aanwezig is naast het voltallige team van Absolution.\nEen dag boordevol inspiratie\, een heerlijke lunch\, praktische tips & ideeën\, fijne contactmomenten met elkaar in een informele setting.\nWe kijken er naar uit om jou te mogen ontvangen.
URL:https://studioprogramma.absolution.nl/workshops/absolution-klanten-inspiratiedag-4-november/
LOCATION:Absolution Studio – Apeldoorn\, Europaweg 220\, Apeldoorn\, Gelderland\, 7336 AR\, Nederland
CATEGORIES:Absolution
ATTACH;FMTTYPE=image/png:https://studioprogramma.absolution.nl/wp-content/uploads/2022/09/Schermafbeelding-2022-09-22-om-12.15.33.png
ORGANIZER;CN="Absolution":MAILTO:info@absolution.nl
GEO:52.1926836;5.9329345
X-APPLE-STRUCTURED-LOCATION;VALUE=URI;X-ADDRESS=Absolution Studio – Apeldoorn Europaweg 220 Apeldoorn Gelderland 7336 AR Nederland;X-APPLE-RADIUS=500;X-TITLE=Europaweg 220:geo:5.9329345,52.1926836
END:VEVENT
BEGIN:VEVENT
DTSTART;TZID=Europe/Helsinki:20221107T100000
DTEND;TZID=Europe/Helsinki:20221107T160000
DTSTAMP:20260423T181027
CREATED:20220622T120148Z
LAST-MODIFIED:20220622T170518Z
UID:3875-1667815200-1667836800@studioprogramma.absolution.nl
SUMMARY:Absolution Basis Theorie Training - maandag 7 november
DESCRIPTION:Voor iedereen die gaat starten met Absolution of een totale herhaling wil.\nTijdens deze training komt de filosofie van Absolution aan bod en gaan we dieper in op de producten met hun specifieke werkingen en bijzondere ingrediënten. Model: niet nodig
URL:https://studioprogramma.absolution.nl/workshops/absolution-basis-theorie-training-maandag-7-november/
LOCATION:Gelderland
CATEGORIES:Absolution
ATTACH;FMTTYPE=image/jpeg:https://studioprogramma.absolution.nl/wp-content/uploads/2022/06/studio.jpg
END:VEVENT
BEGIN:VEVENT
DTSTART;TZID=Europe/Helsinki:20221107T100000
DTEND;TZID=Europe/Helsinki:20221107T160000
DTSTAMP:20260423T181027
CREATED:20220714T084540Z
LAST-MODIFIED:20220714T084540Z
UID:4090-1667815200-1667836800@studioprogramma.absolution.nl
SUMMARY:Persona Workshop met Kristel Veltkamp van Redboots - maandag 7 november
DESCRIPTION:Personaworkshop  \nWil jij je klant haarscherp in beeld brengen via een persona voor doeltreffende communicatie? Doe mee met onze knisperfrisse personaworkshop. Je gaat zélf aan de slag met je eigen (buyer) persona. \nEen per-wattes?\nEen persona is een archetype van je (ideale) klant. Hij is fictief\, maar je maakt ‘m levensecht. Ofwel\, een verpersoonlijking van de gebruiker van jouw product of dienst. Een persona ondersteunt bij het bepalen van je contentstrategie\, het schrijven van rake teksten en het vormgeven van je campagnes. Deze methode helpt je bij het scherp krijgen van jouw eigen waardepropositie voor je klanten. Tijdens deze personaworkshop ontwikkel je een kraakheldere persona als koersbepaler om je doelgroep aan te spreken. Aan het einde van de workshop ga je naar huis met een persona die stáát als een huis. \nWaarom deelnemen aan onze personaworkshop? \n\nVerbeter je (verkoop)verhaal.\nBreng je klant haarscherp in beeld en weet hem/haar daardoor echt te raken.\nGun jezelf de tijd om hier even voor te gaan zitten.\nBouw zowel intern als extern meer slagkracht op binnen jouw organisatie.\nSpeel nog beter in op de pijn of het plezier van je klant en bedien je klant nog beter.\nVerdiep je kennis & doe inspiratie op als het gaat om klantreis & storytelling.\nJe krijgt je eigen personapaspoort\, voorzien van ingrediënten voor doeltreffende follow up.
URL:https://studioprogramma.absolution.nl/workshops/persona-workshop-met-kristel-veltkamp-van-redboots-maandag-7-november/
LOCATION:Gelderland
CATEGORIES:Absolution
ORGANIZER;CN="Absolution":MAILTO:info@absolution.nl
END:VEVENT
BEGIN:VEVENT
DTSTART;TZID=Europe/Helsinki:20221108T100000
DTEND;TZID=Europe/Helsinki:20221108T160000
DTSTAMP:20260423T181027
CREATED:20220622T120325Z
LAST-MODIFIED:20220624T092049Z
UID:3878-1667901600-1667923200@studioprogramma.absolution.nl
SUMMARY:Absolution Basis Praktijk Training - dinsdag 8 november
DESCRIPTION:Het vervolg op de training Basis Theorie en voor de schoonheidsspecialiste die in de salon de Absolution behandelingen gaat geven.\nTijdens deze training gaan we aan het werk met de producten en de massagetechniek volgens het Absolution protocol.\nDeze unieke benadering en manier van werken legt nadruk op resultaat en huidverbetering en verkoop. Model: ja
URL:https://studioprogramma.absolution.nl/workshops/absolution-basis-praktijk-training-dinsdag-8-november/
LOCATION:Gelderland
CATEGORIES:Absolution
ATTACH;FMTTYPE=image/jpeg:https://studioprogramma.absolution.nl/wp-content/uploads/2020/01/Cursus_afbeeldingen_jan2020_bodyresculpt.jpg
END:VEVENT
BEGIN:VEVENT
DTSTART;TZID=Europe/Helsinki:20221114T093000
DTEND;TZID=Europe/Helsinki:20221114T163000
DTSTAMP:20260423T181027
CREATED:20220815T100327Z
LAST-MODIFIED:20220815T100327Z
UID:4137-1668418200-1668443400@studioprogramma.absolution.nl
SUMMARY:Absolution Face Sculpting Training (Nieuw!) - maandag 14 november
DESCRIPTION:Face Sculpting  is een nieuwe exclusieve massage techniek\, waarbij wij naast de spieren van hals\, decolleté\, nek\, gezicht en hoofd ook de binnenkant van de wangen en de kauwspieren los masseren. Deze “buccal massage” is momenteel erg gewild vanwege de direct zichtbare en langdurige effectiviteit ten aanzien van huid- en contourverbetering. Deze techniek kan je bij iedereen inzetten. Een total work-out voor je gezicht. Naast dat je op huidverbetering werkt\, geeft dit ook een super anti-stress werking (vermindering spierspanning). \nBelangrijk! Voorwaarde voor deelname: Je dient de training ‘Gymnastiek voor de huid’ gevolgd te hebben.\n– Geen model nodig!\n– Let op! Training start om 9:30 uur !
URL:https://studioprogramma.absolution.nl/workshops/absolution-face-sculpting-training-nieuw-maandag-14-november/
LOCATION:Gelderland
CATEGORIES:Absolution
ATTACH;FMTTYPE=image/jpeg:https://studioprogramma.absolution.nl/wp-content/uploads/2022/06/ourstory051.jpg
END:VEVENT
BEGIN:VEVENT
DTSTART;TZID=Europe/Helsinki:20221115T100000
DTEND;TZID=Europe/Helsinki:20221115T160000
DTSTAMP:20260423T181027
CREATED:20220622T121109Z
LAST-MODIFIED:20220622T121109Z
UID:3887-1668506400-1668528000@studioprogramma.absolution.nl
SUMMARY:Absolution Glow Protocol Training - dinsdag 15 november
DESCRIPTION:Wij hebben een nieuwe praktijktraining ontwikkeld met massage technieken waarbij we gebruik maken van een beauty tool voor in de cabine de Kansa Wand. Hierbij hebben we 4 verschillende product protocollen gemaakt. Model: ja
URL:https://studioprogramma.absolution.nl/workshops/absolution-glow-protocol-training-dinsdag-15-november/
LOCATION:Gelderland
CATEGORIES:Absolution
END:VEVENT
BEGIN:VEVENT
DTSTART;TZID=Europe/Helsinki:20221117T100000
DTEND;TZID=Europe/Helsinki:20221117T160000
DTSTAMP:20260423T181027
CREATED:20220622T121312Z
LAST-MODIFIED:20220624T092905Z
UID:3890-1668679200-1668700800@studioprogramma.absolution.nl
SUMMARY:Absolution Gymnastiek voor de huid Training - donderdag 17 november
DESCRIPTION:Voor iedereen die de basistraining reeds gevolgd heeft en behoefte heeft aan een behandeling die meer gericht is op veroudering en verslapping van de huid. Model: nee
URL:https://studioprogramma.absolution.nl/workshops/absolution-gymnastiek-voor-de-huid-training-donderdag-17-november/
LOCATION:Gelderland
CATEGORIES:Absolution
ATTACH;FMTTYPE=image/jpeg:https://studioprogramma.absolution.nl/wp-content/uploads/2022/06/ourstory051.jpg
END:VEVENT
BEGIN:VEVENT
DTSTART;TZID=Europe/Helsinki:20221121T100000
DTEND;TZID=Europe/Helsinki:20221121T160000
DTSTAMP:20260423T181027
CREATED:20220622T120514Z
LAST-MODIFIED:20220622T120514Z
UID:3881-1669024800-1669046400@studioprogramma.absolution.nl
SUMMARY:Absolution Verkoop Training - maandag 21 november
DESCRIPTION:In deze training leert u over uw eigen grenzen te stappen om tegemoet te komen aan de behoeftes van de klant. U leert het beste uit uzelf te halen. Zonder uit te gaan van aannames.
URL:https://studioprogramma.absolution.nl/workshops/absolution-verkoop-training-maandag-21-november/
LOCATION:Gelderland
CATEGORIES:Absolution
END:VEVENT
BEGIN:VEVENT
DTSTART;TZID=Europe/Helsinki:20221122T100000
DTEND;TZID=Europe/Helsinki:20221122T160000
DTSTAMP:20260423T181027
CREATED:20220622T120816Z
LAST-MODIFIED:20220622T120816Z
UID:3884-1669111200-1669132800@studioprogramma.absolution.nl
SUMMARY:Absolution Refresh Praktijk Training - dinsdag 22 november
DESCRIPTION:Deze training is geschikt voor iedereen die de basis theorie- en de basis praktijktraining heeft gevolgd en op de hoogte wil blijven van de nieuwste ontwikkelingen van Absolution. Tijdens deze training komen alle nieuwe producten aan bod en wordt er in de praktijk gewerkt. Model: ja
URL:https://studioprogramma.absolution.nl/workshops/absolution-refresh-praktijk-training-dinsdag-22-november/
LOCATION:Gelderland
CATEGORIES:Absolution
END:VEVENT
BEGIN:VEVENT
DTSTART;TZID=Europe/Helsinki:20221123T100000
DTEND;TZID=Europe/Helsinki:20221123T160000
DTSTAMP:20260423T181027
CREATED:20220622T124835Z
LAST-MODIFIED:20220622T124835Z
UID:3905-1669197600-1669219200@studioprogramma.absolution.nl
SUMMARY:Absolution - Body Re-Start Training - woensdag 23 november
DESCRIPTION:Een kickstart voor je body waar bij we werken op energie banen en op de afvoer via de lymfe. Model: ja
URL:https://studioprogramma.absolution.nl/workshops/absolution-body-re-start-training-woensdag-23-november/
LOCATION:Gelderland
CATEGORIES:Absolution
END:VEVENT
BEGIN:VEVENT
DTSTART;TZID=Europe/Helsinki:20221124T100000
DTEND;TZID=Europe/Helsinki:20221124T160000
DTSTAMP:20260423T181027
CREATED:20220622T124542Z
LAST-MODIFIED:20220622T124542Z
UID:3902-1669284000-1669305600@studioprogramma.absolution.nl
SUMMARY:Absolution - Body Re-sculpt Training - donderdag 24 november
DESCRIPTION:Wij werken met een droge borstel techniek\, cupping en het body scrub protocol. Model: nee
URL:https://studioprogramma.absolution.nl/workshops/absolution-body-re-sculpt-training-donderdag-24-november/
LOCATION:Gelderland
CATEGORIES:Absolution
END:VEVENT
BEGIN:VEVENT
DTSTART;TZID=Europe/Helsinki:20221129T100000
DTEND;TZID=Europe/Helsinki:20221129T160000
DTSTAMP:20260423T181027
CREATED:20220622T125932Z
LAST-MODIFIED:20220622T125932Z
UID:3923-1669716000-1669737600@studioprogramma.absolution.nl
SUMMARY:Absolution La Cure Peau Nette & Calme Training - Dinsdag 29 november
DESCRIPTION:In deze training leert u nieuwe behandeltechnieken die specifiek zijn afgestemd op La Cure Peau Nette en La Cure Peau Calme. Model: nee 
URL:https://studioprogramma.absolution.nl/workshops/absolution-la-cure-peau-nette-calme-training-dinsdag-29-november/
LOCATION:Gelderland
CATEGORIES:Absolution
END:VEVENT
END:VCALENDAR