BEGIN:VCALENDAR
VERSION:2.0
PRODID:-//Studioprogramma Absolution - ECPv6.2.5//NONSGML v1.0//EN
CALSCALE:GREGORIAN
METHOD:PUBLISH
X-ORIGINAL-URL:https://studioprogramma.absolution.nl
X-WR-CALDESC:Evenementen voor Studioprogramma Absolution
REFRESH-INTERVAL;VALUE=DURATION:PT1H
X-Robots-Tag:noindex
X-PUBLISHED-TTL:PT1H
BEGIN:VTIMEZONE
TZID:Europe/Helsinki
BEGIN:DAYLIGHT
TZOFFSETFROM:+0200
TZOFFSETTO:+0300
TZNAME:EEST
DTSTART:20220327T010000
END:DAYLIGHT
BEGIN:STANDARD
TZOFFSETFROM:+0300
TZOFFSETTO:+0200
TZNAME:EET
DTSTART:20221030T010000
END:STANDARD
END:VTIMEZONE
BEGIN:VEVENT
DTSTART;TZID=Europe/Helsinki:20221201T100000
DTEND;TZID=Europe/Helsinki:20221201T160000
DTSTAMP:20260423T164340
CREATED:20220622T130148Z
LAST-MODIFIED:20220622T130148Z
UID:3926-1669888800-1669910400@studioprogramma.absolution.nl
SUMMARY:Absolution Ingredienten Training - donderdag 1 december
DESCRIPTION:Voor iedereen die meer wil weten over ingrediënten. Tijdens deze training krijgt u uitleg over ingrediënten en wordt er ingegaan op wat ze doen voor de huid. Dan wordt ook duidelijk welke ingrediënten u juist niet in een product wilt hebben én waarom.
URL:https://studioprogramma.absolution.nl/workshops/absolution-ingredienten-training-donderdag-1-december/
LOCATION:Gelderland
CATEGORIES:Absolution
END:VEVENT
BEGIN:VEVENT
DTSTART;TZID=Europe/Helsinki:20221206T100000
DTEND;TZID=Europe/Helsinki:20221206T160000
DTSTAMP:20260423T164340
CREATED:20220622T125040Z
LAST-MODIFIED:20220622T170436Z
UID:3908-1670320800-1670342400@studioprogramma.absolution.nl
SUMMARY:Absolution Basis Theorie Training - dinsdag 6 december
DESCRIPTION:Voor iedereen die gaat starten met Absolution of een totale herhaling wil.\nTijdens deze training komt de filosofie van Absolution aan bod en gaan we dieper in op de producten met hun specifieke werkingen en bijzondere ingrediënten. Model: niet nodig
URL:https://studioprogramma.absolution.nl/workshops/absolution-basis-theorie-training-dinsdag-6-december/
LOCATION:Gelderland
CATEGORIES:Absolution
ATTACH;FMTTYPE=image/jpeg:https://studioprogramma.absolution.nl/wp-content/uploads/2022/06/studio.jpg
END:VEVENT
BEGIN:VEVENT
DTSTART;TZID=Europe/Helsinki:20221206T100000
DTEND;TZID=Europe/Helsinki:20221206T160000
DTSTAMP:20260423T164340
CREATED:20220622T125552Z
LAST-MODIFIED:20220622T125552Z
UID:3917-1670320800-1670342400@studioprogramma.absolution.nl
SUMMARY:Absolution Glow Protocol Training - dinsdag 6 december
DESCRIPTION:Wij hebben een nieuwe praktijktraining ontwikkeld met massage technieken waarbij we gebruik maken van een beauty tool voor in de cabine de Kansa Wand. Hierbij hebben we 4 verschillende product protocollen gemaakt. Model: ja
URL:https://studioprogramma.absolution.nl/workshops/absolution-glow-protocol-training-dinsdag-6-december/
LOCATION:Gelderland
CATEGORIES:Absolution
END:VEVENT
BEGIN:VEVENT
DTSTART;TZID=Europe/Helsinki:20221207T100000
DTEND;TZID=Europe/Helsinki:20221207T160000
DTSTAMP:20260423T164340
CREATED:20220622T125245Z
LAST-MODIFIED:20220624T092005Z
UID:3911-1670407200-1670428800@studioprogramma.absolution.nl
SUMMARY:Absolution Basis Praktijk Training - woensdag 7 december
DESCRIPTION:Het vervolg op de training Basis Theorie en voor de schoonheidsspecialiste die in de salon de Absolution behandelingen gaat geven.\nTijdens deze training gaan we aan het werk met de producten en de massagetechniek volgens het Absolution protocol.\nDeze unieke benadering en manier van werken legt nadruk op resultaat en huidverbetering en verkoop. Model: ja
URL:https://studioprogramma.absolution.nl/workshops/absolution-basis-praktijk-training-woensdag-7-december/
LOCATION:Gelderland
CATEGORIES:Absolution
ATTACH;FMTTYPE=image/jpeg:https://studioprogramma.absolution.nl/wp-content/uploads/2020/01/Cursus_afbeeldingen_jan2020_bodyresculpt.jpg
END:VEVENT
BEGIN:VEVENT
DTSTART;TZID=Europe/Helsinki:20221208T100000
DTEND;TZID=Europe/Helsinki:20221208T160000
DTSTAMP:20260423T164340
CREATED:20220622T125741Z
LAST-MODIFIED:20220815T102848Z
UID:3920-1670493600-1670515200@studioprogramma.absolution.nl
SUMMARY:Absolution Gymnastiek voor de huid Training - donderdag 8 december
DESCRIPTION:Voor iedereen die de basistraining reeds gevolgd heeft en behoefte heeft aan een behandeling die meer gericht is op veroudering en verslapping van de huid. Model: nee
URL:https://studioprogramma.absolution.nl/workshops/absolution-gymnastiek-voor-de-huid-training-donderdag-8-december/
LOCATION:Gelderland
CATEGORIES:Absolution
ATTACH;FMTTYPE=image/jpeg:https://studioprogramma.absolution.nl/wp-content/uploads/2022/06/ourstory051.jpg
END:VEVENT
END:VCALENDAR