BEGIN:VCALENDAR
VERSION:2.0
PRODID:-//Studioprogramma Absolution - ECPv6.2.5//NONSGML v1.0//EN
CALSCALE:GREGORIAN
METHOD:PUBLISH
X-WR-CALNAME:Studioprogramma Absolution
X-ORIGINAL-URL:https://studioprogramma.absolution.nl
X-WR-CALDESC:Evenementen voor Studioprogramma Absolution
REFRESH-INTERVAL;VALUE=DURATION:PT1H
X-Robots-Tag:noindex
X-PUBLISHED-TTL:PT1H
BEGIN:VTIMEZONE
TZID:Europe/Helsinki
BEGIN:DAYLIGHT
TZOFFSETFROM:+0200
TZOFFSETTO:+0300
TZNAME:EEST
DTSTART:20230326T010000
END:DAYLIGHT
BEGIN:STANDARD
TZOFFSETFROM:+0300
TZOFFSETTO:+0200
TZNAME:EET
DTSTART:20231029T010000
END:STANDARD
END:VTIMEZONE
BEGIN:VEVENT
DTSTART;TZID=Europe/Helsinki:20230109T100000
DTEND;TZID=Europe/Helsinki:20230109T160000
DTSTAMP:20260423T151641
CREATED:20221111T103643Z
LAST-MODIFIED:20221222T122710Z
UID:4615-1673258400-1673280000@studioprogramma.absolution.nl
SUMMARY:Basis Theorie Training- maandag 9 januari - voor startende salons!
DESCRIPTION:Basis Theorie Training: Voor Startende salons!\nBelangrijk! : Deze training is uitsluitend voor Startende Absolution Salons! \nMocht je deze training reeds hebben gevolgd\, dan adviseren we jou de Refresh (theorie) training. Heb je vragen of andere wensen\, dan kan je gerust contact opnemen met jouw accountmanager.   \nVoor iedereen die gaat starten met Absolution. Tijdens deze training komt de filosofie van Absolution aan bod en gaan we dieper in op de producten met hun specifieke werkingen.
URL:https://studioprogramma.absolution.nl/workshops/basis-theorie-training-maandag-9-januari/
LOCATION:Absolution Studio – Apeldoorn\, Europaweg 220\, Apeldoorn\, Gelderland\, 7336 AR\, Nederland
CATEGORIES:Absolution
ATTACH;FMTTYPE=image/jpeg:https://studioprogramma.absolution.nl/wp-content/uploads/2022/06/studio.jpg
ORGANIZER;CN="Absolution":MAILTO:info@absolution.nl
GEO:52.1926836;5.9329345
X-APPLE-STRUCTURED-LOCATION;VALUE=URI;X-ADDRESS=Absolution Studio – Apeldoorn Europaweg 220 Apeldoorn Gelderland 7336 AR Nederland;X-APPLE-RADIUS=500;X-TITLE=Europaweg 220:geo:5.9329345,52.1926836
END:VEVENT
BEGIN:VEVENT
DTSTART;TZID=Europe/Helsinki:20230110T100000
DTEND;TZID=Europe/Helsinki:20230110T160000
DTSTAMP:20260423T151641
CREATED:20221111T105649Z
LAST-MODIFIED:20221222T123516Z
UID:4647-1673344800-1673366400@studioprogramma.absolution.nl
SUMMARY:Basis Praktijk Training - dinsdag 10 januari - uitsluitend voor startende salons!
DESCRIPTION:Belangrijk! : Deze training is uitsluitend voor Startende Absolution Salons! \nMocht je deze training reeds hebben gevolgd\, dan adviseren we jou de Refresh (praktijk) training. Heb je vragen of andere wensen\, dan kan je gerust contact opnemen met jouw accountmanager.   \nHet vervolg op de training Basis Theorie en voor de schoonheidsspecialiste die in de salon de Absolution behandelingen gaat geven. Tijdens deze training gaan we aan het werk met de producten en de massagetechniek volgens het Absolution protocol. Deze unieke benadering en manier van werken legt nadruk op resultaat en huidverbetering en verkoop.    Model: ja
URL:https://studioprogramma.absolution.nl/workshops/basis-praktijk-training-dinsdag-10-januari/
LOCATION:Absolution Studio – Apeldoorn\, Europaweg 220\, Apeldoorn\, Gelderland\, 7336 AR\, Nederland
CATEGORIES:Absolution
ATTACH;FMTTYPE=image/jpeg:https://studioprogramma.absolution.nl/wp-content/uploads/2022/06/studio.jpg
ORGANIZER;CN="Absolution":MAILTO:info@absolution.nl
GEO:52.1926836;5.9329345
X-APPLE-STRUCTURED-LOCATION;VALUE=URI;X-ADDRESS=Absolution Studio – Apeldoorn Europaweg 220 Apeldoorn Gelderland 7336 AR Nederland;X-APPLE-RADIUS=500;X-TITLE=Europaweg 220:geo:5.9329345,52.1926836
END:VEVENT
BEGIN:VEVENT
DTSTART;TZID=Europe/Helsinki:20230116T100000
DTEND;TZID=Europe/Helsinki:20230116T160000
DTSTAMP:20260423T151641
CREATED:20221111T113442Z
LAST-MODIFIED:20221111T113442Z
UID:4707-1673863200-1673884800@studioprogramma.absolution.nl
SUMMARY:Face Sculpting - maandag 16 januari
DESCRIPTION:Face Sculpting: \nEen total work-out voor je gezicht! \nEen nieuwe exclusieve massage techniek\, waarbij wij naast de spieren van hals\, decolleté\, nek\, gezicht en hoofd ook de binnenkant van de wangen en de kauwspieren los masseren. Deze “buccal massage” is momenteel erg gewild vanwege de direct zichtbare en langdurige effectiviteit ten aanzien van huid- en contourverbetering. Deze techniek kan je bij iedereen inzetten.. Naast dat je op huidverbetering werkt\, geeft dit ook een super anti-stress werking (vermindering spierspanning). \nBelangrijk! Voorwaarde voor deelname: Je dient de training ‘Gymnastiek voor de huid’ gevolgd te hebben.  \nModel: nee
URL:https://studioprogramma.absolution.nl/workshops/face-sculpting-maandag-16-januari/
LOCATION:Absolution Studio – Apeldoorn\, Europaweg 220\, Apeldoorn\, Gelderland\, 7336 AR\, Nederland
CATEGORIES:Absolution
ATTACH;FMTTYPE=image/jpeg:https://studioprogramma.absolution.nl/wp-content/uploads/2022/06/ourstory051.jpg
ORGANIZER;CN="Absolution":MAILTO:info@absolution.nl
GEO:52.1926836;5.9329345
X-APPLE-STRUCTURED-LOCATION;VALUE=URI;X-ADDRESS=Absolution Studio – Apeldoorn Europaweg 220 Apeldoorn Gelderland 7336 AR Nederland;X-APPLE-RADIUS=500;X-TITLE=Europaweg 220:geo:5.9329345,52.1926836
END:VEVENT
BEGIN:VEVENT
DTSTART;TZID=Europe/Helsinki:20230117T100000
DTEND;TZID=Europe/Helsinki:20230117T160000
DTSTAMP:20260423T151641
CREATED:20221111T112045Z
LAST-MODIFIED:20221111T112554Z
UID:4683-1673949600-1673971200@studioprogramma.absolution.nl
SUMMARY:Upsell Training - dinsdag 17 januari
DESCRIPTION:Upsell Training:  \nHoe kan ik meer omzet uit mijn bestaande klantenbestand halen? Deze dag bestaat uit een stuk theorie en we gaan werken in de praktijk. Wij leren je 2 mooie oogcontourbehandelingen passend bij Le Soin Regard en La Crème Réparatrice Regard en we schenken extra aandacht aan handen en decolleté.\nModel: nee
URL:https://studioprogramma.absolution.nl/workshops/upsell-training-dinsdag-17-januari/
LOCATION:Absolution Studio – Apeldoorn\, Europaweg 220\, Apeldoorn\, Gelderland\, 7336 AR\, Nederland
CATEGORIES:Absolution
ATTACH;FMTTYPE=image/jpeg:https://studioprogramma.absolution.nl/wp-content/uploads/2022/06/Cursus_afbeeldingen_refreshtraining.jpg
ORGANIZER;CN="Absolution":MAILTO:info@absolution.nl
GEO:52.1926836;5.9329345
X-APPLE-STRUCTURED-LOCATION;VALUE=URI;X-ADDRESS=Absolution Studio – Apeldoorn Europaweg 220 Apeldoorn Gelderland 7336 AR Nederland;X-APPLE-RADIUS=500;X-TITLE=Europaweg 220:geo:5.9329345,52.1926836
END:VEVENT
BEGIN:VEVENT
DTSTART;TZID=Europe/Helsinki:20230118T100000
DTEND;TZID=Europe/Helsinki:20230118T160000
DTSTAMP:20260423T151641
CREATED:20221111T122919Z
LAST-MODIFIED:20221111T122919Z
UID:4787-1674036000-1674057600@studioprogramma.absolution.nl
SUMMARY:Body Re-Sculpt - woensdag 18 januari
DESCRIPTION:Body Re-Sculpt \nHet Detox Body programma van Absolution! Door middel van lymfe activatie\, een intensief reinigende bodyscrub en cupping technieken\, creëren we een direct resultaat op het gebied van algehele doorbloeding en de afvoer van afvalstoffen en zo een vermindering van cellulite.     Model: Nee
URL:https://studioprogramma.absolution.nl/workshops/body-re-sculpt-woensdag-18-januari/
LOCATION:Absolution Studio – Apeldoorn\, Europaweg 220\, Apeldoorn\, Gelderland\, 7336 AR\, Nederland
CATEGORIES:Absolution
ATTACH;FMTTYPE=image/jpeg:https://studioprogramma.absolution.nl/wp-content/uploads/2020/01/Cursus_afbeeldingen_jan2020_bodyresculpt.jpg
ORGANIZER;CN="Absolution":MAILTO:info@absolution.nl
GEO:52.1926836;5.9329345
X-APPLE-STRUCTURED-LOCATION;VALUE=URI;X-ADDRESS=Absolution Studio – Apeldoorn Europaweg 220 Apeldoorn Gelderland 7336 AR Nederland;X-APPLE-RADIUS=500;X-TITLE=Europaweg 220:geo:5.9329345,52.1926836
END:VEVENT
BEGIN:VEVENT
DTSTART;TZID=Europe/Helsinki:20230124T100000
DTEND;TZID=Europe/Helsinki:20230124T160000
DTSTAMP:20260423T151641
CREATED:20221111T104149Z
LAST-MODIFIED:20221222T122820Z
UID:4626-1674554400-1674576000@studioprogramma.absolution.nl
SUMMARY:Basis Theorie Training - dinsdag 24 januari - voor startende salons!
DESCRIPTION:Basis Theorie Training: Voor Startende salons!\nBelangrijk! : Deze training is uitsluitend voor Startende Absolution Salons! \nMocht je deze training reeds hebben gevolgd\, dan adviseren we jou de Refresh (theorie) training. Heb je vragen of andere wensen\, dan kan je gerust contact opnemen met jouw accountmanager.   \nVoor iedereen die gaat starten met Absolution. Tijdens deze training komt de filosofie van Absolution aan bod en gaan we dieper in op de producten met hun specifieke werkingen.
URL:https://studioprogramma.absolution.nl/workshops/basis-theorie-training-dinsdag-24-januari/
LOCATION:Absolution Studio – Apeldoorn\, Europaweg 220\, Apeldoorn\, Gelderland\, 7336 AR\, Nederland
CATEGORIES:Absolution
ATTACH;FMTTYPE=image/jpeg:https://studioprogramma.absolution.nl/wp-content/uploads/2022/06/studio.jpg
ORGANIZER;CN="Absolution":MAILTO:info@absolution.nl
GEO:52.1926836;5.9329345
X-APPLE-STRUCTURED-LOCATION;VALUE=URI;X-ADDRESS=Absolution Studio – Apeldoorn Europaweg 220 Apeldoorn Gelderland 7336 AR Nederland;X-APPLE-RADIUS=500;X-TITLE=Europaweg 220:geo:5.9329345,52.1926836
END:VEVENT
BEGIN:VEVENT
DTSTART;TZID=Europe/Helsinki:20230124T100000
DTEND;TZID=Europe/Helsinki:20230124T160000
DTSTAMP:20260423T151641
CREATED:20221111T114837Z
LAST-MODIFIED:20221111T114837Z
UID:4723-1674554400-1674576000@studioprogramma.absolution.nl
SUMMARY:Kansa Wand Glow Training - dinsdag 24 januari
DESCRIPTION:Kansa Wand Glow Training:  \nJe leert een nieuwe massage techniek waarbij we gebruik maken van een beauty tool voor in de cabine: de Kansa Wand. Deze massage helpt bij het verwijderen van opgebouwde afvalstoffen in het weefsel door ze los te maken en af te voeren. Ook werken we op het ontspannen van de spieren in het gezicht\, hals en decolleté. Deze prachtige massage\, mede door het stimuleren van de doorbloeding\, brengt verse zuurstof naar de huid – en dát geeft die prachtige natuurlijke glow die we zo graag willen!  Model: ja
URL:https://studioprogramma.absolution.nl/workshops/kansa-wand-glow-training-dinsdag-24-januari/
LOCATION:Absolution Studio – Apeldoorn\, Europaweg 220\, Apeldoorn\, Gelderland\, 7336 AR\, Nederland
CATEGORIES:Absolution
ATTACH;FMTTYPE=image/jpeg:https://studioprogramma.absolution.nl/wp-content/uploads/2018/07/Cursus_afbeeldingen_bodymassage.jpg
ORGANIZER;CN="Absolution":MAILTO:info@absolution.nl
GEO:52.1926836;5.9329345
X-APPLE-STRUCTURED-LOCATION;VALUE=URI;X-ADDRESS=Absolution Studio – Apeldoorn Europaweg 220 Apeldoorn Gelderland 7336 AR Nederland;X-APPLE-RADIUS=500;X-TITLE=Europaweg 220:geo:5.9329345,52.1926836
END:VEVENT
BEGIN:VEVENT
DTSTART;TZID=Europe/Helsinki:20230125T100000
DTEND;TZID=Europe/Helsinki:20230125T160000
DTSTAMP:20260423T151641
CREATED:20221111T105816Z
LAST-MODIFIED:20221222T123620Z
UID:4650-1674640800-1674662400@studioprogramma.absolution.nl
SUMMARY:Basis Praktijktraining - woensdag 25 januari - uitsluitend voor startende salons!
DESCRIPTION:Belangrijk! : Deze training is uitsluitend voor Startende Absolution Salons! \nMocht je deze training reeds hebben gevolgd\, dan adviseren we jou de Refresh (praktijk) training. Heb je vragen of andere wensen\, dan kan je gerust contact opnemen met jouw accountmanager.   \nHet vervolg op de training Basis Theorie en voor de schoonheidsspecialiste die in de salon de Absolution behandelingen gaat geven. Tijdens deze training gaan we aan het werk met de producten en de massagetechniek volgens het Absolution protocol. Deze unieke benadering en manier van werken legt nadruk op resultaat en huidverbetering en verkoop.    Model: ja
URL:https://studioprogramma.absolution.nl/workshops/basis-praktijktraining-woensdag-25-januari/
LOCATION:Absolution Studio – Apeldoorn\, Europaweg 220\, Apeldoorn\, Gelderland\, 7336 AR\, Nederland
CATEGORIES:Absolution
ORGANIZER;CN="Absolution":MAILTO:info@absolution.nl
GEO:52.1926836;5.9329345
X-APPLE-STRUCTURED-LOCATION;VALUE=URI;X-ADDRESS=Absolution Studio – Apeldoorn Europaweg 220 Apeldoorn Gelderland 7336 AR Nederland;X-APPLE-RADIUS=500;X-TITLE=Europaweg 220:geo:5.9329345,52.1926836
END:VEVENT
BEGIN:VEVENT
DTSTART;TZID=Europe/Helsinki:20230126T100000
DTEND;TZID=Europe/Helsinki:20230126T160000
DTSTAMP:20260423T151641
CREATED:20221111T111411Z
LAST-MODIFIED:20221111T111411Z
UID:4671-1674727200-1674748800@studioprogramma.absolution.nl
SUMMARY:Verkooptraining - donderdag 26 januari
DESCRIPTION:Verkoop training: \nIn deze training leer je over je eigen grenzen te stappen om tegemoet te komen aan de behoeftes van de klant. Je leert het beste uit jezelf te halen\, zonder uit te gaan van aannames.
URL:https://studioprogramma.absolution.nl/workshops/verkooptraining-donderdag-26-januari/
LOCATION:Absolution Studio – Apeldoorn\, Europaweg 220\, Apeldoorn\, Gelderland\, 7336 AR\, Nederland
CATEGORIES:Absolution
ATTACH;FMTTYPE=image/jpeg:https://studioprogramma.absolution.nl/wp-content/uploads/2022/06/studio.jpg
GEO:52.1926836;5.9329345
X-APPLE-STRUCTURED-LOCATION;VALUE=URI;X-ADDRESS=Absolution Studio – Apeldoorn Europaweg 220 Apeldoorn Gelderland 7336 AR Nederland;X-APPLE-RADIUS=500;X-TITLE=Europaweg 220:geo:5.9329345,52.1926836
END:VEVENT
BEGIN:VEVENT
DTSTART;TZID=Europe/Helsinki:20230131T100000
DTEND;TZID=Europe/Helsinki:20230131T160000
DTSTAMP:20260423T151641
CREATED:20221111T120611Z
LAST-MODIFIED:20221111T120611Z
UID:4747-1675159200-1675180800@studioprogramma.absolution.nl
SUMMARY:Massage Peau Calme et Nette - dinsdag 31 januari
DESCRIPTION:Massage Peau Calme et Nette: \nIn deze training leer je 2 nieuwe massages: intensieve\, afvoerende massagetechnieken die specifiek zijn afgestemd op La Cure Peau Nette en het detoxen van de huid en zachte\, afvoerende massagetechnieken om de kwetsbare huid te kalmeren en te herstellen.\nModel: nee
URL:https://studioprogramma.absolution.nl/workshops/massage-peau-calme-et-nette-dinsdag-31-januari/
LOCATION:Absolution Studio – Apeldoorn\, Europaweg 220\, Apeldoorn\, Gelderland\, 7336 AR\, Nederland
CATEGORIES:Absolution
ATTACH;FMTTYPE=image/jpeg:https://studioprogramma.absolution.nl/wp-content/uploads/2020/01/Cursus_afbeeldingen_jan2020_Bodyrestart.jpg
ORGANIZER;CN="Absolution":MAILTO:info@absolution.nl
GEO:52.1926836;5.9329345
X-APPLE-STRUCTURED-LOCATION;VALUE=URI;X-ADDRESS=Absolution Studio – Apeldoorn Europaweg 220 Apeldoorn Gelderland 7336 AR Nederland;X-APPLE-RADIUS=500;X-TITLE=Europaweg 220:geo:5.9329345,52.1926836
END:VEVENT
END:VCALENDAR