BEGIN:VCALENDAR
VERSION:2.0
PRODID:-//Studioprogramma Absolution - ECPv6.2.5//NONSGML v1.0//EN
CALSCALE:GREGORIAN
METHOD:PUBLISH
X-ORIGINAL-URL:https://studioprogramma.absolution.nl
X-WR-CALDESC:Evenementen voor Studioprogramma Absolution
REFRESH-INTERVAL;VALUE=DURATION:PT1H
X-Robots-Tag:noindex
X-PUBLISHED-TTL:PT1H
BEGIN:VTIMEZONE
TZID:Europe/Helsinki
BEGIN:DAYLIGHT
TZOFFSETFROM:+0200
TZOFFSETTO:+0300
TZNAME:EEST
DTSTART:20230326T010000
END:DAYLIGHT
BEGIN:STANDARD
TZOFFSETFROM:+0300
TZOFFSETTO:+0200
TZNAME:EET
DTSTART:20231029T010000
END:STANDARD
END:VTIMEZONE
BEGIN:VEVENT
DTSTART;TZID=Europe/Helsinki:20230202T100000
DTEND;TZID=Europe/Helsinki:20230202T160000
DTSTAMP:20260423T134823
CREATED:20221111T122619Z
LAST-MODIFIED:20221111T122619Z
UID:4781-1675332000-1675353600@studioprogramma.absolution.nl
SUMMARY:Basis Theorie "Refresh" Training - donderdag 2 februari
DESCRIPTION:Basis Theorie “Refresh” Training: \nVoor iedereen die een totale herhaling wil. \nTijdens deze training worden alle nieuwe producten behandeld en gaan we dieper in op de producten met hun specifieke werkingen en de Absolution filosofie.
URL:https://studioprogramma.absolution.nl/workshops/basis-theorie-refresh-training-donderdag-2-februari/
LOCATION:Absolution Studio – Apeldoorn\, Europaweg 220\, Apeldoorn\, Gelderland\, 7336 AR\, Nederland
CATEGORIES:Absolution
ATTACH;FMTTYPE=image/jpeg:https://studioprogramma.absolution.nl/wp-content/uploads/2022/06/studio.jpg
ORGANIZER;CN="Absolution":MAILTO:info@absolution.nl
GEO:52.1926836;5.9329345
X-APPLE-STRUCTURED-LOCATION;VALUE=URI;X-ADDRESS=Absolution Studio – Apeldoorn Europaweg 220 Apeldoorn Gelderland 7336 AR Nederland;X-APPLE-RADIUS=500;X-TITLE=Europaweg 220:geo:5.9329345,52.1926836
END:VEVENT
BEGIN:VEVENT
DTSTART;TZID=Europe/Helsinki:20230203T100000
DTEND;TZID=Europe/Helsinki:20230203T160000
DTSTAMP:20260423T134823
CREATED:20221111T122313Z
LAST-MODIFIED:20221111T122313Z
UID:4775-1675418400-1675440000@studioprogramma.absolution.nl
SUMMARY:Basis "Refresh" Praktijk Training - vrijdag 3 februari
DESCRIPTION:Basis “Refresh” Praktijk Training: \nDeze training is geschikt voor iedereen die de basis praktijktraining heeft gevolgd en op de hoogte wil blijven van de nieuwste ontwikkelingen van Absolution. Tijdens deze training komen alle nieuwe producten aan bod en wordt er in de praktijk gewerkt volgens de Absolution filosofie.\nModel: ja \n 
URL:https://studioprogramma.absolution.nl/workshops/basis-refresh-praktijk-training-vrijdag-3-februari/
LOCATION:Absolution Studio – Apeldoorn\, Europaweg 220\, Apeldoorn\, Gelderland\, 7336 AR\, Nederland
CATEGORIES:Absolution
ATTACH;FMTTYPE=image/jpeg:https://studioprogramma.absolution.nl/wp-content/uploads/2022/06/studio.jpg
ORGANIZER;CN="Absolution":MAILTO:info@absolution.nl
GEO:52.1926836;5.9329345
X-APPLE-STRUCTURED-LOCATION;VALUE=URI;X-ADDRESS=Absolution Studio – Apeldoorn Europaweg 220 Apeldoorn Gelderland 7336 AR Nederland;X-APPLE-RADIUS=500;X-TITLE=Europaweg 220:geo:5.9329345,52.1926836
END:VEVENT
BEGIN:VEVENT
DTSTART;TZID=Europe/Helsinki:20230206T100000
DTEND;TZID=Europe/Helsinki:20230206T160000
DTSTAMP:20260423T134823
CREATED:20221111T112815Z
LAST-MODIFIED:20221111T112815Z
UID:4695-1675677600-1675699200@studioprogramma.absolution.nl
SUMMARY:Gymnastiek voor de huid - maandag 6 februari
DESCRIPTION:Gymnastiek voor je huid: \nEen unieke huid verbeterende\, ontspannende massage techniek gericht op het trainen van de gezichtsspieren\, waarbij de focus ligt op het verstrakken en verstevigen van de huid en het verminderen van spierspanningen.\nModel: nee
URL:https://studioprogramma.absolution.nl/workshops/gymnastiek-voor-de-huid-maandag-6-februari/
LOCATION:Absolution Studio – Apeldoorn\, Europaweg 220\, Apeldoorn\, Gelderland\, 7336 AR\, Nederland
CATEGORIES:Absolution
ATTACH;FMTTYPE=image/jpeg:https://studioprogramma.absolution.nl/wp-content/uploads/2022/06/ourstory051.jpg
ORGANIZER;CN="Absolution":MAILTO:info@absolution.nl
GEO:52.1926836;5.9329345
X-APPLE-STRUCTURED-LOCATION;VALUE=URI;X-ADDRESS=Absolution Studio – Apeldoorn Europaweg 220 Apeldoorn Gelderland 7336 AR Nederland;X-APPLE-RADIUS=500;X-TITLE=Europaweg 220:geo:5.9329345,52.1926836
END:VEVENT
BEGIN:VEVENT
DTSTART;TZID=Europe/Helsinki:20230207T100000
DTEND;TZID=Europe/Helsinki:20230207T160000
DTSTAMP:20260423T134823
CREATED:20221111T113557Z
LAST-MODIFIED:20221111T113557Z
UID:4710-1675764000-1675785600@studioprogramma.absolution.nl
SUMMARY:Face Sculpting - dinsdag 7 februari
DESCRIPTION:Face Sculpting: \nEen total work-out voor je gezicht! \nEen nieuwe exclusieve massage techniek\, waarbij wij naast de spieren van hals\, decolleté\, nek\, gezicht en hoofd ook de binnenkant van de wangen en de kauwspieren los masseren. Deze “buccal massage” is momenteel erg gewild vanwege de direct zichtbare en langdurige effectiviteit ten aanzien van huid- en contourverbetering. Deze techniek kan je bij iedereen inzetten.. Naast dat je op huidverbetering werkt\, geeft dit ook een super anti-stress werking (vermindering spierspanning). \nBelangrijk! Voorwaarde voor deelname: Je dient de training ‘Gymnastiek voor de huid’ gevolgd te hebben.  \nModel: nee
URL:https://studioprogramma.absolution.nl/workshops/face-sculpting-dinsdag-7-februari/
LOCATION:Absolution Studio – Apeldoorn\, Europaweg 220\, Apeldoorn\, Gelderland\, 7336 AR\, Nederland
CATEGORIES:Absolution
ATTACH;FMTTYPE=image/jpeg:https://studioprogramma.absolution.nl/wp-content/uploads/2022/06/ourstory051.jpg
ORGANIZER;CN="Absolution":MAILTO:info@absolution.nl
GEO:52.1926836;5.9329345
X-APPLE-STRUCTURED-LOCATION;VALUE=URI;X-ADDRESS=Absolution Studio – Apeldoorn Europaweg 220 Apeldoorn Gelderland 7336 AR Nederland;X-APPLE-RADIUS=500;X-TITLE=Europaweg 220:geo:5.9329345,52.1926836
END:VEVENT
BEGIN:VEVENT
DTSTART;TZID=Europe/Helsinki:20230208T100000
DTEND;TZID=Europe/Helsinki:20230208T160000
DTSTAMP:20260423T134823
CREATED:20230103T123759Z
LAST-MODIFIED:20230103T123847Z
UID:5122-1675850400-1675872000@studioprogramma.absolution.nl
SUMMARY:Basis Theorie Training: Voor Startende salons! - 8 februari
DESCRIPTION:Basis Theorie Training: Voor Startende salons!\nBelangrijk! : Deze training is uitsluitend voor Startende Absolution Salons! \nMocht je deze training reeds hebben gevolgd\, dan adviseren we jou de Refresh (theorie) training. Heb je vragen of andere wensen\, dan kan je gerust contact opnemen met jouw accountmanager.   \nVoor iedereen die gaat starten met Absolution. Tijdens deze training komt de filosofie van Absolution aan bod en gaan we dieper in op de producten met hun specifieke werkingen.
URL:https://studioprogramma.absolution.nl/workshops/basis-theorie-training-voor-startende-salons-9-februari/
LOCATION:Gelderland
CATEGORIES:Absolution
ATTACH;FMTTYPE=image/jpeg:https://studioprogramma.absolution.nl/wp-content/uploads/2022/06/studio.jpg
END:VEVENT
BEGIN:VEVENT
DTSTART;TZID=Europe/Helsinki:20230216T100000
DTEND;TZID=Europe/Helsinki:20230216T160000
DTSTAMP:20260423T134823
CREATED:20221205T141150Z
LAST-MODIFIED:20221205T141150Z
UID:5027-1676541600-1676563200@studioprogramma.absolution.nl
SUMMARY:Ingrediënten Training
DESCRIPTION:Absolution Ingrediënten training: \nIn deze training leer je meer over de werking van de mooie ingrediënten van Absolution en in welke producten je deze kunt vinden. Ook leer je wat het verschil is tussen conventionele cosmetica en natuurlijk biologisch gecertificeerde cosmetica en de regel- en wetgeving.
URL:https://studioprogramma.absolution.nl/workshops/ingredienten-training/
LOCATION:Absolution Studio – Apeldoorn\, Europaweg 220\, Apeldoorn\, Gelderland\, 7336 AR\, Nederland
CATEGORIES:Absolution
ATTACH;FMTTYPE=image/jpeg:https://studioprogramma.absolution.nl/wp-content/uploads/2020/01/Cursus_afbeeldingen_jan2020_bodyrelax.jpg
ORGANIZER;CN="Absolution":MAILTO:info@absolution.nl
GEO:52.1926836;5.9329345
X-APPLE-STRUCTURED-LOCATION;VALUE=URI;X-ADDRESS=Absolution Studio – Apeldoorn Europaweg 220 Apeldoorn Gelderland 7336 AR Nederland;X-APPLE-RADIUS=500;X-TITLE=Europaweg 220:geo:5.9329345,52.1926836
END:VEVENT
BEGIN:VEVENT
DTSTART;TZID=Europe/Helsinki:20230220T100000
DTEND;TZID=Europe/Helsinki:20230220T160000
DTSTAMP:20260423T134823
CREATED:20221111T121424Z
LAST-MODIFIED:20221111T121454Z
UID:4762-1676887200-1676908800@studioprogramma.absolution.nl
SUMMARY:Casus Training - maandag 20 februari
DESCRIPTION:Casus Training: \nIn deze training behandelen we de verschillende huidbehoeftes en welke producten hierbij centraal staan en het beste geadviseerd kunnen worden aan de hand van diverse casussen. Je leert hierdoor een passend huidadvies te geven.\nTheoretische training – geen model nodig. 
URL:https://studioprogramma.absolution.nl/workshops/casus-training-maandag-20-februari/
LOCATION:Absolution Studio – Apeldoorn\, Europaweg 220\, Apeldoorn\, Gelderland\, 7336 AR\, Nederland
CATEGORIES:Absolution
ATTACH;FMTTYPE=image/jpeg:https://studioprogramma.absolution.nl/wp-content/uploads/2022/06/Cursus_afbeeldingen_refreshtraining.jpg
ORGANIZER;CN="Absolution":MAILTO:info@absolution.nl
GEO:52.1926836;5.9329345
X-APPLE-STRUCTURED-LOCATION;VALUE=URI;X-ADDRESS=Absolution Studio – Apeldoorn Europaweg 220 Apeldoorn Gelderland 7336 AR Nederland;X-APPLE-RADIUS=500;X-TITLE=Europaweg 220:geo:5.9329345,52.1926836
END:VEVENT
BEGIN:VEVENT
DTSTART;TZID=Europe/Helsinki:20230228T100000
DTEND;TZID=Europe/Helsinki:20230228T160000
DTSTAMP:20260423T134823
CREATED:20221111T123211Z
LAST-MODIFIED:20221111T123211Z
UID:4793-1677578400-1677600000@studioprogramma.absolution.nl
SUMMARY:Body Re-Lax - dinsdag 28 februari
DESCRIPTION:Body Re-Lax: \nWanneer je toe bent aan een weldaad op het gebied van ont-stressen en ontspannen\, is dit het juiste programma voor jou! \nLaat je meenemen tijdens deze massage door de heerlijke ontspannende geuren van lavendel\, zoete sinaasappel\, welke gecombineerd met de verkwikkende eucalyptus\, zorgen dat je in de volledige ‘relaxmodus’ gaat.    Model: ja
URL:https://studioprogramma.absolution.nl/workshops/body-re-lax-dinsdag-28-februari/
LOCATION:Absolution Studio – Apeldoorn\, Europaweg 220\, Apeldoorn\, Gelderland\, 7336 AR\, Nederland
CATEGORIES:Absolution
ATTACH;FMTTYPE=image/jpeg:https://studioprogramma.absolution.nl/wp-content/uploads/2020/01/Cursus_afbeeldingen_jan2020_Bodyrestart.jpg
ORGANIZER;CN="Absolution":MAILTO:info@absolution.nl
GEO:52.1926836;5.9329345
X-APPLE-STRUCTURED-LOCATION;VALUE=URI;X-ADDRESS=Absolution Studio – Apeldoorn Europaweg 220 Apeldoorn Gelderland 7336 AR Nederland;X-APPLE-RADIUS=500;X-TITLE=Europaweg 220:geo:5.9329345,52.1926836
END:VEVENT
END:VCALENDAR