BEGIN:VCALENDAR
VERSION:2.0
PRODID:-//Studioprogramma Absolution - ECPv6.2.5//NONSGML v1.0//EN
CALSCALE:GREGORIAN
METHOD:PUBLISH
X-ORIGINAL-URL:https://studioprogramma.absolution.nl
X-WR-CALDESC:Evenementen voor Studioprogramma Absolution
REFRESH-INTERVAL;VALUE=DURATION:PT1H
X-Robots-Tag:noindex
X-PUBLISHED-TTL:PT1H
BEGIN:VTIMEZONE
TZID:Europe/Helsinki
BEGIN:DAYLIGHT
TZOFFSETFROM:+0200
TZOFFSETTO:+0300
TZNAME:EEST
DTSTART:20230326T010000
END:DAYLIGHT
BEGIN:STANDARD
TZOFFSETFROM:+0300
TZOFFSETTO:+0200
TZNAME:EET
DTSTART:20231029T010000
END:STANDARD
END:VTIMEZONE
BEGIN:VEVENT
DTSTART;TZID=Europe/Helsinki:20230306T100000
DTEND;TZID=Europe/Helsinki:20230306T160000
DTSTAMP:20260423T103919
CREATED:20221111T104747Z
LAST-MODIFIED:20221222T123044Z
UID:4632-1678096800-1678118400@studioprogramma.absolution.nl
SUMMARY:Basis Theorie Training - maandag 6 maart - voor startende salons!
DESCRIPTION:Basis Theorie Training: Voor Startende salons!\nBelangrijk! : Deze training is uitsluitend voor Startende Absolution Salons! \nMocht je deze training reeds hebben gevolgd\, dan adviseren we jou de Refresh (theorie) training. Heb je vragen of andere wensen\, dan kan je gerust contact opnemen met jouw accountmanager.   \nVoor iedereen die gaat starten met Absolution. Tijdens deze training komt de filosofie van Absolution aan bod en gaan we dieper in op de producten met hun specifieke werkingen.
URL:https://studioprogramma.absolution.nl/workshops/basis-theorie-training-maandag-6-maart/
LOCATION:Absolution Studio – Apeldoorn\, Europaweg 220\, Apeldoorn\, Gelderland\, 7336 AR\, Nederland
CATEGORIES:Absolution
ATTACH;FMTTYPE=image/jpeg:https://studioprogramma.absolution.nl/wp-content/uploads/2022/06/studio.jpg
GEO:52.1926836;5.9329345
X-APPLE-STRUCTURED-LOCATION;VALUE=URI;X-ADDRESS=Absolution Studio – Apeldoorn Europaweg 220 Apeldoorn Gelderland 7336 AR Nederland;X-APPLE-RADIUS=500;X-TITLE=Europaweg 220:geo:5.9329345,52.1926836
END:VEVENT
BEGIN:VEVENT
DTSTART;TZID=Europe/Helsinki:20230307T100000
DTEND;TZID=Europe/Helsinki:20230307T160000
DTSTAMP:20260423T103919
CREATED:20221111T110254Z
LAST-MODIFIED:20230213T102729Z
UID:4656-1678183200-1678204800@studioprogramma.absolution.nl
SUMMARY:Basis Praktijk Training - dinsdag 7 maart - voor startende salons!
DESCRIPTION:Belangrijk! : Deze training is uitsluitend voor Startende Absolution Salons! \nMocht je deze training reeds hebben gevolgd\, dan adviseren we jou de Refresh (praktijk) training. Heb je vragen of andere wensen\, dan kan je gerust contact opnemen met jouw accountmanager.   \nHet vervolg op de training Basis Theorie en voor de schoonheidsspecialiste die in de salon de Absolution behandelingen gaat geven. Tijdens deze training gaan we aan het werk met de producten en de massagetechniek volgens het Absolution protocol. Deze unieke benadering en manier van werken legt nadruk op resultaat en huidverbetering en verkoop.    Model: ja
URL:https://studioprogramma.absolution.nl/workshops/basis-praktijk-training-dinsdag-7-maart/
LOCATION:Absolution Studio – Apeldoorn\, Europaweg 220\, Apeldoorn\, Gelderland\, 7336 AR\, Nederland
CATEGORIES:Absolution
ATTACH;FMTTYPE=image/jpeg:https://studioprogramma.absolution.nl/wp-content/uploads/2022/06/studio.jpg
ORGANIZER;CN="Absolution":MAILTO:info@absolution.nl
GEO:52.1926836;5.9329345
X-APPLE-STRUCTURED-LOCATION;VALUE=URI;X-ADDRESS=Absolution Studio – Apeldoorn Europaweg 220 Apeldoorn Gelderland 7336 AR Nederland;X-APPLE-RADIUS=500;X-TITLE=Europaweg 220:geo:5.9329345,52.1926836
END:VEVENT
BEGIN:VEVENT
DTSTART;TZID=Europe/Helsinki:20230309T100000
DTEND;TZID=Europe/Helsinki:20230309T160000
DTSTAMP:20260423T103919
CREATED:20221111T121110Z
LAST-MODIFIED:20221111T121110Z
UID:4756-1678356000-1678377600@studioprogramma.absolution.nl
SUMMARY:Ingrediënten training - donderdag 9 maart
DESCRIPTION:Absolution Ingrediënten training: \nIn deze training leer je meer over de werking van de mooie ingrediënten van Absolution en in welke producten je deze kunt vinden. Ook leer je wat het verschil is tussen conventionele cosmetica en natuurlijk biologisch gecertificeerde cosmetica en de regel- en wetgeving.
URL:https://studioprogramma.absolution.nl/workshops/ingredienten-training-donderdag-9-maart/
LOCATION:Absolution Studio – Apeldoorn\, Europaweg 220\, Apeldoorn\, Gelderland\, 7336 AR\, Nederland
CATEGORIES:Absolution
ATTACH;FMTTYPE=image/jpeg:https://studioprogramma.absolution.nl/wp-content/uploads/2020/01/Cursus_afbeeldingen_jan2020_bodyrelax.jpg
ORGANIZER;CN="Absolution":MAILTO:info@absolution.nl
GEO:52.1926836;5.9329345
X-APPLE-STRUCTURED-LOCATION;VALUE=URI;X-ADDRESS=Absolution Studio – Apeldoorn Europaweg 220 Apeldoorn Gelderland 7336 AR Nederland;X-APPLE-RADIUS=500;X-TITLE=Europaweg 220:geo:5.9329345,52.1926836
END:VEVENT
BEGIN:VEVENT
DTSTART;TZID=Europe/Helsinki:20230314T100000
DTEND;TZID=Europe/Helsinki:20230314T160000
DTSTAMP:20260423T103920
CREATED:20221111T111535Z
LAST-MODIFIED:20221111T111535Z
UID:4674-1678788000-1678809600@studioprogramma.absolution.nl
SUMMARY:Verkoop training - dinsdag 14 maart
DESCRIPTION:Verkoop training: \nIn deze training leer je over je eigen grenzen te stappen om tegemoet te komen aan de behoeftes van de klant. Je leert het beste uit jezelf te halen\, zonder uit te gaan van aannames.
URL:https://studioprogramma.absolution.nl/workshops/verkoop-training-dinsdag-14-maart/
LOCATION:Absolution Studio – Apeldoorn\, Europaweg 220\, Apeldoorn\, Gelderland\, 7336 AR\, Nederland
CATEGORIES:Absolution
ATTACH;FMTTYPE=image/jpeg:https://studioprogramma.absolution.nl/wp-content/uploads/2022/06/studio.jpg
ORGANIZER;CN="Absolution":MAILTO:info@absolution.nl
GEO:52.1926836;5.9329345
X-APPLE-STRUCTURED-LOCATION;VALUE=URI;X-ADDRESS=Absolution Studio – Apeldoorn Europaweg 220 Apeldoorn Gelderland 7336 AR Nederland;X-APPLE-RADIUS=500;X-TITLE=Europaweg 220:geo:5.9329345,52.1926836
END:VEVENT
BEGIN:VEVENT
DTSTART;TZID=Europe/Helsinki:20230316T100000
DTEND;TZID=Europe/Helsinki:20230316T160000
DTSTAMP:20260423T103920
CREATED:20221111T112217Z
LAST-MODIFIED:20221111T112217Z
UID:4686-1678960800-1678982400@studioprogramma.absolution.nl
SUMMARY:Upsell Training - donderdag 16 maart
DESCRIPTION:Upsell Training:  \nHoe kan ik meer omzet uit mijn bestaande klantenbestand halen? Deze dag bestaat uit een stuk theorie en we gaan werken in de praktijk. Wij leren je 2 mooie oogcontourbehandelingen passend bij Le Soin Regard en La Crème Réparatrice Regard en we schenken extra aandacht aan handen en decolleté.\nModel: nee
URL:https://studioprogramma.absolution.nl/workshops/upsell-training-donderdag-16-maart/
LOCATION:Absolution Studio – Apeldoorn\, Europaweg 220\, Apeldoorn\, Gelderland\, 7336 AR\, Nederland
CATEGORIES:Absolution
ATTACH;FMTTYPE=image/jpeg:https://studioprogramma.absolution.nl/wp-content/uploads/2022/06/Cursus_afbeeldingen_refreshtraining.jpg
ORGANIZER;CN="Absolution":MAILTO:info@absolution.nl
GEO:52.1926836;5.9329345
X-APPLE-STRUCTURED-LOCATION;VALUE=URI;X-ADDRESS=Absolution Studio – Apeldoorn Europaweg 220 Apeldoorn Gelderland 7336 AR Nederland;X-APPLE-RADIUS=500;X-TITLE=Europaweg 220:geo:5.9329345,52.1926836
END:VEVENT
BEGIN:VEVENT
DTSTART;TZID=Europe/Helsinki:20230320T100000
DTEND;TZID=Europe/Helsinki:20230320T160000
DTSTAMP:20260423T103920
CREATED:20221111T112949Z
LAST-MODIFIED:20221111T112949Z
UID:4698-1679306400-1679328000@studioprogramma.absolution.nl
SUMMARY:Gymnastiek voor de huid - maandag 20 maart
DESCRIPTION:Gymnastiek voor je huid: \nEen unieke huid verbeterende\, ontspannende massage techniek gericht op het trainen van de gezichtsspieren\, waarbij de focus ligt op het verstrakken en verstevigen van de huid en het verminderen van spierspanningen.   Model: nee
URL:https://studioprogramma.absolution.nl/workshops/gymnastiek-voor-de-huid-maandag-20-maart/
LOCATION:Absolution Studio – Apeldoorn\, Europaweg 220\, Apeldoorn\, Gelderland\, 7336 AR\, Nederland
CATEGORIES:Absolution
ATTACH;FMTTYPE=image/jpeg:https://studioprogramma.absolution.nl/wp-content/uploads/2022/06/ourstory051.jpg
ORGANIZER;CN="Absolution":MAILTO:info@absolution.nl
GEO:52.1926836;5.9329345
X-APPLE-STRUCTURED-LOCATION;VALUE=URI;X-ADDRESS=Absolution Studio – Apeldoorn Europaweg 220 Apeldoorn Gelderland 7336 AR Nederland;X-APPLE-RADIUS=500;X-TITLE=Europaweg 220:geo:5.9329345,52.1926836
END:VEVENT
BEGIN:VEVENT
DTSTART;TZID=Europe/Helsinki:20230330T100000
DTEND;TZID=Europe/Helsinki:20230330T160000
DTSTAMP:20260423T103920
CREATED:20221111T121956Z
LAST-MODIFIED:20221111T121956Z
UID:4769-1680170400-1680192000@studioprogramma.absolution.nl
SUMMARY:Workshop Training - donderdag 30 maart
DESCRIPTION: Workshop training: \nEen workshop is een fantastische manier om jouw klanten meer verdieping te geven in het hoe en waarom van huidverzorging en cosmetica. Je leert in deze training hoe jij een succesvolle workshop kunt geven aan jouw klanten.\nTheoretische training – geen model nodig 
URL:https://studioprogramma.absolution.nl/workshops/workshop-training-donderdag-30-maart/
LOCATION:Absolution Studio – Apeldoorn\, Europaweg 220\, Apeldoorn\, Gelderland\, 7336 AR\, Nederland
CATEGORIES:Absolution
ATTACH;FMTTYPE=image/png:https://studioprogramma.absolution.nl/wp-content/uploads/2018/07/logo_Absolution.png
ORGANIZER;CN="Absolution":MAILTO:info@absolution.nl
GEO:52.1926836;5.9329345
X-APPLE-STRUCTURED-LOCATION;VALUE=URI;X-ADDRESS=Absolution Studio – Apeldoorn Europaweg 220 Apeldoorn Gelderland 7336 AR Nederland;X-APPLE-RADIUS=500;X-TITLE=Europaweg 220:geo:5.9329345,52.1926836
END:VEVENT
BEGIN:VEVENT
DTSTART;TZID=Europe/Helsinki:20230331T100000
DTEND;TZID=Europe/Helsinki:20230331T160000
DTSTAMP:20260423T103920
CREATED:20221111T115012Z
LAST-MODIFIED:20221111T115012Z
UID:4726-1680256800-1680278400@studioprogramma.absolution.nl
SUMMARY:Kansa Wand Glow Training - vrijdag 31 maart
DESCRIPTION:Kansa Wand Glow Training:  \nJe leert een nieuwe massage techniek waarbij we gebruik maken van een beauty tool voor in de cabine: de Kansa Wand. Deze massage helpt bij het verwijderen van opgebouwde afvalstoffen in het weefsel door ze los te maken en af te voeren. Ook werken we op het ontspannen van de spieren in het gezicht\, hals en decolleté. Deze prachtige massage\, mede door het stimuleren van de doorbloeding\, brengt verse zuurstof naar de huid – en dát geeft die prachtige natuurlijke glow die we zo graag willen!  Model: ja
URL:https://studioprogramma.absolution.nl/workshops/kansa-wand-glow-training-vrijdag-31-maart/
LOCATION:Absolution Studio – Apeldoorn\, Europaweg 220\, Apeldoorn\, Gelderland\, 7336 AR\, Nederland
CATEGORIES:Absolution
ATTACH;FMTTYPE=image/jpeg:https://studioprogramma.absolution.nl/wp-content/uploads/2019/01/Cursus_afbeeldingen_BodyscrubenHamman.jpg
ORGANIZER;CN="Absolution":MAILTO:info@absolution.nl
GEO:52.1926836;5.9329345
X-APPLE-STRUCTURED-LOCATION;VALUE=URI;X-ADDRESS=Absolution Studio – Apeldoorn Europaweg 220 Apeldoorn Gelderland 7336 AR Nederland;X-APPLE-RADIUS=500;X-TITLE=Europaweg 220:geo:5.9329345,52.1926836
END:VEVENT
END:VCALENDAR