BEGIN:VCALENDAR
VERSION:2.0
PRODID:-//Studioprogramma Absolution - ECPv6.2.5//NONSGML v1.0//EN
CALSCALE:GREGORIAN
METHOD:PUBLISH
X-ORIGINAL-URL:https://studioprogramma.absolution.nl
X-WR-CALDESC:Evenementen voor Studioprogramma Absolution
REFRESH-INTERVAL;VALUE=DURATION:PT1H
X-Robots-Tag:noindex
X-PUBLISHED-TTL:PT1H
BEGIN:VTIMEZONE
TZID:Europe/Helsinki
BEGIN:DAYLIGHT
TZOFFSETFROM:+0200
TZOFFSETTO:+0300
TZNAME:EEST
DTSTART:20230326T010000
END:DAYLIGHT
BEGIN:STANDARD
TZOFFSETFROM:+0300
TZOFFSETTO:+0200
TZNAME:EET
DTSTART:20231029T010000
END:STANDARD
END:VTIMEZONE
BEGIN:VEVENT
DTSTART;TZID=Europe/Helsinki:20230405T100000
DTEND;TZID=Europe/Helsinki:20230405T160000
DTSTAMP:20260423T091250
CREATED:20221111T104934Z
LAST-MODIFIED:20230322T154532Z
UID:4635-1680688800-1680710400@studioprogramma.absolution.nl
SUMMARY:Basis Theorie Training - woensdag 5 april - voor startende salons!
DESCRIPTION:Basis Theorie Training: Voor Startende salons!\nBelangrijk! : Deze training is uitsluitend voor Startende Absolution Salons! \nMocht je deze training reeds hebben gevolgd\, dan adviseren we jou de Refresh (theorie) training. Heb je vragen of andere wensen\, dan kan je gerust contact opnemen met jouw accountmanager.   \nVoor iedereen die gaat starten met Absolution. Tijdens deze training komt de filosofie van Absolution aan bod en gaan we dieper in op de producten met hun specifieke werkingen.
URL:https://studioprogramma.absolution.nl/workshops/basis-theorie-training-woensdag-5-april/
LOCATION:Absolution Studio – Apeldoorn\, Europaweg 220\, Apeldoorn\, Gelderland\, 7336 AR\, Nederland
CATEGORIES:Absolution
ATTACH;FMTTYPE=image/jpeg:https://studioprogramma.absolution.nl/wp-content/uploads/2022/06/studio.jpg
ORGANIZER;CN="Absolution":MAILTO:info@absolution.nl
GEO:52.1926836;5.9329345
X-APPLE-STRUCTURED-LOCATION;VALUE=URI;X-ADDRESS=Absolution Studio – Apeldoorn Europaweg 220 Apeldoorn Gelderland 7336 AR Nederland;X-APPLE-RADIUS=500;X-TITLE=Europaweg 220:geo:5.9329345,52.1926836
END:VEVENT
BEGIN:VEVENT
DTSTART;TZID=Europe/Helsinki:20230406T100000
DTEND;TZID=Europe/Helsinki:20230406T160000
DTSTAMP:20260423T091250
CREATED:20221111T110411Z
LAST-MODIFIED:20221222T124044Z
UID:4659-1680775200-1680796800@studioprogramma.absolution.nl
SUMMARY:Basis Praktijk Training - donderdag 6 april - uitsluitend voor startende salons!
DESCRIPTION:Basis Praktijk Training \nBelangrijk! : Deze training is uitsluitend voor Startende Absolution Salons!\nMocht je deze training reeds hebben gevolgd\, dan adviseren we jou de Refresh (praktijk) training. Heb je vragen of andere wensen\, dan kan je gerust contact opnemen met jouw accountmanager.   \nHet vervolg op de training Basis Theorie en voor de schoonheidsspecialiste die in de salon de Absolution behandelingen gaat geven. Tijdens deze training gaan we aan het werk met de producten en de massagetechniek volgens het Absolution protocol. Deze unieke benadering en manier van werken legt nadruk op resultaat en huidverbetering en verkoop.    Model: ja
URL:https://studioprogramma.absolution.nl/workshops/basis-praktijk-training-donderdag-6-april/
LOCATION:Absolution Studio – Apeldoorn\, Europaweg 220\, Apeldoorn\, Gelderland\, 7336 AR\, Nederland
CATEGORIES:Absolution
ATTACH;FMTTYPE=image/jpeg:https://studioprogramma.absolution.nl/wp-content/uploads/2022/06/studio.jpg
ORGANIZER;CN="Absolution":MAILTO:info@absolution.nl
GEO:52.1926836;5.9329345
X-APPLE-STRUCTURED-LOCATION;VALUE=URI;X-ADDRESS=Absolution Studio – Apeldoorn Europaweg 220 Apeldoorn Gelderland 7336 AR Nederland;X-APPLE-RADIUS=500;X-TITLE=Europaweg 220:geo:5.9329345,52.1926836
END:VEVENT
BEGIN:VEVENT
DTSTART;TZID=Europe/Helsinki:20230411T100000
DTEND;TZID=Europe/Helsinki:20230411T160000
DTSTAMP:20260423T091250
CREATED:20221111T123037Z
LAST-MODIFIED:20221111T123037Z
UID:4790-1681207200-1681228800@studioprogramma.absolution.nl
SUMMARY:Body Re-Sculpt - dinsdag 11 april
DESCRIPTION:Body Re-Sculpt \nHet Detox Body programma van Absolution! Door middel van lymfe activatie\, een intensief reinigende bodyscrub en cupping technieken\, creëren we een direct resultaat op het gebied van algehele doorbloeding en de afvoer van afvalstoffen en zo een vermindering van cellulite.     Model: Nee
URL:https://studioprogramma.absolution.nl/workshops/body-re-sculpt-dinsdag-11-april/
LOCATION:Gelderland
CATEGORIES:Absolution
ATTACH;FMTTYPE=image/jpeg:https://studioprogramma.absolution.nl/wp-content/uploads/2020/01/Cursus_afbeeldingen_jan2020_bodyresculpt.jpg
ORGANIZER;CN="Absolution":MAILTO:info@absolution.nl
END:VEVENT
BEGIN:VEVENT
DTSTART;TZID=Europe/Helsinki:20230413T100000
DTEND;TZID=Europe/Helsinki:20230413T160000
DTSTAMP:20260423T091250
CREATED:20221111T120745Z
LAST-MODIFIED:20221111T120745Z
UID:4750-1681380000-1681401600@studioprogramma.absolution.nl
SUMMARY:Massage Peau Calme et Nette - donderdag 13 april
DESCRIPTION:Massage Peau Calme et Nette: \nIn deze training leer je 2 nieuwe massages: intensieve\, afvoerende massagetechnieken die specifiek zijn afgestemd op La Cure Peau Nette en het detoxen van de huid en zachte\, afvoerende massagetechnieken om de kwetsbare huid te kalmeren en te herstellen.\nModel: nee
URL:https://studioprogramma.absolution.nl/workshops/massage-peau-calme-et-nette-donderdag-13-april/
LOCATION:Absolution Studio – Apeldoorn\, Europaweg 220\, Apeldoorn\, Gelderland\, 7336 AR\, Nederland
CATEGORIES:Absolution
ATTACH;FMTTYPE=image/jpeg:https://studioprogramma.absolution.nl/wp-content/uploads/2020/01/Cursus_afbeeldingen_jan2020_Bodyrestart.jpg
ORGANIZER;CN="Absolution":MAILTO:info@absolution.nl
GEO:52.1926836;5.9329345
X-APPLE-STRUCTURED-LOCATION;VALUE=URI;X-ADDRESS=Absolution Studio – Apeldoorn Europaweg 220 Apeldoorn Gelderland 7336 AR Nederland;X-APPLE-RADIUS=500;X-TITLE=Europaweg 220:geo:5.9329345,52.1926836
END:VEVENT
BEGIN:VEVENT
DTSTART;TZID=Europe/Helsinki:20230425T100000
DTEND;TZID=Europe/Helsinki:20230425T160000
DTSTAMP:20260423T091250
CREATED:20221111T113115Z
LAST-MODIFIED:20221111T113115Z
UID:4701-1682416800-1682438400@studioprogramma.absolution.nl
SUMMARY:Gymnastiek voor je huid - dinsdag 25 april
DESCRIPTION:Gymnastiek voor je huid: \nEen unieke huid verbeterende\, ontspannende massage techniek gericht op het trainen van de gezichtsspieren\, waarbij de focus ligt op het verstrakken en verstevigen van de huid en het verminderen van spierspanningen.   Model: nee
URL:https://studioprogramma.absolution.nl/workshops/gymnastiek-voor-je-huid-dinsdag-25-april/
LOCATION:Absolution Studio – Apeldoorn\, Europaweg 220\, Apeldoorn\, Gelderland\, 7336 AR\, Nederland
CATEGORIES:Absolution
ATTACH;FMTTYPE=image/jpeg:https://studioprogramma.absolution.nl/wp-content/uploads/2022/06/ourstory051.jpg
ORGANIZER;CN="Absolution":MAILTO:info@absolution.nl
GEO:52.1926836;5.9329345
X-APPLE-STRUCTURED-LOCATION;VALUE=URI;X-ADDRESS=Absolution Studio – Apeldoorn Europaweg 220 Apeldoorn Gelderland 7336 AR Nederland;X-APPLE-RADIUS=500;X-TITLE=Europaweg 220:geo:5.9329345,52.1926836
END:VEVENT
END:VCALENDAR