BEGIN:VCALENDAR
VERSION:2.0
PRODID:-//Studioprogramma Absolution - ECPv6.2.5//NONSGML v1.0//EN
CALSCALE:GREGORIAN
METHOD:PUBLISH
X-WR-CALNAME:Studioprogramma Absolution
X-ORIGINAL-URL:https://studioprogramma.absolution.nl
X-WR-CALDESC:Evenementen voor Studioprogramma Absolution
REFRESH-INTERVAL;VALUE=DURATION:PT1H
X-Robots-Tag:noindex
X-PUBLISHED-TTL:PT1H
BEGIN:VTIMEZONE
TZID:Europe/Helsinki
BEGIN:DAYLIGHT
TZOFFSETFROM:+0200
TZOFFSETTO:+0300
TZNAME:EEST
DTSTART:20230326T010000
END:DAYLIGHT
BEGIN:STANDARD
TZOFFSETFROM:+0300
TZOFFSETTO:+0200
TZNAME:EET
DTSTART:20231029T010000
END:STANDARD
END:VTIMEZONE
BEGIN:VEVENT
DTSTART;TZID=Europe/Helsinki:20230913T100000
DTEND;TZID=Europe/Helsinki:20230913T160000
DTSTAMP:20260423T013159
CREATED:20230509T123831Z
LAST-MODIFIED:20230509T124458Z
UID:5508-1694599200-1694620800@studioprogramma.absolution.nl
SUMMARY:Absolution Gymnastiek voor de huid - woensdag 13 september
DESCRIPTION:Gymnastiek voor je huid: \nEen unieke huid verbeterende\, ontspannende massage techniek gericht op het trainen van de gezichtsspieren\, waarbij de focus ligt op het verstrakken en verstevigen van de huid en het verminderen van spierspanningen.   Model: nee
URL:https://studioprogramma.absolution.nl/workshops/absolution-gymnastiek-voor-de-huid-woensdag-13-september/
LOCATION:Absolution Studio – Apeldoorn\, Europaweg 220\, Apeldoorn\, Gelderland\, 7336 AR\, Nederland
CATEGORIES:Absolution
ATTACH;FMTTYPE=image/jpeg:https://studioprogramma.absolution.nl/wp-content/uploads/2022/06/ourstory051.jpg
ORGANIZER;CN="Absolution":MAILTO:info@absolution.nl
GEO:52.1926836;5.9329345
X-APPLE-STRUCTURED-LOCATION;VALUE=URI;X-ADDRESS=Absolution Studio – Apeldoorn Europaweg 220 Apeldoorn Gelderland 7336 AR Nederland;X-APPLE-RADIUS=500;X-TITLE=Europaweg 220:geo:5.9329345,52.1926836
END:VEVENT
BEGIN:VEVENT
DTSTART;TZID=Europe/Helsinki:20230914T100000
DTEND;TZID=Europe/Helsinki:20230914T160000
DTSTAMP:20260423T013159
CREATED:20230509T124417Z
LAST-MODIFIED:20230509T124417Z
UID:5517-1694685600-1694707200@studioprogramma.absolution.nl
SUMMARY:Absolution Face Sculpting - donderdag 14 september
DESCRIPTION:Face Sculpting: \nEen total work-out voor je gezicht! \nEen nieuwe exclusieve massage techniek\, waarbij wij naast de spieren van hals\, decolleté\, nek\, gezicht en hoofd ook de binnenkant van de wangen en de kauwspieren los masseren. Deze “buccal massage” is momenteel erg gewild vanwege de direct zichtbare en langdurige effectiviteit ten aanzien van huid- en contourverbetering. Deze techniek kan je bij iedereen inzetten.. Naast dat je op huidverbetering werkt\, geeft dit ook een super anti-stress werking (vermindering spierspanning). \nBelangrijk! Voorwaarde voor deelname: Je dient de training ‘Gymnastiek voor de huid’ gevolgd te hebben.    Model: nee \n 
URL:https://studioprogramma.absolution.nl/workshops/absolution-face-sculpting-donderdag-14-september/
LOCATION:Absolution Studio – Apeldoorn\, Europaweg 220\, Apeldoorn\, Gelderland\, 7336 AR\, Nederland
CATEGORIES:Absolution
ATTACH;FMTTYPE=image/jpeg:https://studioprogramma.absolution.nl/wp-content/uploads/2022/06/Cursus_afbeeldingen_refreshtraining.jpg
ORGANIZER;CN="Absolution":MAILTO:info@absolution.nl
GEO:52.1926836;5.9329345
X-APPLE-STRUCTURED-LOCATION;VALUE=URI;X-ADDRESS=Absolution Studio – Apeldoorn Europaweg 220 Apeldoorn Gelderland 7336 AR Nederland;X-APPLE-RADIUS=500;X-TITLE=Europaweg 220:geo:5.9329345,52.1926836
END:VEVENT
BEGIN:VEVENT
DTSTART;TZID=Europe/Helsinki:20230918T100000
DTEND;TZID=Europe/Helsinki:20230918T160000
DTSTAMP:20260423T013159
CREATED:20230509T130043Z
LAST-MODIFIED:20230509T130043Z
UID:5533-1695031200-1695052800@studioprogramma.absolution.nl
SUMMARY:Absolution - Facial Cupping - maandag 18 september
DESCRIPTION:Facial Cupping: \nIn deze training leer je een huid verbeterende gezichtsmassage met onze Absolution facial cups. \nDoor deze intensieve massage worden spieren en huid soepel gemaakt\, stimuleren we de bloedsomloop en het lymfatisch systeem en werken we op het verstrakken en verstevigen van de huid.      Model: nee \n 
URL:https://studioprogramma.absolution.nl/workshops/absolution-facial-cupping-maandag-18-september/
LOCATION:Absolution Studio – Apeldoorn\, Europaweg 220\, Apeldoorn\, Gelderland\, 7336 AR\, Nederland
CATEGORIES:Absolution
ATTACH;FMTTYPE=image/jpeg:https://studioprogramma.absolution.nl/wp-content/uploads/2022/06/studio.jpg
ORGANIZER;CN="Absolution":MAILTO:info@absolution.nl
GEO:52.1926836;5.9329345
X-APPLE-STRUCTURED-LOCATION;VALUE=URI;X-ADDRESS=Absolution Studio – Apeldoorn Europaweg 220 Apeldoorn Gelderland 7336 AR Nederland;X-APPLE-RADIUS=500;X-TITLE=Europaweg 220:geo:5.9329345,52.1926836
END:VEVENT
BEGIN:VEVENT
DTSTART;TZID=Europe/Helsinki:20230920T100000
DTEND;TZID=Europe/Helsinki:20230920T160000
DTSTAMP:20260423T013159
CREATED:20230509T131932Z
LAST-MODIFIED:20230509T131932Z
UID:5557-1695204000-1695225600@studioprogramma.absolution.nl
SUMMARY:Absolution - verkooptraining - woensdag 20 september
DESCRIPTION:Verkoop training: \nIn deze training leer je over je eigen grenzen te stappen om tegemoet te komen aan de behoeftes van de klant. Je leert het beste uit jezelf te halen\, zonder uit te gaan van aannames.
URL:https://studioprogramma.absolution.nl/workshops/absolution-verkooptraining-woensdag-20-september/
LOCATION:Absolution Studio – Apeldoorn\, Europaweg 220\, Apeldoorn\, Gelderland\, 7336 AR\, Nederland
CATEGORIES:Absolution
ATTACH;FMTTYPE=image/jpeg:https://studioprogramma.absolution.nl/wp-content/uploads/2019/01/Cursus_afbeeldingen_verkooptraining.jpg
ORGANIZER;CN="Absolution":MAILTO:info@absolution.nl
GEO:52.1926836;5.9329345
X-APPLE-STRUCTURED-LOCATION;VALUE=URI;X-ADDRESS=Absolution Studio – Apeldoorn Europaweg 220 Apeldoorn Gelderland 7336 AR Nederland;X-APPLE-RADIUS=500;X-TITLE=Europaweg 220:geo:5.9329345,52.1926836
END:VEVENT
BEGIN:VEVENT
DTSTART;TZID=Europe/Helsinki:20230927T100000
DTEND;TZID=Europe/Helsinki:20230927T160000
DTSTAMP:20260423T013159
CREATED:20230509T131309Z
LAST-MODIFIED:20230509T131309Z
UID:5548-1695808800-1695830400@studioprogramma.absolution.nl
SUMMARY:Absolution - Body Re-sculpt - woensdag 27 september
DESCRIPTION:Body Re-Sculpt \nIn deze training leer je een intensieve body reiniging incl. de droge borsteltechniek en bodyscrub gecombineerd met cupping massage op het lichaam.     Model: Nee \n 
URL:https://studioprogramma.absolution.nl/workshops/absolution-body-re-sculpt-woensdag-27-september/
LOCATION:Absolution Studio – Apeldoorn\, Europaweg 220\, Apeldoorn\, Gelderland\, 7336 AR\, Nederland
CATEGORIES:Absolution
ATTACH;FMTTYPE=image/jpeg:https://studioprogramma.absolution.nl/wp-content/uploads/2020/01/Cursus_afbeeldingen_jan2020_bodyresculpt.jpg
ORGANIZER;CN="Absolution":MAILTO:info@absolution.nl
GEO:52.1926836;5.9329345
X-APPLE-STRUCTURED-LOCATION;VALUE=URI;X-ADDRESS=Absolution Studio – Apeldoorn Europaweg 220 Apeldoorn Gelderland 7336 AR Nederland;X-APPLE-RADIUS=500;X-TITLE=Europaweg 220:geo:5.9329345,52.1926836
END:VEVENT
END:VCALENDAR