BEGIN:VCALENDAR
VERSION:2.0
PRODID:-//Studioprogramma Absolution - ECPv6.2.5//NONSGML v1.0//EN
CALSCALE:GREGORIAN
METHOD:PUBLISH
X-WR-CALNAME:Studioprogramma Absolution
X-ORIGINAL-URL:https://studioprogramma.absolution.nl
X-WR-CALDESC:Evenementen voor Studioprogramma Absolution
REFRESH-INTERVAL;VALUE=DURATION:PT1H
X-Robots-Tag:noindex
X-PUBLISHED-TTL:PT1H
BEGIN:VTIMEZONE
TZID:Europe/Helsinki
BEGIN:DAYLIGHT
TZOFFSETFROM:+0200
TZOFFSETTO:+0300
TZNAME:EEST
DTSTART:20230326T010000
END:DAYLIGHT
BEGIN:STANDARD
TZOFFSETFROM:+0300
TZOFFSETTO:+0200
TZNAME:EET
DTSTART:20231029T010000
END:STANDARD
END:VTIMEZONE
BEGIN:VEVENT
DTSTART;TZID=Europe/Helsinki:20231102T100000
DTEND;TZID=Europe/Helsinki:20231102T160000
DTSTAMP:20260422T223037
CREATED:20230509T130421Z
LAST-MODIFIED:20230509T130421Z
UID:5539-1698919200-1698940800@studioprogramma.absolution.nl
SUMMARY:Absolution - Facial Cupping - donderdag 2 november
DESCRIPTION:Facial Cupping: \nIn deze training leer je een huid verbeterende gezichtsmassage met onze Absolution facial cups. \nDoor deze intensieve massage worden spieren en huid soepel gemaakt\, stimuleren we de bloedsomloop en het lymfatisch systeem en werken we op het verstrakken en verstevigen van de huid.      Model: nee \n 
URL:https://studioprogramma.absolution.nl/workshops/absolution-facial-cupping-donderdag-2-november/
LOCATION:Absolution Studio – Apeldoorn\, Europaweg 220\, Apeldoorn\, Gelderland\, 7336 AR\, Nederland
CATEGORIES:Absolution
ATTACH;FMTTYPE=image/jpeg:https://studioprogramma.absolution.nl/wp-content/uploads/2022/06/studio.jpg
ORGANIZER;CN="Absolution":MAILTO:info@absolution.nl
GEO:52.1926836;5.9329345
X-APPLE-STRUCTURED-LOCATION;VALUE=URI;X-ADDRESS=Absolution Studio – Apeldoorn Europaweg 220 Apeldoorn Gelderland 7336 AR Nederland;X-APPLE-RADIUS=500;X-TITLE=Europaweg 220:geo:5.9329345,52.1926836
END:VEVENT
BEGIN:VEVENT
DTSTART;TZID=Europe/Helsinki:20231106T100000
DTEND;TZID=Europe/Helsinki:20231106T160000
DTSTAMP:20260422T223037
CREATED:20230509T124157Z
LAST-MODIFIED:20230509T124740Z
UID:5514-1699264800-1699286400@studioprogramma.absolution.nl
SUMMARY:Absolution - Gymnastiek voor de huid - maandag 6 november
DESCRIPTION:Gymnastiek voor je huid: \nEen unieke huid verbeterende\, ontspannende massage techniek gericht op het trainen van de gezichtsspieren\, waarbij de focus ligt op het verstrakken en verstevigen van de huid en het verminderen van spierspanningen.   Model: nee \n 
URL:https://studioprogramma.absolution.nl/workshops/absolution-gymnastiek-voor-de-huid-maandag-6-november/
LOCATION:Absolution Studio – Apeldoorn\, Europaweg 220\, Apeldoorn\, Gelderland\, 7336 AR\, Nederland
CATEGORIES:Absolution
ATTACH;FMTTYPE=image/jpeg:https://studioprogramma.absolution.nl/wp-content/uploads/2022/06/ourstory051.jpg
ORGANIZER;CN="Absolution":MAILTO:info@absolution.nl
GEO:52.1926836;5.9329345
X-APPLE-STRUCTURED-LOCATION;VALUE=URI;X-ADDRESS=Absolution Studio – Apeldoorn Europaweg 220 Apeldoorn Gelderland 7336 AR Nederland;X-APPLE-RADIUS=500;X-TITLE=Europaweg 220:geo:5.9329345,52.1926836
END:VEVENT
BEGIN:VEVENT
DTSTART;TZID=Europe/Helsinki:20231107T100000
DTEND;TZID=Europe/Helsinki:20231107T160000
DTSTAMP:20260422T223037
CREATED:20230509T125145Z
LAST-MODIFIED:20230509T125145Z
UID:5524-1699351200-1699372800@studioprogramma.absolution.nl
SUMMARY:Absolution - Face Sculpting - dinsdag 7 november
DESCRIPTION:Face Sculpting: \nEen total work-out voor je gezicht! \nEen nieuwe exclusieve massage techniek\, waarbij wij naast de spieren van hals\, decolleté\, nek\, gezicht en hoofd ook de binnenkant van de wangen en de kauwspieren los masseren. Deze “buccal massage” is momenteel erg gewild vanwege de direct zichtbare en langdurige effectiviteit ten aanzien van huid- en contourverbetering. Deze techniek kan je bij iedereen inzetten.. Naast dat je op huidverbetering werkt\, geeft dit ook een super anti-stress werking (vermindering spierspanning). \nBelangrijk! Voorwaarde voor deelname: Je dient de training ‘Gymnastiek voor de huid’ gevolgd te hebben.    Model: nee \n 
URL:https://studioprogramma.absolution.nl/workshops/absolution-face-sculpting-dinsdag-7-november/
LOCATION:Absolution Studio – Apeldoorn\, Europaweg 220\, Apeldoorn\, Gelderland\, 7336 AR\, Nederland
CATEGORIES:Absolution
ATTACH;FMTTYPE=image/jpeg:https://studioprogramma.absolution.nl/wp-content/uploads/2022/06/Cursus_afbeeldingen_refreshtraining.jpg
ORGANIZER;CN="Absolution":MAILTO:info@absolution.nl
GEO:52.1926836;5.9329345
X-APPLE-STRUCTURED-LOCATION;VALUE=URI;X-ADDRESS=Absolution Studio – Apeldoorn Europaweg 220 Apeldoorn Gelderland 7336 AR Nederland;X-APPLE-RADIUS=500;X-TITLE=Europaweg 220:geo:5.9329345,52.1926836
END:VEVENT
BEGIN:VEVENT
DTSTART;TZID=Europe/Helsinki:20231108T100000
DTEND;TZID=Europe/Helsinki:20231108T150000
DTSTAMP:20260422T223037
CREATED:20230509T132214Z
LAST-MODIFIED:20230509T132214Z
UID:5560-1699437600-1699455600@studioprogramma.absolution.nl
SUMMARY:Absolution - verkooptraining - woensdag 8 november
DESCRIPTION:Verkoop training: \nIn deze training leer je over je eigen grenzen te stappen om tegemoet te komen aan de behoeftes van de klant. Je leert het beste uit jezelf te halen\, zonder uit te gaan van aannames.
URL:https://studioprogramma.absolution.nl/workshops/absolution-verkooptraining-woensdag-8-november/
LOCATION:Absolution Studio – Apeldoorn\, Europaweg 220\, Apeldoorn\, Gelderland\, 7336 AR\, Nederland
CATEGORIES:Absolution
ATTACH;FMTTYPE=image/jpeg:https://studioprogramma.absolution.nl/wp-content/uploads/2019/01/Cursus_afbeeldingen_verkooptraining.jpg
ORGANIZER;CN="Absolution":MAILTO:info@absolution.nl
GEO:52.1926836;5.9329345
X-APPLE-STRUCTURED-LOCATION;VALUE=URI;X-ADDRESS=Absolution Studio – Apeldoorn Europaweg 220 Apeldoorn Gelderland 7336 AR Nederland;X-APPLE-RADIUS=500;X-TITLE=Europaweg 220:geo:5.9329345,52.1926836
END:VEVENT
BEGIN:VEVENT
DTSTART;TZID=Europe/Helsinki:20231115T100000
DTEND;TZID=Europe/Helsinki:20231115T160000
DTSTAMP:20260422T223037
CREATED:20231002T150101Z
LAST-MODIFIED:20231002T150101Z
UID:5843-1700042400-1700064000@studioprogramma.absolution.nl
SUMMARY:Absolution - Klanten Inspiratie Dag - woensdag 15 november
DESCRIPTION:Wat ontzettend leuk om je te ontvangen!\nLaat je inspireren tijdens deze dag!\nWe zien je graag in onze Absolution Studio.\nLiefs\, Team Absolution
URL:https://studioprogramma.absolution.nl/workshops/absolution-klanten-inspiratie-dag-woensdag-15-november/
LOCATION:Absolution Studio – Apeldoorn\, Europaweg 220\, Apeldoorn\, Gelderland\, 7336 AR\, Nederland
CATEGORIES:Absolution
ATTACH;FMTTYPE=image/png:https://studioprogramma.absolution.nl/wp-content/uploads/2023/10/Schermafbeelding-2023-10-02-165739.png
ORGANIZER;CN="Absolution":MAILTO:info@absolution.nl
GEO:52.1926836;5.9329345
X-APPLE-STRUCTURED-LOCATION;VALUE=URI;X-ADDRESS=Absolution Studio – Apeldoorn Europaweg 220 Apeldoorn Gelderland 7336 AR Nederland;X-APPLE-RADIUS=500;X-TITLE=Europaweg 220:geo:5.9329345,52.1926836
END:VEVENT
BEGIN:VEVENT
DTSTART;TZID=Europe/Helsinki:20231123T100000
DTEND;TZID=Europe/Helsinki:20231123T160000
DTSTAMP:20260422T223037
CREATED:20230509T131653Z
LAST-MODIFIED:20230509T131653Z
UID:5554-1700733600-1700755200@studioprogramma.absolution.nl
SUMMARY:Absolution - Body Re-Start - donderdag 23 november
DESCRIPTION:Body Re-Start: \nIn deze training leer je de droge borstel techniek\, een fijne body reiniging gecombineerd met een energie gevende massage\, bestaande uit onder andere voetreflexologie en rektechnieken.     Model: ja
URL:https://studioprogramma.absolution.nl/workshops/absolution-body-re-start-donderdag-23-november/
LOCATION:Absolution Studio – Apeldoorn\, Europaweg 220\, Apeldoorn\, Gelderland\, 7336 AR\, Nederland
CATEGORIES:Absolution
ATTACH;FMTTYPE=image/jpeg:https://studioprogramma.absolution.nl/wp-content/uploads/2020/01/Cursus_afbeeldingen_jan2020_bodyresculpt.jpg
ORGANIZER;CN="Absolution":MAILTO:info@absolution.nl
GEO:52.1926836;5.9329345
X-APPLE-STRUCTURED-LOCATION;VALUE=URI;X-ADDRESS=Absolution Studio – Apeldoorn Europaweg 220 Apeldoorn Gelderland 7336 AR Nederland;X-APPLE-RADIUS=500;X-TITLE=Europaweg 220:geo:5.9329345,52.1926836
END:VEVENT
BEGIN:VEVENT
DTSTART;TZID=Europe/Helsinki:20231127T100000
DTEND;TZID=Europe/Helsinki:20231127T160000
DTSTAMP:20260422T223037
CREATED:20230509T130613Z
LAST-MODIFIED:20230821T070331Z
UID:5542-1701079200-1701100800@studioprogramma.absolution.nl
SUMMARY:Absolution - Facial Cupping - maandag 27 november
DESCRIPTION:Facial Cupping:\nIn deze training leer je een huid verbeterende gezichtsmassage met onze Absolution facial cups.\nDoor deze intensieve massage worden spieren en huid soepel gemaakt\, stimuleren we de bloedsomloop en het lymfatisch systeem en werken we op het verstrakken en verstevigen van de huid. Model: nee \n 
URL:https://studioprogramma.absolution.nl/workshops/absolution-facial-cupping-woensdag-27-november/
LOCATION:Absolution Studio – Apeldoorn\, Europaweg 220\, Apeldoorn\, Gelderland\, 7336 AR\, Nederland
CATEGORIES:Absolution
ATTACH;FMTTYPE=image/jpeg:https://studioprogramma.absolution.nl/wp-content/uploads/2022/06/studio.jpg
ORGANIZER;CN="Absolution":MAILTO:info@absolution.nl
GEO:52.1926836;5.9329345
X-APPLE-STRUCTURED-LOCATION;VALUE=URI;X-ADDRESS=Absolution Studio – Apeldoorn Europaweg 220 Apeldoorn Gelderland 7336 AR Nederland;X-APPLE-RADIUS=500;X-TITLE=Europaweg 220:geo:5.9329345,52.1926836
END:VEVENT
BEGIN:VEVENT
DTSTART;TZID=Europe/Helsinki:20231128T100000
DTEND;TZID=Europe/Helsinki:20231128T160000
DTSTAMP:20260422T223037
CREATED:20230509T133813Z
LAST-MODIFIED:20230509T133813Z
UID:5563-1701165600-1701187200@studioprogramma.absolution.nl
SUMMARY:Absolution - Upsell Training - dinsdag 28 november
DESCRIPTION:Upsell Training:  \nHoe kan ik meer omzet uit mijn bestaande klantenbestand halen? Deze dag bestaat uit een stuk theorie en we gaan werken in de praktijk. Wij leren je 2 mooie oogcontourbehandelingen passend bij Le Soin Regard en La Crème Réparatrice Regard en we schenken extra aandacht aan handen en decolleté.   Model: nee
URL:https://studioprogramma.absolution.nl/workshops/absolution-upsell-training-dinsdag-28-november/
LOCATION:Absolution Studio – Apeldoorn\, Europaweg 220\, Apeldoorn\, Gelderland\, 7336 AR\, Nederland
CATEGORIES:Absolution
ATTACH;FMTTYPE=image/jpeg:https://studioprogramma.absolution.nl/wp-content/uploads/2018/07/Cursus_afbeeldingen_workshoptraining.jpg
ORGANIZER;CN="Absolution":MAILTO:info@absolution.nl
GEO:52.1926836;5.9329345
X-APPLE-STRUCTURED-LOCATION;VALUE=URI;X-ADDRESS=Absolution Studio – Apeldoorn Europaweg 220 Apeldoorn Gelderland 7336 AR Nederland;X-APPLE-RADIUS=500;X-TITLE=Europaweg 220:geo:5.9329345,52.1926836
END:VEVENT
BEGIN:VEVENT
DTSTART;TZID=Europe/Helsinki:20231130T100000
DTEND;TZID=Europe/Helsinki:20231130T160000
DTSTAMP:20260422T223037
CREATED:20230509T125835Z
LAST-MODIFIED:20230509T125835Z
UID:5530-1701338400-1701360000@studioprogramma.absolution.nl
SUMMARY:Absolution - Kansa Glow Training - donderdag 30 november
DESCRIPTION:Kansa Wand Glow Training:  \nJe leert een nieuwe massage techniek waarbij we gebruik maken van een beauty tool voor in de cabine: de Kansa Wand. Deze massage helpt bij het verwijderen van opgebouwde afvalstoffen in het weefsel door ze los te maken en af te voeren. Ook werken we op het ontspannen van de spieren in het gezicht\, hals en decolleté. Deze prachtige massage\, mede door het stimuleren van de doorbloeding\, brengt verse zuurstof naar de huid – en dát geeft die prachtige natuurlijke glow die we zo graag willen!  Model: nee
URL:https://studioprogramma.absolution.nl/workshops/absolution-kansa-glow-training-donderdag-30-november/
LOCATION:Absolution Studio – Apeldoorn\, Europaweg 220\, Apeldoorn\, Gelderland\, 7336 AR\, Nederland
CATEGORIES:Absolution
ATTACH;FMTTYPE=image/jpeg:https://studioprogramma.absolution.nl/wp-content/uploads/2019/01/Cursus_afbeeldingen_bodymassage.jpg
ORGANIZER;CN="Absolution":MAILTO:info@absolution.nl
GEO:52.1926836;5.9329345
X-APPLE-STRUCTURED-LOCATION;VALUE=URI;X-ADDRESS=Absolution Studio – Apeldoorn Europaweg 220 Apeldoorn Gelderland 7336 AR Nederland;X-APPLE-RADIUS=500;X-TITLE=Europaweg 220:geo:5.9329345,52.1926836
END:VEVENT
END:VCALENDAR