BEGIN:VCALENDAR
VERSION:2.0
PRODID:-//Studioprogramma Absolution - ECPv6.2.5//NONSGML v1.0//EN
CALSCALE:GREGORIAN
METHOD:PUBLISH
X-ORIGINAL-URL:https://studioprogramma.absolution.nl
X-WR-CALDESC:Evenementen voor Studioprogramma Absolution
REFRESH-INTERVAL;VALUE=DURATION:PT1H
X-Robots-Tag:noindex
X-PUBLISHED-TTL:PT1H
BEGIN:VTIMEZONE
TZID:Europe/Helsinki
BEGIN:DAYLIGHT
TZOFFSETFROM:+0200
TZOFFSETTO:+0300
TZNAME:EEST
DTSTART:20240331T010000
END:DAYLIGHT
BEGIN:STANDARD
TZOFFSETFROM:+0300
TZOFFSETTO:+0200
TZNAME:EET
DTSTART:20241027T010000
END:STANDARD
END:VTIMEZONE
BEGIN:VEVENT
DTSTART;TZID=Europe/Helsinki:20240515T100000
DTEND;TZID=Europe/Helsinki:20240515T160000
DTSTAMP:20260422T124835
CREATED:20231115T144911Z
LAST-MODIFIED:20231115T144911Z
UID:6301-1715767200-1715788800@studioprogramma.absolution.nl
SUMMARY:Absolution - Workshop training
DESCRIPTION:Een workshop is een fantastische manier om jouw klanten meer verdieping te geven in het hoe en waarom van huidverzorging en cosmetica. Je leert in deze training hoe jij een succesvolle workshop kunt geven aan jouw klanten.
URL:https://studioprogramma.absolution.nl/workshops/absolution-workshop-training/
LOCATION:Ministry of Beauty\, Europaweg 220\, 7336 AR Apeldoorn\, Gelderland\, Nederland
CATEGORIES:Absolution
ATTACH;FMTTYPE=image/jpeg:https://studioprogramma.absolution.nl/wp-content/uploads/2018/07/Cursus_afbeeldingen_verkooptraining.jpg
ORGANIZER;CN="Absolution":MAILTO:info@absolution.nl
GEO:52.1926836;5.9329345
X-APPLE-STRUCTURED-LOCATION;VALUE=URI;X-ADDRESS=Ministry of Beauty Europaweg 220 7336 AR Apeldoorn Gelderland Nederland;X-APPLE-RADIUS=500;X-TITLE=Europaweg 220:geo:5.9329345,52.1926836
END:VEVENT
BEGIN:VEVENT
DTSTART;TZID=Europe/Helsinki:20240516T100000
DTEND;TZID=Europe/Helsinki:20240516T160000
DTSTAMP:20260422T124835
CREATED:20231115T144911Z
LAST-MODIFIED:20240506T112844Z
UID:6289-1715853600-1715875200@studioprogramma.absolution.nl
SUMMARY:Absolution - Verkoop training
DESCRIPTION:In deze training leer je over je eigen grenzen te stappen om tegemoet te kunnen komen aan de behoeftes van jouw klant. Je leert het beste uit jezelf te halen als Absolution huidspecialist\, zonder uit te gaan van aannames.
URL:https://studioprogramma.absolution.nl/workshops/absolution-verkoop-training-2/
LOCATION:Ministry of Beauty\, Europaweg 220\, 7336 AR Apeldoorn\, Gelderland\, Nederland
CATEGORIES:Absolution
ATTACH;FMTTYPE=image/jpeg:https://studioprogramma.absolution.nl/wp-content/uploads/2019/01/Cursus_afbeeldingen_verkooptraining.jpg
ORGANIZER;CN="Absolution":MAILTO:info@absolution.nl
GEO:52.1926836;5.9329345
X-APPLE-STRUCTURED-LOCATION;VALUE=URI;X-ADDRESS=Ministry of Beauty Europaweg 220 7336 AR Apeldoorn Gelderland Nederland;X-APPLE-RADIUS=500;X-TITLE=Europaweg 220:geo:5.9329345,52.1926836
END:VEVENT
BEGIN:VEVENT
DTSTART;TZID=Europe/Helsinki:20240522T100000
DTEND;TZID=Europe/Helsinki:20240522T160000
DTSTAMP:20260422T124835
CREATED:20231115T144912Z
LAST-MODIFIED:20231115T144912Z
UID:6264-1716372000-1716393600@studioprogramma.absolution.nl
SUMMARY:Absolution - Body Hamam
DESCRIPTION:In deze training leer en ervaar je een diep reinigende en ontspannen body\ndeelbehandeling\, bestaande uit droog borstelen\, een bodyscrub en zeepritueel\nmet ontspanningsmassage.\nModel: nee
URL:https://studioprogramma.absolution.nl/workshops/absolution-body-hamam/
LOCATION:Ministry of Beauty\, Europaweg 220\, 7336 AR Apeldoorn\, Gelderland\, Nederland
CATEGORIES:Absolution
ATTACH;FMTTYPE=image/jpeg:https://studioprogramma.absolution.nl/wp-content/uploads/2022/06/studio.jpg
ORGANIZER;CN="Absolution":MAILTO:info@absolution.nl
GEO:52.1926836;5.9329345
X-APPLE-STRUCTURED-LOCATION;VALUE=URI;X-ADDRESS=Ministry of Beauty Europaweg 220 7336 AR Apeldoorn Gelderland Nederland;X-APPLE-RADIUS=500;X-TITLE=Europaweg 220:geo:5.9329345,52.1926836
END:VEVENT
BEGIN:VEVENT
DTSTART;TZID=Europe/Helsinki:20240523T100000
DTEND;TZID=Europe/Helsinki:20240523T160000
DTSTAMP:20260422T124835
CREATED:20231115T144912Z
LAST-MODIFIED:20231115T144912Z
UID:6252-1716458400-1716480000@studioprogramma.absolution.nl
SUMMARY:Absolution - Body Re-Lax
DESCRIPTION:In deze training leer je ontspannende massage technieken waaronder een\nvoetmassage en een hoofdhuid massagetechniek geïnspireerd door de\ntraditioneel Japanse geneeskunde\, met als doel het harmoniseren van de\nenergie in het lichaam en het kalmeren van de geest.\nModel: ja
URL:https://studioprogramma.absolution.nl/workshops/absolution-body-re-lax/
LOCATION:Ministry of Beauty\, Europaweg 220\, 7336 AR Apeldoorn\, Gelderland\, Nederland
CATEGORIES:Absolution
ATTACH;FMTTYPE=image/jpeg:https://studioprogramma.absolution.nl/wp-content/uploads/2019/01/Cursus_afbeeldingen_BodyscrubenHamman.jpg
ORGANIZER;CN="Absolution":MAILTO:info@absolution.nl
GEO:52.1926836;5.9329345
X-APPLE-STRUCTURED-LOCATION;VALUE=URI;X-ADDRESS=Ministry of Beauty Europaweg 220 7336 AR Apeldoorn Gelderland Nederland;X-APPLE-RADIUS=500;X-TITLE=Europaweg 220:geo:5.9329345,52.1926836
END:VEVENT
BEGIN:VEVENT
DTSTART;TZID=Europe/Helsinki:20240528T100000
DTEND;TZID=Europe/Helsinki:20240528T160000
DTSTAMP:20260422T124835
CREATED:20231115T144914Z
LAST-MODIFIED:20240524T081403Z
UID:6177-1716890400-1716912000@studioprogramma.absolution.nl
SUMMARY:Absolution - Detox and Calming massage
DESCRIPTION:In deze training leer en ervaar je 2 nieuwe massages: intensieve\, afvoerende massagetechnieken die specifiek zijn afgestemd op het detoxen van de huid\nen zachte\, afvoerende massagetechnieken om de kwetsbare huid te kalmeren en te herstellen. Model: nee
URL:https://studioprogramma.absolution.nl/workshops/absolution-detox-and-calming-massage-2/
LOCATION:Ministry of Beauty\, Europaweg 220\, 7336 AR Apeldoorn\, Gelderland\, Nederland
CATEGORIES:Absolution
ATTACH;FMTTYPE=image/jpeg:https://studioprogramma.absolution.nl/wp-content/uploads/2019/01/Cursus_afbeeldingen_Nieuwprotocol.jpg
ORGANIZER;CN="Absolution":MAILTO:info@absolution.nl
GEO:52.1926836;5.9329345
X-APPLE-STRUCTURED-LOCATION;VALUE=URI;X-ADDRESS=Ministry of Beauty Europaweg 220 7336 AR Apeldoorn Gelderland Nederland;X-APPLE-RADIUS=500;X-TITLE=Europaweg 220:geo:5.9329345,52.1926836
END:VEVENT
BEGIN:VEVENT
DTSTART;TZID=Europe/Helsinki:20240529T080000
DTEND;TZID=Europe/Helsinki:20240529T170000
DTSTAMP:20260422T124835
CREATED:20231115T144913Z
LAST-MODIFIED:20231115T144913Z
UID:6211-1716969600-1717002000@studioprogramma.absolution.nl
SUMMARY:Absolution - Kansa Wand massage
DESCRIPTION:Je leert en ervaart een unieke massage techniek waarbij we gebruik maken van een beauty tool voor in de cabine: de Kansa Wand. Deze massage helpt bij het verwijderen van opgebouwde afvalstoffen in het weefsel door ze los te maken en af te voeren. Ook werken we op het ontspannen van de spieren in het gezicht\,\nhals en decolleté\, voor die prachtige glow! Model: nee
URL:https://studioprogramma.absolution.nl/workshops/absolution-kansa-wand-massage/
LOCATION:Ministry of Beauty\, Europaweg 220\, 7336 AR Apeldoorn\, Gelderland\, Nederland
CATEGORIES:Absolution
ATTACH;FMTTYPE=image/jpeg:https://studioprogramma.absolution.nl/wp-content/uploads/2020/01/Cursus_afbeeldingen_jan2020_Bodyrestart.jpg
ORGANIZER;CN="Absolution":MAILTO:info@absolution.nl
GEO:52.1926836;5.9329345
X-APPLE-STRUCTURED-LOCATION;VALUE=URI;X-ADDRESS=Ministry of Beauty Europaweg 220 7336 AR Apeldoorn Gelderland Nederland;X-APPLE-RADIUS=500;X-TITLE=Europaweg 220:geo:5.9329345,52.1926836
END:VEVENT
END:VCALENDAR