BEGIN:VCALENDAR
VERSION:2.0
PRODID:-//Studioprogramma Absolution - ECPv6.2.5//NONSGML v1.0//EN
CALSCALE:GREGORIAN
METHOD:PUBLISH
X-WR-CALNAME:Studioprogramma Absolution
X-ORIGINAL-URL:https://studioprogramma.absolution.nl
X-WR-CALDESC:Evenementen voor Studioprogramma Absolution
REFRESH-INTERVAL;VALUE=DURATION:PT1H
X-Robots-Tag:noindex
X-PUBLISHED-TTL:PT1H
BEGIN:VTIMEZONE
TZID:Europe/Helsinki
BEGIN:DAYLIGHT
TZOFFSETFROM:+0200
TZOFFSETTO:+0300
TZNAME:EEST
DTSTART:20240331T010000
END:DAYLIGHT
BEGIN:STANDARD
TZOFFSETFROM:+0300
TZOFFSETTO:+0200
TZNAME:EET
DTSTART:20241027T010000
END:STANDARD
END:VTIMEZONE
BEGIN:VEVENT
DTSTART;TZID=Europe/Helsinki:20240604T100000
DTEND;TZID=Europe/Helsinki:20240604T160000
DTSTAMP:20260422T110441
CREATED:20231115T144912Z
LAST-MODIFIED:20240530T140642Z
UID:6258-1717495200-1717516800@studioprogramma.absolution.nl
SUMMARY:Absolution - Body Re-Start
DESCRIPTION:In deze training leer je de droge borstel techniek\, gecombineerd met een\nenergie gevende massage\, bestaande uit onder andere voetreflexologie en\nrektechnieken. Je klant voelt zich weer als herboren!\nModel: ja
URL:https://studioprogramma.absolution.nl/workshops/absolution-body-re-start/
LOCATION:Ministry of Beauty\, Europaweg 220\, 7336 AR Apeldoorn\, Gelderland\, Nederland
CATEGORIES:Absolution
ATTACH;FMTTYPE=image/webp:https://studioprogramma.absolution.nl/wp-content/uploads/2024/05/La-Brosse.webp
ORGANIZER;CN="Absolution":MAILTO:info@absolution.nl
GEO:52.1926836;5.9329345
X-APPLE-STRUCTURED-LOCATION;VALUE=URI;X-ADDRESS=Ministry of Beauty Europaweg 220 7336 AR Apeldoorn Gelderland Nederland;X-APPLE-RADIUS=500;X-TITLE=Europaweg 220:geo:5.9329345,52.1926836
END:VEVENT
BEGIN:VEVENT
DTSTART;TZID=Europe/Helsinki:20240610T100000
DTEND;TZID=Europe/Helsinki:20240610T160000
DTSTAMP:20260422T110441
CREATED:20231115T144911Z
LAST-MODIFIED:20240530T135703Z
UID:6292-1718013600-1718035200@studioprogramma.absolution.nl
SUMMARY:Absolution - Verkoop training
DESCRIPTION:In deze training leer je over je eigen grenzen te stappen om tegemoet te kunnen komen aan de behoeftes van jouw klant. Je leert het beste uit jezelf te halen als Absolution huidspecialist\, zonder uit te gaan van aannames.
URL:https://studioprogramma.absolution.nl/workshops/absolution-verkoop-training/
LOCATION:Ministry of Beauty\, Europaweg 220\, 7336 AR Apeldoorn\, Gelderland\, Nederland
CATEGORIES:Absolution
ATTACH;FMTTYPE=image/png:https://studioprogramma.absolution.nl/wp-content/uploads/2024/05/Afbeelding2.png
ORGANIZER;CN="Absolution":MAILTO:info@absolution.nl
GEO:52.1926836;5.9329345
X-APPLE-STRUCTURED-LOCATION;VALUE=URI;X-ADDRESS=Ministry of Beauty Europaweg 220 7336 AR Apeldoorn Gelderland Nederland;X-APPLE-RADIUS=500;X-TITLE=Europaweg 220:geo:5.9329345,52.1926836
END:VEVENT
BEGIN:VEVENT
DTSTART;TZID=Europe/Helsinki:20240611T100000
DTEND;TZID=Europe/Helsinki:20240611T160000
DTSTAMP:20260422T110441
CREATED:20231115T144914Z
LAST-MODIFIED:20240530T135205Z
UID:6189-1718100000-1718121600@studioprogramma.absolution.nl
SUMMARY:Absolution - Gymnastiek voor je huid
DESCRIPTION:Je leert en ervaart een unieke spiermassage techniek gericht op het trainen van de gezichtsspieren\, waarbij de focus ligt op het verstevigen en liften van de huid\nen het verminderen van spierspanningen. Model: nee
URL:https://studioprogramma.absolution.nl/workshops/absolution-gymnastiek-voor-je-huid-4/
LOCATION:Ministry of Beauty\, Europaweg 220\, 7336 AR Apeldoorn\, Gelderland\, Nederland
CATEGORIES:Absolution
ATTACH;FMTTYPE=image/webp:https://studioprogramma.absolution.nl/wp-content/uploads/2024/05/Sans-titre-11-compressed.webp
ORGANIZER;CN="Absolution":MAILTO:info@absolution.nl
GEO:52.1926836;5.9329345
X-APPLE-STRUCTURED-LOCATION;VALUE=URI;X-ADDRESS=Ministry of Beauty Europaweg 220 7336 AR Apeldoorn Gelderland Nederland;X-APPLE-RADIUS=500;X-TITLE=Europaweg 220:geo:5.9329345,52.1926836
END:VEVENT
BEGIN:VEVENT
DTSTART;TZID=Europe/Helsinki:20240612T100000
DTEND;TZID=Europe/Helsinki:20240612T160000
DTSTAMP:20260422T110441
CREATED:20231115T144913Z
LAST-MODIFIED:20240530T134336Z
UID:6205-1718186400-1718208000@studioprogramma.absolution.nl
SUMMARY:Absolution - Face Sculpting
DESCRIPTION:Je leert en ervaart een exclusieve massage techniek\, waarbij wij naast de spieren van decolleté\, hals\, nek\, gezicht en hoofd ook de binnenkant van de wangen en de kauwspieren los masseren. Deze “buccal massage” is erg gewild vanwege de direct zichtbare en langdurige effectiviteit ten aanzien van huid- en contourverbetering en geeft een super anti-stress werking. Model: nee.                                                                                                         Belangrijk! Voorwaarde voor deelname: Je dient de training ‘Gymnastiek voor de huid’ gevolgd te hebben!
URL:https://studioprogramma.absolution.nl/workshops/absolution-face-sculpting/
LOCATION:Ministry of Beauty\, Europaweg 220\, 7336 AR Apeldoorn\, Gelderland\, Nederland
CATEGORIES:Absolution
ATTACH;FMTTYPE=image/jpeg:https://studioprogramma.absolution.nl/wp-content/uploads/2024/05/MASQUE-1.jpg
ORGANIZER;CN="Absolution":MAILTO:info@absolution.nl
GEO:52.1926836;5.9329345
X-APPLE-STRUCTURED-LOCATION;VALUE=URI;X-ADDRESS=Ministry of Beauty Europaweg 220 7336 AR Apeldoorn Gelderland Nederland;X-APPLE-RADIUS=500;X-TITLE=Europaweg 220:geo:5.9329345,52.1926836
END:VEVENT
BEGIN:VEVENT
DTSTART;TZID=Europe/Helsinki:20240617T100000
DTEND;TZID=Europe/Helsinki:20240617T160000
DTSTAMP:20260422T110441
CREATED:20231115T144913Z
LAST-MODIFIED:20231115T144913Z
UID:6228-1718618400-1718640000@studioprogramma.absolution.nl
SUMMARY:Absolution - Facial Cupping
DESCRIPTION:In deze training leer en ervaar je een huid verbeterende gezichtsmassage met\nonze Absolution facial cups. Door deze intensieve massage worden spieren en\nhuid soepel gemaakt\, stimuleren we de bloedsomloop en het lymfatisch systeem\nen werken we op het liften en verstevigen van de huid.\nModel: nee
URL:https://studioprogramma.absolution.nl/workshops/absolution-facial-cupping/
LOCATION:Ministry of Beauty\, Europaweg 220\, 7336 AR Apeldoorn\, Gelderland\, Nederland
CATEGORIES:Absolution
ATTACH;FMTTYPE=image/jpeg:https://studioprogramma.absolution.nl/wp-content/uploads/2022/06/studio.jpg
ORGANIZER;CN="Absolution":MAILTO:info@absolution.nl
GEO:52.1926836;5.9329345
X-APPLE-STRUCTURED-LOCATION;VALUE=URI;X-ADDRESS=Ministry of Beauty Europaweg 220 7336 AR Apeldoorn Gelderland Nederland;X-APPLE-RADIUS=500;X-TITLE=Europaweg 220:geo:5.9329345,52.1926836
END:VEVENT
BEGIN:VEVENT
DTSTART;TZID=Europe/Helsinki:20240619T100000
DTEND;TZID=Europe/Helsinki:20240619T160000
DTSTAMP:20260422T110441
CREATED:20231115T144912Z
LAST-MODIFIED:20240530T134125Z
UID:6274-1718791200-1718812800@studioprogramma.absolution.nl
SUMMARY:Absolution - Basis theorie refresh training
DESCRIPTION:Voor de Absolution huidspecialist die haar kennis over de Absolution filosofie en producten op wil frissen. Tijdens deze training worden alle nieuwe producten behandeld en herhalen we de filosofie en alle producten met hun specifieke werkingen en toepassingen.
URL:https://studioprogramma.absolution.nl/workshops/absolution-basis-theorie-refresh-training-2/
LOCATION:Ministry of Beauty\, Europaweg 220\, 7336 AR Apeldoorn\, Gelderland\, Nederland
CATEGORIES:Absolution
ORGANIZER;CN="Absolution":MAILTO:info@absolution.nl
GEO:52.1926836;5.9329345
X-APPLE-STRUCTURED-LOCATION;VALUE=URI;X-ADDRESS=Ministry of Beauty Europaweg 220 7336 AR Apeldoorn Gelderland Nederland;X-APPLE-RADIUS=500;X-TITLE=Europaweg 220:geo:5.9329345,52.1926836
END:VEVENT
BEGIN:VEVENT
DTSTART;TZID=Europe/Helsinki:20240620T100000
DTEND;TZID=Europe/Helsinki:20240620T160000
DTSTAMP:20260422T110441
CREATED:20231115T144914Z
LAST-MODIFIED:20240530T133827Z
UID:6171-1718877600-1718899200@studioprogramma.absolution.nl
SUMMARY:Absolution - Refresh basis praktijk training
DESCRIPTION:Voor de huidprofessional die de unieke Absolution behandelmethoden wil herhalen\, perfectioneren en ervaren. Tijdens deze training ga je werken en ervaren.\nWe behandelen alle productgroepen volgens de unieke Absolution filosofie. Model: nee
URL:https://studioprogramma.absolution.nl/workshops/absolution-refresh-basis-praktijk-training-3/
LOCATION:Ministry of Beauty\, Europaweg 220\, 7336 AR Apeldoorn\, Gelderland\, Nederland
CATEGORIES:Absolution
ORGANIZER;CN="Absolution":MAILTO:info@absolution.nl
GEO:52.1926836;5.9329345
X-APPLE-STRUCTURED-LOCATION;VALUE=URI;X-ADDRESS=Ministry of Beauty Europaweg 220 7336 AR Apeldoorn Gelderland Nederland;X-APPLE-RADIUS=500;X-TITLE=Europaweg 220:geo:5.9329345,52.1926836
END:VEVENT
BEGIN:VEVENT
DTSTART;TZID=Europe/Helsinki:20240627T100000
DTEND;TZID=Europe/Helsinki:20240627T160000
DTSTAMP:20260422T110441
CREATED:20231115T144912Z
LAST-MODIFIED:20240530T133608Z
UID:6235-1719482400-1719504000@studioprogramma.absolution.nl
SUMMARY:Absolution - Upsell training
DESCRIPTION:Deze dag leer en ervaar je hoe je korte applicaties kunt toevoegen aan je\nbehandelingen. We behandelen het oogcontour en we schenken extra aandacht\naan handen en decolleté.\nModel: nee
URL:https://studioprogramma.absolution.nl/workshops/absolution-upsell-training/
LOCATION:Ministry of Beauty\, Europaweg 220\, 7336 AR Apeldoorn\, Gelderland\, Nederland
CATEGORIES:Absolution
ATTACH;FMTTYPE=image/jpeg:https://studioprogramma.absolution.nl/wp-content/uploads/2024/05/56271ef5-1924-4a4e-ae6e-9636a7065f7b.jpeg
ORGANIZER;CN="Absolution":MAILTO:info@absolution.nl
GEO:52.1926836;5.9329345
X-APPLE-STRUCTURED-LOCATION;VALUE=URI;X-ADDRESS=Ministry of Beauty Europaweg 220 7336 AR Apeldoorn Gelderland Nederland;X-APPLE-RADIUS=500;X-TITLE=Europaweg 220:geo:5.9329345,52.1926836
END:VEVENT
END:VCALENDAR