BEGIN:VCALENDAR
VERSION:2.0
PRODID:-//Studioprogramma Absolution - ECPv6.2.5//NONSGML v1.0//EN
CALSCALE:GREGORIAN
METHOD:PUBLISH
X-WR-CALNAME:Studioprogramma Absolution
X-ORIGINAL-URL:https://studioprogramma.absolution.nl
X-WR-CALDESC:Evenementen voor Studioprogramma Absolution
REFRESH-INTERVAL;VALUE=DURATION:PT1H
X-Robots-Tag:noindex
X-PUBLISHED-TTL:PT1H
BEGIN:VTIMEZONE
TZID:Europe/Helsinki
BEGIN:DAYLIGHT
TZOFFSETFROM:+0200
TZOFFSETTO:+0300
TZNAME:EEST
DTSTART:20240331T010000
END:DAYLIGHT
BEGIN:STANDARD
TZOFFSETFROM:+0300
TZOFFSETTO:+0200
TZNAME:EET
DTSTART:20241027T010000
END:STANDARD
END:VTIMEZONE
BEGIN:VEVENT
DTSTART;TZID=Europe/Helsinki:20240909T100000
DTEND;TZID=Europe/Helsinki:20240909T160000
DTSTAMP:20260422T055628
CREATED:20240524T090313Z
LAST-MODIFIED:20240524T090313Z
UID:7356-1725876000-1725897600@studioprogramma.absolution.nl
SUMMARY:Absolution - Refresh basis theorie training - 9 september
DESCRIPTION:Voor de Absolution huidspecialist die haar kennis over de Absolution filosofie en producten op wil frissen. TIjdens deze training worden alle nieuwe producten behandeld en herhalen we de filosofie en alle producten met hun specifieke werkingen en toepassingen.
URL:https://studioprogramma.absolution.nl/workshops/absolution-refresh-basis-theorie-training-9-september/
LOCATION:Ministry of Beauty\, Europaweg 220\, 7336 AR Apeldoorn\, Gelderland\, Nederland
CATEGORIES:Absolution
ATTACH;FMTTYPE=image/jpeg:https://studioprogramma.absolution.nl/wp-content/uploads/2024/05/SERUM_ANTI_SOIF_modele_3_web_absolution.jpg
ORGANIZER;CN="Absolution":MAILTO:info@absolution.nl
GEO:52.1926836;5.9329345
X-APPLE-STRUCTURED-LOCATION;VALUE=URI;X-ADDRESS=Ministry of Beauty Europaweg 220 7336 AR Apeldoorn Gelderland Nederland;X-APPLE-RADIUS=500;X-TITLE=Europaweg 220:geo:5.9329345,52.1926836
END:VEVENT
BEGIN:VEVENT
DTSTART;TZID=Europe/Helsinki:20240910T100000
DTEND;TZID=Europe/Helsinki:20240910T160000
DTSTAMP:20260422T055628
CREATED:20240524T090313Z
LAST-MODIFIED:20240524T090313Z
UID:7361-1725962400-1725984000@studioprogramma.absolution.nl
SUMMARY:Absolution - Refresh basis praktijk training - 10 september
DESCRIPTION:Voor de huidprofessional die de unieke Absolution behandelmethoden wil herhalen\, perfectioneren en ervaren. Tijdens deze training ga je werken en ervaren. We behandelen alle productgroepen volgens de unieke Absolution filosofie. Model: nee
URL:https://studioprogramma.absolution.nl/workshops/absolution-refresh-basis-praktijk-training-10-september/
LOCATION:Ministry of Beauty\, Europaweg 220\, 7336 AR Apeldoorn\, Gelderland\, Nederland
CATEGORIES:Absolution
ATTACH;FMTTYPE=image/webp:https://studioprogramma.absolution.nl/wp-content/uploads/2024/05/face-yoga.webp
ORGANIZER;CN="Absolution":MAILTO:info@absolution.nl
GEO:52.1926836;5.9329345
X-APPLE-STRUCTURED-LOCATION;VALUE=URI;X-ADDRESS=Ministry of Beauty Europaweg 220 7336 AR Apeldoorn Gelderland Nederland;X-APPLE-RADIUS=500;X-TITLE=Europaweg 220:geo:5.9329345,52.1926836
END:VEVENT
BEGIN:VEVENT
DTSTART;TZID=Europe/Helsinki:20240916T100000
DTEND;TZID=Europe/Helsinki:20240916T160000
DTSTAMP:20260422T055628
CREATED:20240524T090313Z
LAST-MODIFIED:20240524T090313Z
UID:7366-1726480800-1726502400@studioprogramma.absolution.nl
SUMMARY:Absolution - Kansa wand massage training - 16 september
DESCRIPTION:Je leert en ervaart een unieke massage techniek waarbij we gebruik maken van een beauty tool voor in de cabine: de Kansa Wand. Deze massage helpt bij het verwijderen van opgebouwde afvalstoffen in het weefsel door ze los te maken en af te voeren. Ook werken we op het ontspannen van de spieren in het gezicht\, hals en decolleté\, voor die prachtige glow! Model: nee
URL:https://studioprogramma.absolution.nl/workshops/absolution-kansa-wand-massage-training-16-september/
LOCATION:Ministry of Beauty\, Europaweg 220\, 7336 AR Apeldoorn\, Gelderland\, Nederland
CATEGORIES:Absolution
ATTACH;FMTTYPE=image/webp:https://studioprogramma.absolution.nl/wp-content/uploads/2024/05/routine_peau_visage_30_ans_bio_absolution-1152x710-c.webp
ORGANIZER;CN="Absolution":MAILTO:info@absolution.nl
GEO:52.1926836;5.9329345
X-APPLE-STRUCTURED-LOCATION;VALUE=URI;X-ADDRESS=Ministry of Beauty Europaweg 220 7336 AR Apeldoorn Gelderland Nederland;X-APPLE-RADIUS=500;X-TITLE=Europaweg 220:geo:5.9329345,52.1926836
END:VEVENT
BEGIN:VEVENT
DTSTART;TZID=Europe/Helsinki:20240917T100000
DTEND;TZID=Europe/Helsinki:20240917T160000
DTSTAMP:20260422T055628
CREATED:20240524T090313Z
LAST-MODIFIED:20240524T090313Z
UID:7370-1726567200-1726588800@studioprogramma.absolution.nl
SUMMARY:Absolution - Facial cupping training - 17 september
DESCRIPTION:In deze training leer en ervaar je een huid verbeterende gezichtsmassage met onze Absolution facial cups. Door deze intensieve massage worden spieren en huid soepel gemaakt\, stimuleren we de bloedsomloop en het lymfatisch systeem en werken we op het liften en verstevigen van de huid.      Model: nee
URL:https://studioprogramma.absolution.nl/workshops/absolution-facial-cupping-training-17-september/
LOCATION:Ministry of Beauty\, Europaweg 220\, 7336 AR Apeldoorn\, Gelderland\, Nederland
CATEGORIES:Absolution
ATTACH;FMTTYPE=image/jpeg:https://studioprogramma.absolution.nl/wp-content/uploads/2024/05/MULTICO_10_modele_web_absolution.jpg
ORGANIZER;CN="Absolution":MAILTO:info@absolution.nl
GEO:52.1926836;5.9329345
X-APPLE-STRUCTURED-LOCATION;VALUE=URI;X-ADDRESS=Ministry of Beauty Europaweg 220 7336 AR Apeldoorn Gelderland Nederland;X-APPLE-RADIUS=500;X-TITLE=Europaweg 220:geo:5.9329345,52.1926836
END:VEVENT
BEGIN:VEVENT
DTSTART;TZID=Europe/Helsinki:20240918T100000
DTEND;TZID=Europe/Helsinki:20240918T160000
DTSTAMP:20260422T055628
CREATED:20240524T090313Z
LAST-MODIFIED:20240524T090313Z
UID:7374-1726653600-1726675200@studioprogramma.absolution.nl
SUMMARY:Absolution - Verkoop training - 18 september
DESCRIPTION:In deze training leer je over je eigen grenzen te stappen om tegemoet te kunnen komen aan de behoeftes van jouw klant. Je leert het beste uit jezelf te halen als Absolution huidspecialist\, zonder uit te gaan van aannames.
URL:https://studioprogramma.absolution.nl/workshops/absolution-verkoop-training-18-september/
LOCATION:Ministry of Beauty\, Europaweg 220\, 7336 AR Apeldoorn\, Gelderland\, Nederland
CATEGORIES:Absolution
ATTACH;FMTTYPE=image/png:https://studioprogramma.absolution.nl/wp-content/uploads/2024/05/Afbeelding2.png
ORGANIZER;CN="Absolution":MAILTO:info@absolution.nl
GEO:52.1926836;5.9329345
X-APPLE-STRUCTURED-LOCATION;VALUE=URI;X-ADDRESS=Ministry of Beauty Europaweg 220 7336 AR Apeldoorn Gelderland Nederland;X-APPLE-RADIUS=500;X-TITLE=Europaweg 220:geo:5.9329345,52.1926836
END:VEVENT
BEGIN:VEVENT
DTSTART;TZID=Europe/Helsinki:20240925T080000
DTEND;TZID=Europe/Helsinki:20240925T170000
DTSTAMP:20260422T055628
CREATED:20240524T090313Z
LAST-MODIFIED:20240524T090313Z
UID:7378-1727251200-1727283600@studioprogramma.absolution.nl
SUMMARY:Absolution - Gymnastiek voor je huid - 25 september
DESCRIPTION:Je leert en ervaart een unieke spiermassage techniek gericht op het trainen van de gezichtsspieren\, waarbij de focus ligt op het  verstevigen en liften van de huid en het verminderen van spierspanningen.   Model: nee
URL:https://studioprogramma.absolution.nl/workshops/absolution-gymnastiek-voor-je-huid-25-september/
LOCATION:Ministry of Beauty\, Europaweg 220\, 7336 AR Apeldoorn\, Gelderland\, Nederland
CATEGORIES:Absolution
ATTACH;FMTTYPE=image/webp:https://studioprogramma.absolution.nl/wp-content/uploads/2024/05/soin-anti-age-efficace-1000x1000-1152x710-c.webp
ORGANIZER;CN="Absolution":MAILTO:info@absolution.nl
GEO:52.1926836;5.9329345
X-APPLE-STRUCTURED-LOCATION;VALUE=URI;X-ADDRESS=Ministry of Beauty Europaweg 220 7336 AR Apeldoorn Gelderland Nederland;X-APPLE-RADIUS=500;X-TITLE=Europaweg 220:geo:5.9329345,52.1926836
END:VEVENT
BEGIN:VEVENT
DTSTART;TZID=Europe/Helsinki:20240926T100000
DTEND;TZID=Europe/Helsinki:20240926T160000
DTSTAMP:20260422T055628
CREATED:20240524T090313Z
LAST-MODIFIED:20240524T090313Z
UID:7382-1727344800-1727366400@studioprogramma.absolution.nl
SUMMARY:Absolution - Face sculpting training - 26 september
DESCRIPTION:Je leert en ervaart een exclusieve massage techniek\, waarbij wij naast de spieren van decolleté\, hals\, nek\, gezicht en hoofd ook de binnenkant van de wangen en de kauwspieren los masseren. Deze “buccal massage” is erg gewild vanwege de direct zichtbare en langdurige effectiviteit ten aanzien van huid- en contourverbetering en geeft een super anti-stress werking. Model: nee                                                        Belangrijk! Voorwaarde voor deelname: Je dient de training ‘Gymnastiek voor de huid’ gevolgd te hebben.   
URL:https://studioprogramma.absolution.nl/workshops/absolution-face-sculpting-training-26-september/
LOCATION:Ministry of Beauty\, Europaweg 220\, 7336 AR Apeldoorn\, Gelderland\, Nederland
CATEGORIES:Absolution
ATTACH;FMTTYPE=image/jpeg:https://studioprogramma.absolution.nl/wp-content/uploads/2024/05/56271ef5-1924-4a4e-ae6e-9636a7065f7b.jpeg
ORGANIZER;CN="Absolution":MAILTO:info@absolution.nl
GEO:52.1926836;5.9329345
X-APPLE-STRUCTURED-LOCATION;VALUE=URI;X-ADDRESS=Ministry of Beauty Europaweg 220 7336 AR Apeldoorn Gelderland Nederland;X-APPLE-RADIUS=500;X-TITLE=Europaweg 220:geo:5.9329345,52.1926836
END:VEVENT
END:VCALENDAR