BEGIN:VCALENDAR
VERSION:2.0
PRODID:-//Studioprogramma Absolution - ECPv6.2.5//NONSGML v1.0//EN
CALSCALE:GREGORIAN
METHOD:PUBLISH
X-ORIGINAL-URL:https://studioprogramma.absolution.nl
X-WR-CALDESC:Evenementen voor Studioprogramma Absolution
REFRESH-INTERVAL;VALUE=DURATION:PT1H
X-Robots-Tag:noindex
X-PUBLISHED-TTL:PT1H
BEGIN:VTIMEZONE
TZID:Europe/Helsinki
BEGIN:DAYLIGHT
TZOFFSETFROM:+0200
TZOFFSETTO:+0300
TZNAME:EEST
DTSTART:20240331T010000
END:DAYLIGHT
BEGIN:STANDARD
TZOFFSETFROM:+0300
TZOFFSETTO:+0200
TZNAME:EET
DTSTART:20241027T010000
END:STANDARD
END:VTIMEZONE
BEGIN:VEVENT
DTSTART;TZID=Europe/Helsinki:20241002T100000
DTEND;TZID=Europe/Helsinki:20241002T160000
DTSTAMP:20260422T042544
CREATED:20240524T090313Z
LAST-MODIFIED:20240524T092437Z
UID:7386-1727863200-1727884800@studioprogramma.absolution.nl
SUMMARY:Absolution - Detox & Calming massage - 2 oktober
DESCRIPTION:In deze training leer en ervaar je 2 nieuwe massages: intensieve\, afvoerende massagetechnieken die specifiek zijn afgestemd op het detoxen van de huid en zachte\, afvoerende massagetechnieken om de kwetsbare huid te kalmeren en te herstellen.   Model: nee
URL:https://studioprogramma.absolution.nl/workshops/absolution-detox-calming-massage-2-oktober/
LOCATION:Ministry of Beauty\, Europaweg 220\, 7336 AR Apeldoorn\, Gelderland\, Nederland
CATEGORIES:Absolution
ATTACH;FMTTYPE=image/jpeg:https://studioprogramma.absolution.nl/wp-content/uploads/2024/05/Image_carree_0001_Absolution_stillife_PAXAddiction.jpg
ORGANIZER;CN="Absolution":MAILTO:info@absolution.nl
GEO:52.1926836;5.9329345
X-APPLE-STRUCTURED-LOCATION;VALUE=URI;X-ADDRESS=Ministry of Beauty Europaweg 220 7336 AR Apeldoorn Gelderland Nederland;X-APPLE-RADIUS=500;X-TITLE=Europaweg 220:geo:5.9329345,52.1926836
END:VEVENT
BEGIN:VEVENT
DTSTART;TZID=Europe/Helsinki:20241003T100000
DTEND;TZID=Europe/Helsinki:20241003T160000
DTSTAMP:20260422T042544
CREATED:20240524T090314Z
LAST-MODIFIED:20240524T090314Z
UID:7391-1727949600-1727971200@studioprogramma.absolution.nl
SUMMARY:Absolution - Body Hamam training - 3 oktober
DESCRIPTION:In deze training leer en ervaar je een diep reinigende en ontspannen body deelbehandeling\, bestaande uit droog borstelen\, een bodyscrub en zeepritueel met ontspanningsmassage. Model: nee
URL:https://studioprogramma.absolution.nl/workshops/absolution-body-hamam-training-3-oktober/
LOCATION:Ministry of Beauty\, Europaweg 220\, 7336 AR Apeldoorn\, Gelderland\, Nederland
CATEGORIES:Absolution
ATTACH;FMTTYPE=image/webp:https://studioprogramma.absolution.nl/wp-content/uploads/2024/05/La-Brosse.webp
ORGANIZER;CN="Absolution":MAILTO:info@absolution.nl
GEO:52.1926836;5.9329345
X-APPLE-STRUCTURED-LOCATION;VALUE=URI;X-ADDRESS=Ministry of Beauty Europaweg 220 7336 AR Apeldoorn Gelderland Nederland;X-APPLE-RADIUS=500;X-TITLE=Europaweg 220:geo:5.9329345,52.1926836
END:VEVENT
BEGIN:VEVENT
DTSTART;TZID=Europe/Helsinki:20241014T100000
DTEND;TZID=Europe/Helsinki:20241014T160000
DTSTAMP:20260422T042544
CREATED:20240524T090314Z
LAST-MODIFIED:20240716T082217Z
UID:7395-1728900000-1728921600@studioprogramma.absolution.nl
SUMMARY:Absolution - Tools training - 14 oktober
DESCRIPTION:In deze training leer en ervaar je de verschillende behandeltechnieken behorende bij Le Stylet Précision\, Le Gua Sha\, Le Roll-On Drainant en Les Cryo Spoons. Je leert meer over drukpunten en meridianen gebaseerd op de oosterse geneeskunde. Model: nee
URL:https://studioprogramma.absolution.nl/workshops/absolution-tools-training-14-oktober/
LOCATION:Ministry of Beauty\, Europaweg 220\, 7336 AR Apeldoorn\, Gelderland\, Nederland
CATEGORIES:Absolution
ATTACH;FMTTYPE=image/jpeg:https://studioprogramma.absolution.nl/wp-content/uploads/2024/05/Stillife_GUASHA_accessoire_seul_web.jpg
ORGANIZER;CN="Absolution":MAILTO:info@absolution.nl
GEO:52.1926836;5.9329345
X-APPLE-STRUCTURED-LOCATION;VALUE=URI;X-ADDRESS=Ministry of Beauty Europaweg 220 7336 AR Apeldoorn Gelderland Nederland;X-APPLE-RADIUS=500;X-TITLE=Europaweg 220:geo:5.9329345,52.1926836
END:VEVENT
BEGIN:VEVENT
DTSTART;TZID=Europe/Helsinki:20241017T100000
DTEND;TZID=Europe/Helsinki:20241017T160000
DTSTAMP:20260422T042544
CREATED:20240524T090314Z
LAST-MODIFIED:20240524T090314Z
UID:7399-1729159200-1729180800@studioprogramma.absolution.nl
SUMMARY:Absolution - Upsell training - 17 oktober
DESCRIPTION:Deze dag leer en ervaar je hoe je korte applicaties kunt toevoegen aan je behandelingen. We behandelen het oogcontour en we schenken extra aandacht aan handen en decolleté.   Model: nee
URL:https://studioprogramma.absolution.nl/workshops/absolution-upsell-training-17-oktober/
LOCATION:Ministry of Beauty\, Europaweg 220\, 7336 AR Apeldoorn\, Gelderland\, Nederland
CATEGORIES:Absolution
ORGANIZER;CN="Absolution":MAILTO:info@absolution.nl
GEO:52.1926836;5.9329345
X-APPLE-STRUCTURED-LOCATION;VALUE=URI;X-ADDRESS=Ministry of Beauty Europaweg 220 7336 AR Apeldoorn Gelderland Nederland;X-APPLE-RADIUS=500;X-TITLE=Europaweg 220:geo:5.9329345,52.1926836
END:VEVENT
BEGIN:VEVENT
DTSTART;TZID=Europe/Helsinki:20241021T100000
DTEND;TZID=Europe/Helsinki:20241021T160000
DTSTAMP:20260422T042544
CREATED:20240524T090314Z
LAST-MODIFIED:20240524T090948Z
UID:7403-1729504800-1729526400@studioprogramma.absolution.nl
SUMMARY:Absolution - Body Re-Lax training - 21 oktober
DESCRIPTION:In deze training leer je ontspannende massage technieken waaronder een voetmassage en een hoofdhuid massagetechniek geïnspireerd door de traditioneel Japanse geneeskunde\, met als doel het harmoniseren van de energie in het lichaam en het kalmeren van de geest.  Model: ja
URL:https://studioprogramma.absolution.nl/workshops/absolution-body-re-lax-training/
LOCATION:Ministry of Beauty\, Europaweg 220\, 7336 AR Apeldoorn\, Gelderland\, Nederland
CATEGORIES:Absolution
ATTACH;FMTTYPE=image/jpeg:https://studioprogramma.absolution.nl/wp-content/uploads/2024/05/LAIT_PEAU_DOUCE_modele1_web_absolution.jpg
ORGANIZER;CN="Absolution":MAILTO:info@absolution.nl
GEO:52.1926836;5.9329345
X-APPLE-STRUCTURED-LOCATION;VALUE=URI;X-ADDRESS=Ministry of Beauty Europaweg 220 7336 AR Apeldoorn Gelderland Nederland;X-APPLE-RADIUS=500;X-TITLE=Europaweg 220:geo:5.9329345,52.1926836
END:VEVENT
BEGIN:VEVENT
DTSTART;TZID=Europe/Helsinki:20241022T100000
DTEND;TZID=Europe/Helsinki:20241022T160000
DTSTAMP:20260422T042544
CREATED:20240524T090314Z
LAST-MODIFIED:20240524T090314Z
UID:7407-1729591200-1729612800@studioprogramma.absolution.nl
SUMMARY:Absolution - Body Re-Start - 22 oktober
DESCRIPTION:In deze training leer je de droge borstel techniek\, gecombineerd met een energie gevende massage\, bestaande uit onder andere voetreflexologie en rektechnieken. Je klant voelt zich weer als herboren!  Model: ja
URL:https://studioprogramma.absolution.nl/workshops/absolution-body-re-start-22-oktober/
LOCATION:Ministry of Beauty\, Europaweg 220\, 7336 AR Apeldoorn\, Gelderland\, Nederland
CATEGORIES:Absolution
ATTACH;FMTTYPE=image/jpeg:https://studioprogramma.absolution.nl/wp-content/uploads/2024/05/0001_absolution_brosse_corps_1.jpg
ORGANIZER;CN="Absolution":MAILTO:info@absolution.nl
GEO:52.1926836;5.9329345
X-APPLE-STRUCTURED-LOCATION;VALUE=URI;X-ADDRESS=Ministry of Beauty Europaweg 220 7336 AR Apeldoorn Gelderland Nederland;X-APPLE-RADIUS=500;X-TITLE=Europaweg 220:geo:5.9329345,52.1926836
END:VEVENT
BEGIN:VEVENT
DTSTART;TZID=Europe/Helsinki:20241023T100000
DTEND;TZID=Europe/Helsinki:20241023T160000
DTSTAMP:20260422T042544
CREATED:20240524T090314Z
LAST-MODIFIED:20241009T142939Z
UID:7411-1729677600-1729699200@studioprogramma.absolution.nl
SUMMARY:Absolution - Body Re-Sculpt training - 23 oktober
DESCRIPTION:In deze training leer en ervaar je een intensieve body reiniging gecombineerd met cupping massage op het lichaam. In te zetten als body detox of contour verbeterende behandeling.  Model: Nee
URL:https://studioprogramma.absolution.nl/workshops/absolution-body-re-sculpt-training-23-oktober/
LOCATION:Ministry of Beauty\, Europaweg 220\, 7336 AR Apeldoorn\, Gelderland\, Nederland
CATEGORIES:Absolution
ATTACH;FMTTYPE=image/jpeg:https://studioprogramma.absolution.nl/wp-content/uploads/2022/06/studio.jpg
ORGANIZER;CN="Absolution":MAILTO:info@absolution.nl
GEO:52.1926836;5.9329345
X-APPLE-STRUCTURED-LOCATION;VALUE=URI;X-ADDRESS=Ministry of Beauty Europaweg 220 7336 AR Apeldoorn Gelderland Nederland;X-APPLE-RADIUS=500;X-TITLE=Europaweg 220:geo:5.9329345,52.1926836
END:VEVENT
END:VCALENDAR