BEGIN:VCALENDAR
VERSION:2.0
PRODID:-//Studioprogramma Absolution - ECPv6.2.5//NONSGML v1.0//EN
CALSCALE:GREGORIAN
METHOD:PUBLISH
X-ORIGINAL-URL:https://studioprogramma.absolution.nl
X-WR-CALDESC:Evenementen voor Studioprogramma Absolution
REFRESH-INTERVAL;VALUE=DURATION:PT1H
X-Robots-Tag:noindex
X-PUBLISHED-TTL:PT1H
BEGIN:VTIMEZONE
TZID:Europe/Helsinki
BEGIN:DAYLIGHT
TZOFFSETFROM:+0200
TZOFFSETTO:+0300
TZNAME:EEST
DTSTART:20250330T010000
END:DAYLIGHT
BEGIN:STANDARD
TZOFFSETFROM:+0300
TZOFFSETTO:+0200
TZNAME:EET
DTSTART:20251026T010000
END:STANDARD
END:VTIMEZONE
BEGIN:VEVENT
DTSTART;TZID=Europe/Helsinki:20250204T100000
DTEND;TZID=Europe/Helsinki:20250204T160000
DTSTAMP:20260421T221745
CREATED:20241021T083311Z
LAST-MODIFIED:20241021T083311Z
UID:8430-1738663200-1738684800@studioprogramma.absolution.nl
SUMMARY:Absolution - Basis Theorie Refresh training - 4 februari 2025
DESCRIPTION:Voor de Absolution-huidspecialist die haar kennis over de Absolution-filosofie en producten wil opfrissen. In deze training worden alle nieuwe producten behandeld en herhalen we de filosofie\, inclusief de specifieke werkingen en toepassingen van alle producten.
URL:https://studioprogramma.absolution.nl/workshops/absolution-basis-theorie-refresh-training-4-februari-2025/
LOCATION:Absolution Studio – Apeldoorn\, Europaweg 220\, Apeldoorn\, Gelderland\, 7336 AR\, Nederland
CATEGORIES:Absolution
ATTACH;FMTTYPE=image/jpeg:https://studioprogramma.absolution.nl/wp-content/uploads/2024/10/2024__Creme_Douce_Demaq_Creme_Soir_Creme_Beau_Jour©LaurenceRevol_LIFESTYLE-02-scaled.jpg
ORGANIZER;CN="Absolution":MAILTO:info@absolution.nl
GEO:52.1926836;5.9329345
X-APPLE-STRUCTURED-LOCATION;VALUE=URI;X-ADDRESS=Absolution Studio – Apeldoorn Europaweg 220 Apeldoorn Gelderland 7336 AR Nederland;X-APPLE-RADIUS=500;X-TITLE=Europaweg 220:geo:5.9329345,52.1926836
END:VEVENT
BEGIN:VEVENT
DTSTART;TZID=Europe/Helsinki:20250205T100000
DTEND;TZID=Europe/Helsinki:20250205T160000
DTSTAMP:20260421T221745
CREATED:20241021T083312Z
LAST-MODIFIED:20241021T083312Z
UID:8163-1738749600-1738771200@studioprogramma.absolution.nl
SUMMARY:Absolution - Refresh basis praktijk training - 5 februari 2025
DESCRIPTION:Voor de huidprofessional die de unieke Absolution-behandelmethoden wil herhalen\, perfectioneren en ervaren. Tijdens deze training ga je aan de slag met alle productgroepen volgens de Absolution-filosofie\, met extra aandacht voor het verfijnen van de technieken.    Model: Nee
URL:https://studioprogramma.absolution.nl/workshops/absolution-refresh-basis-praktijk-training-5-februari-2025/
LOCATION:Absolution Studio – Apeldoorn\, Europaweg 220\, Apeldoorn\, Gelderland\, 7336 AR\, Nederland
CATEGORIES:Absolution
ATTACH;FMTTYPE=image/jpeg:https://studioprogramma.absolution.nl/wp-content/uploads/2024/10/2024_Nettoyant_Purete_©LaurenceRevol_STUDIO-134-scaled.jpg
ORGANIZER;CN="Absolution":MAILTO:info@absolution.nl
GEO:52.1926836;5.9329345
X-APPLE-STRUCTURED-LOCATION;VALUE=URI;X-ADDRESS=Absolution Studio – Apeldoorn Europaweg 220 Apeldoorn Gelderland 7336 AR Nederland;X-APPLE-RADIUS=500;X-TITLE=Europaweg 220:geo:5.9329345,52.1926836
END:VEVENT
BEGIN:VEVENT
DTSTART;TZID=Europe/Helsinki:20250213T100000
DTEND;TZID=Europe/Helsinki:20250213T160000
DTSTAMP:20260421T221745
CREATED:20241021T083311Z
LAST-MODIFIED:20241021T121606Z
UID:8452-1739440800-1739462400@studioprogramma.absolution.nl
SUMMARY:Absolution - Boost Your Business - Driedaagse Training
DESCRIPTION:Ontdek onze NIEUWE! driedaagse training die jouw onderneming naar een hoger niveau tilt! \nIn deze actieve\, interactieve en eerlijke training krijg je inzichten die je direct kunt toepassen. Deze training draait helemaal om jou als ondernemer en geeft jou de tools om meer uit jouw bedrijf te halen en nóg succesvoller te worden! \nWanneer je je inschrijft ben je automatisch voor alle drie de dagen aangemeld: 13 februari\, 13 maart en 17 april
URL:https://studioprogramma.absolution.nl/workshops/absolution-boost-your-business-driedaagse-training/
LOCATION:Absolution Studio – Apeldoorn\, Europaweg 220\, Apeldoorn\, Gelderland\, 7336 AR\, Nederland
CATEGORIES:Absolution
ORGANIZER;CN="Absolution":MAILTO:info@absolution.nl
GEO:52.1926836;5.9329345
X-APPLE-STRUCTURED-LOCATION;VALUE=URI;X-ADDRESS=Absolution Studio – Apeldoorn Europaweg 220 Apeldoorn Gelderland 7336 AR Nederland;X-APPLE-RADIUS=500;X-TITLE=Europaweg 220:geo:5.9329345,52.1926836
END:VEVENT
BEGIN:VEVENT
DTSTART;TZID=Europe/Helsinki:20250217T100000
DTEND;TZID=Europe/Helsinki:20250217T160000
DTSTAMP:20260421T221745
CREATED:20241021T083312Z
LAST-MODIFIED:20241021T083312Z
UID:8173-1739786400-1739808000@studioprogramma.absolution.nl
SUMMARY:Absolution - Detox & Calming massage training - 17 februari 2025
DESCRIPTION:In deze training leer en ervaar je twee nieuwe massages: intensieve\, afvoerende massagetechnieken specifiek gericht op het detoxen van de huid\, en zachte\, kalmerende massagetechnieken om de kwetsbare huid te herstellen en te verzachten.    Model: Nee
URL:https://studioprogramma.absolution.nl/workshops/absolution-detox-calming-massage-training-17-februari-2025/
LOCATION:Absolution Studio – Apeldoorn\, Europaweg 220\, Apeldoorn\, Gelderland\, 7336 AR\, Nederland
CATEGORIES:Absolution
ATTACH;FMTTYPE=image/jpeg:https://studioprogramma.absolution.nl/wp-content/uploads/2024/10/2023_PAX_louiseskadhauge-04.jpg
GEO:52.1926836;5.9329345
X-APPLE-STRUCTURED-LOCATION;VALUE=URI;X-ADDRESS=Absolution Studio – Apeldoorn Europaweg 220 Apeldoorn Gelderland 7336 AR Nederland;X-APPLE-RADIUS=500;X-TITLE=Europaweg 220:geo:5.9329345,52.1926836
END:VEVENT
BEGIN:VEVENT
DTSTART;TZID=Europe/Helsinki:20250218T100000
DTEND;TZID=Europe/Helsinki:20250218T160000
DTSTAMP:20260421T221745
CREATED:20241021T083311Z
LAST-MODIFIED:20250127T155815Z
UID:8273-1739872800-1739894400@studioprogramma.absolution.nl
SUMMARY:Absolution - Tools training - 18 februari 2025
DESCRIPTION:In deze training maak je kennis met verschillende behandeltechnieken die horen bij Le Stylet Précision en  Le GuaSha. Je leert werken met drukpunten en meridianen\, geïnspireerd door de principes van de oosterse geneeskunde.  Model: Nee
URL:https://studioprogramma.absolution.nl/workshops/absolution-tools-training-18-februari-2025/
LOCATION:Absolution Studio – Apeldoorn\, Europaweg 220\, Apeldoorn\, Gelderland\, 7336 AR\, Nederland
CATEGORIES:Absolution
ATTACH;FMTTYPE=image/jpeg:https://studioprogramma.absolution.nl/wp-content/uploads/2024/05/Stillife_GUASHA_accessoire_seul_web.jpg
ORGANIZER;CN="Absolution":MAILTO:info@absolution.nl
GEO:52.1926836;5.9329345
X-APPLE-STRUCTURED-LOCATION;VALUE=URI;X-ADDRESS=Absolution Studio – Apeldoorn Europaweg 220 Apeldoorn Gelderland 7336 AR Nederland;X-APPLE-RADIUS=500;X-TITLE=Europaweg 220:geo:5.9329345,52.1926836
END:VEVENT
BEGIN:VEVENT
DTSTART;TZID=Europe/Helsinki:20250220T100000
DTEND;TZID=Europe/Helsinki:20250220T160000
DTSTAMP:20260421T221745
CREATED:20241021T083311Z
LAST-MODIFIED:20241021T083311Z
UID:8438-1740045600-1740067200@studioprogramma.absolution.nl
SUMMARY:Absolution - Verkoop training - 20 februari 2025
DESCRIPTION:In deze training leer je om je eigen grenzen te verleggen en in te spelen op de behoeften van jouw klant. Je haalt het beste uit jezelf als Absolution-huidspecialist\, zonder uit te gaan van aannames.
URL:https://studioprogramma.absolution.nl/workshops/absolution-verkoop-training-20-februari-2025/
LOCATION:Absolution Studio – Apeldoorn\, Europaweg 220\, Apeldoorn\, Gelderland\, 7336 AR\, Nederland
CATEGORIES:Absolution
ATTACH;FMTTYPE=image/jpeg:https://studioprogramma.absolution.nl/wp-content/uploads/2024/10/2024_EAU_SOIR_ET_MATIN_©LaurenceRevol_08-scaled.jpg
ORGANIZER;CN="Absolution":MAILTO:info@absolution.nl
GEO:52.1926836;5.9329345
X-APPLE-STRUCTURED-LOCATION;VALUE=URI;X-ADDRESS=Absolution Studio – Apeldoorn Europaweg 220 Apeldoorn Gelderland 7336 AR Nederland;X-APPLE-RADIUS=500;X-TITLE=Europaweg 220:geo:5.9329345,52.1926836
END:VEVENT
BEGIN:VEVENT
DTSTART;TZID=Europe/Helsinki:20250226T100000
DTEND;TZID=Europe/Helsinki:20250226T160000
DTSTAMP:20260421T221745
CREATED:20241021T083312Z
LAST-MODIFIED:20241021T083312Z
UID:8191-1740564000-1740585600@studioprogramma.absolution.nl
SUMMARY:Absolution - Gymnastiek voor je huid REFRESH - 26 februari 2025
DESCRIPTION:Verdiepingstraining waarbij de focus ligt op het perfectioneren en verfijnen van technieken. Herhaal en ervaar opnieuw de unieke massagetechnieken\, gericht op het trainen en in conditie houden van de gezichtsspieren. De nadruk ligt op het verstevigen en liften van de huid en het verminderen van spierspanningen.  Model: nee \nVoorwaarde voor deelname: Je dient de training ‘Gymnastiek voor de huid’ gevolgd te hebben
URL:https://studioprogramma.absolution.nl/workshops/absolution-gymnastiek-voor-je-huid-refresh-26-februari-2025/
LOCATION:Absolution Studio – Apeldoorn\, Europaweg 220\, Apeldoorn\, Gelderland\, 7336 AR\, Nederland
CATEGORIES:Absolution
ORGANIZER;CN="Absolution":MAILTO:info@absolution.nl
GEO:52.1926836;5.9329345
X-APPLE-STRUCTURED-LOCATION;VALUE=URI;X-ADDRESS=Absolution Studio – Apeldoorn Europaweg 220 Apeldoorn Gelderland 7336 AR Nederland;X-APPLE-RADIUS=500;X-TITLE=Europaweg 220:geo:5.9329345,52.1926836
END:VEVENT
BEGIN:VEVENT
DTSTART;TZID=Europe/Helsinki:20250227T100000
DTEND;TZID=Europe/Helsinki:20250227T160000
DTSTAMP:20260421T221745
CREATED:20241021T083312Z
LAST-MODIFIED:20241021T083312Z
UID:8207-1740650400-1740672000@studioprogramma.absolution.nl
SUMMARY:Absolution - Face Sculpting REFRESH - 27 februari 2025
DESCRIPTION:Een herhaling van de exclusieve Face Sculpting-techniek\, inclusief de gewilde “buccal massage”. Deze training biedt de kans om je vaardigheden verder te perfectioneren\, met focus op huid- en contourverbetering en een krachtige anti-stress werking.   Model: Nee \nVoorwaarde voor deelname: Je dient de training ‘ Gymnastiek voor je huid en Face Sculpting’ gevolgd te hebben
URL:https://studioprogramma.absolution.nl/workshops/absolution-face-sculpting-refresh-27-februari-2025/
LOCATION:Absolution Studio – Apeldoorn\, Europaweg 220\, Apeldoorn\, Gelderland\, 7336 AR\, Nederland
CATEGORIES:Absolution
ORGANIZER;CN="Absolution":MAILTO:info@absolution.nl
GEO:52.1926836;5.9329345
X-APPLE-STRUCTURED-LOCATION;VALUE=URI;X-ADDRESS=Absolution Studio – Apeldoorn Europaweg 220 Apeldoorn Gelderland 7336 AR Nederland;X-APPLE-RADIUS=500;X-TITLE=Europaweg 220:geo:5.9329345,52.1926836
END:VEVENT
END:VCALENDAR