BEGIN:VCALENDAR
VERSION:2.0
PRODID:-//Studioprogramma Absolution - ECPv6.2.5//NONSGML v1.0//EN
CALSCALE:GREGORIAN
METHOD:PUBLISH
X-WR-CALNAME:Studioprogramma Absolution
X-ORIGINAL-URL:https://studioprogramma.absolution.nl
X-WR-CALDESC:Evenementen voor Studioprogramma Absolution
REFRESH-INTERVAL;VALUE=DURATION:PT1H
X-Robots-Tag:noindex
X-PUBLISHED-TTL:PT1H
BEGIN:VTIMEZONE
TZID:Europe/Helsinki
BEGIN:DAYLIGHT
TZOFFSETFROM:+0200
TZOFFSETTO:+0300
TZNAME:EEST
DTSTART:20250330T010000
END:DAYLIGHT
BEGIN:STANDARD
TZOFFSETFROM:+0300
TZOFFSETTO:+0200
TZNAME:EET
DTSTART:20251026T010000
END:STANDARD
END:VTIMEZONE
BEGIN:VEVENT
DTSTART;TZID=Europe/Helsinki:20250401T100000
DTEND;TZID=Europe/Helsinki:20250401T160000
DTSTAMP:20260421T190328
CREATED:20241021T083311Z
LAST-MODIFIED:20241021T083311Z
UID:8421-1743501600-1743523200@studioprogramma.absolution.nl
SUMMARY:Absolution - Body Re-Start training - 1 april 2025
DESCRIPTION:In deze training leer je de droge borsteltechniek\, gecombineerd met een energie gevende massage die onder andere voetreflexologie en rektechnieken omvat. Je klant zal zich als herboren voelen!   Model: Ja
URL:https://studioprogramma.absolution.nl/workshops/absolution-body-re-start-training-1-april-2025/
LOCATION:Absolution Studio – Apeldoorn\, Europaweg 220\, Apeldoorn\, Gelderland\, 7336 AR\, Nederland
CATEGORIES:Absolution
ATTACH;FMTTYPE=image/webp:https://studioprogramma.absolution.nl/wp-content/uploads/2024/05/La-Brosse.webp
ORGANIZER;CN="Absolution":MAILTO:info@absolution.nl
GEO:52.1926836;5.9329345
X-APPLE-STRUCTURED-LOCATION;VALUE=URI;X-ADDRESS=Absolution Studio – Apeldoorn Europaweg 220 Apeldoorn Gelderland 7336 AR Nederland;X-APPLE-RADIUS=500;X-TITLE=Europaweg 220:geo:5.9329345,52.1926836
END:VEVENT
BEGIN:VEVENT
DTSTART;TZID=Europe/Helsinki:20250402T100000
DTEND;TZID=Europe/Helsinki:20250402T160000
DTSTAMP:20260421T190328
CREATED:20241021T083311Z
LAST-MODIFIED:20241115T111747Z
UID:8269-1743588000-1743609600@studioprogramma.absolution.nl
SUMMARY:Absolution - Upsell training - 2 april 2025
DESCRIPTION:Tijdens deze training leer je hoe je korte applicaties kunt toevoegen aan je behandelingen. We richten ons op het oogcontour met twee mooie massages en besteden extra aandacht aan de verzorging van de handen en het decolleté.   Model: Nee
URL:https://studioprogramma.absolution.nl/workshops/absolution-upsell-training-3-april-2025/
LOCATION:Absolution Studio – Apeldoorn\, Europaweg 220\, Apeldoorn\, Gelderland\, 7336 AR\, Nederland
CATEGORIES:Absolution
ATTACH;FMTTYPE=image/jpeg:https://studioprogramma.absolution.nl/wp-content/uploads/2024/10/©LaurenceRevol_ABSOLUTION_2024mimi-LIFESTYLE-29-scaled.jpg
ORGANIZER;CN="Absolution":MAILTO:info@absolution.nl
GEO:52.1926836;5.9329345
X-APPLE-STRUCTURED-LOCATION;VALUE=URI;X-ADDRESS=Absolution Studio – Apeldoorn Europaweg 220 Apeldoorn Gelderland 7336 AR Nederland;X-APPLE-RADIUS=500;X-TITLE=Europaweg 220:geo:5.9329345,52.1926836
END:VEVENT
BEGIN:VEVENT
DTSTART;TZID=Europe/Helsinki:20250408T100000
DTEND;TZID=Europe/Helsinki:20250408T160000
DTSTAMP:20260421T190328
CREATED:20241021T083311Z
LAST-MODIFIED:20241021T083311Z
UID:8442-1744106400-1744128000@studioprogramma.absolution.nl
SUMMARY:Absolution - Verkoop Training - 8 april 2025
DESCRIPTION:In deze training leer je om je eigen grenzen te verleggen en in te spelen op de behoeften van jouw klant. Je haalt het beste uit jezelf als Absolution-huidspecialist\, zonder uit te gaan van aannames.
URL:https://studioprogramma.absolution.nl/workshops/absolution-verkoop-training-8-april-2025/
LOCATION:Absolution Studio – Apeldoorn\, Europaweg 220\, Apeldoorn\, Gelderland\, 7336 AR\, Nederland
CATEGORIES:Absolution
ATTACH;FMTTYPE=image/jpeg:https://studioprogramma.absolution.nl/wp-content/uploads/2024/10/2024_EAU_SOIR_ET_MATIN_©LaurenceRevol_08-scaled.jpg
ORGANIZER;CN="Absolution":MAILTO:info@absolution.nl
GEO:52.1926836;5.9329345
X-APPLE-STRUCTURED-LOCATION;VALUE=URI;X-ADDRESS=Absolution Studio – Apeldoorn Europaweg 220 Apeldoorn Gelderland 7336 AR Nederland;X-APPLE-RADIUS=500;X-TITLE=Europaweg 220:geo:5.9329345,52.1926836
END:VEVENT
BEGIN:VEVENT
DTSTART;TZID=Europe/Helsinki:20250422T100000
DTEND;TZID=Europe/Helsinki:20250422T160000
DTSTAMP:20260421T190328
CREATED:20241021T083312Z
LAST-MODIFIED:20241021T083312Z
UID:8187-1745316000-1745337600@studioprogramma.absolution.nl
SUMMARY:Absolution - Gymnastiek voor je huid - 22 april 2025
DESCRIPTION:Je leert en ervaart een unieke massagetechniek\, gericht op het trainen en in conditie houden van de gezichtsspieren. De focus ligt op het verstevigen en liften van de huid\, en het verminderen van spierspanningen.    Model: Nee \nVoor deze training is het van belang dat je nagels kort zijn.
URL:https://studioprogramma.absolution.nl/workshops/absolution-gymnastiek-voor-je-huid-22-april-2025/
LOCATION:Absolution Studio – Apeldoorn\, Europaweg 220\, Apeldoorn\, Gelderland\, 7336 AR\, Nederland
CATEGORIES:Absolution
ORGANIZER;CN="Absolution":MAILTO:info@absolution.nl
GEO:52.1926836;5.9329345
X-APPLE-STRUCTURED-LOCATION;VALUE=URI;X-ADDRESS=Absolution Studio – Apeldoorn Europaweg 220 Apeldoorn Gelderland 7336 AR Nederland;X-APPLE-RADIUS=500;X-TITLE=Europaweg 220:geo:5.9329345,52.1926836
END:VEVENT
BEGIN:VEVENT
DTSTART;TZID=Europe/Helsinki:20250423T100000
DTEND;TZID=Europe/Helsinki:20250423T160000
DTSTAMP:20260421T190328
CREATED:20241021T083312Z
LAST-MODIFIED:20241021T083312Z
UID:8203-1745402400-1745424000@studioprogramma.absolution.nl
SUMMARY:Absolution - Face Sculpting - 23 april 2025
DESCRIPTION:Je leert en ervaart een exclusieve massagetechniek waarbij niet alleen de spieren van het decolleté\, de hals\, nek\, gezicht en het hoofd worden gemasseerd\, maar ook de binnenkant van de wangen en de kauwspieren. Deze zogenaamde “buccal massage” is zeer gewild vanwege de direct zichtbare en langdurige resultaten op het gebied van huid- en contourverbetering\, en biedt bovendien een krachtige anti-stress werking.     Model: Nee\nVoorwaarde voor deelname: Je dient de training ‘Gymnastiek voor de huid’ gevolgd te hebben
URL:https://studioprogramma.absolution.nl/workshops/absolution-face-sculpting-23-april-2025/
LOCATION:Absolution Studio – Apeldoorn\, Europaweg 220\, Apeldoorn\, Gelderland\, 7336 AR\, Nederland
CATEGORIES:Absolution
ORGANIZER;CN="Absolution":MAILTO:info@absolution.nl
GEO:52.1926836;5.9329345
X-APPLE-STRUCTURED-LOCATION;VALUE=URI;X-ADDRESS=Absolution Studio – Apeldoorn Europaweg 220 Apeldoorn Gelderland 7336 AR Nederland;X-APPLE-RADIUS=500;X-TITLE=Europaweg 220:geo:5.9329345,52.1926836
END:VEVENT
END:VCALENDAR