BEGIN:VCALENDAR
VERSION:2.0
PRODID:-//Studioprogramma Absolution - ECPv6.2.5//NONSGML v1.0//EN
CALSCALE:GREGORIAN
METHOD:PUBLISH
X-ORIGINAL-URL:https://studioprogramma.absolution.nl
X-WR-CALDESC:Evenementen voor Studioprogramma Absolution
REFRESH-INTERVAL;VALUE=DURATION:PT1H
X-Robots-Tag:noindex
X-PUBLISHED-TTL:PT1H
BEGIN:VTIMEZONE
TZID:Europe/Helsinki
BEGIN:DAYLIGHT
TZOFFSETFROM:+0200
TZOFFSETTO:+0300
TZNAME:EEST
DTSTART:20250330T010000
END:DAYLIGHT
BEGIN:STANDARD
TZOFFSETFROM:+0300
TZOFFSETTO:+0200
TZNAME:EET
DTSTART:20251026T010000
END:STANDARD
END:VTIMEZONE
BEGIN:VEVENT
DTSTART;TZID=Europe/Helsinki:20250611T100000
DTEND;TZID=Europe/Helsinki:20250611T160000
DTSTAMP:20260421T155033
CREATED:20241021T083312Z
LAST-MODIFIED:20250225T160846Z
UID:8195-1749636000-1749657600@studioprogramma.absolution.nl
SUMMARY:Absolution - Gymnastiek voor je huid | Advanced - 11 juni 2025
DESCRIPTION:Verdiep en perfectioneer jouw vaardigheden met deze exclusieve vervolgtraining! Tijdens deze Advanced training bouw je voort op de basistechnieken van Gymnastiek voor je huid en leer je aanvullende en verfijnde massagemethoden\, waaronder een nieuwe Gua Sha-techniek. Model niet nodig – technieken worden geoefend op elkaar. \nWat biedt deze training jou?\n– Geavanceerde technieken voor een nóg intensievere gezichtsworkout\n– Nieuwe Gua Sha-massage om spieren te ontspannen en drainage te bevorderen\n– Extra focus op verstevigende ingrediënten voor zichtbare huidverbetering\n– Vermindering van spierspanning voor een ontspannen uitstraling\nVoorwaarde voor deelname: je hebt eerder de training Gymnastiek voor je huid afgerond. \nBreng je techniek naar een hoger niveau en ervaar de ultieme gymnastiek voor jouw huid!
URL:https://studioprogramma.absolution.nl/workshops/absolution-gymnastiek-voor-je-huid-refresh-11-juni-2025/
LOCATION:Absolution Studio – Apeldoorn\, Europaweg 220\, Apeldoorn\, Gelderland\, 7336 AR\, Nederland
CATEGORIES:Absolution
ORGANIZER;CN="Absolution":MAILTO:info@absolution.nl
GEO:52.1926836;5.9329345
X-APPLE-STRUCTURED-LOCATION;VALUE=URI;X-ADDRESS=Absolution Studio – Apeldoorn Europaweg 220 Apeldoorn Gelderland 7336 AR Nederland;X-APPLE-RADIUS=500;X-TITLE=Europaweg 220:geo:5.9329345,52.1926836
END:VEVENT
BEGIN:VEVENT
DTSTART;TZID=Europe/Helsinki:20250612T100000
DTEND;TZID=Europe/Helsinki:20250612T160000
DTSTAMP:20260421T155033
CREATED:20241021T083312Z
LAST-MODIFIED:20250225T160128Z
UID:8211-1749722400-1749744000@studioprogramma.absolution.nl
SUMMARY:Absolution - Face Sculpting | Advanced - 12 juni 2025
DESCRIPTION:Verdiep en perfectioneer jouw vaardigheden met deze exclusieve vervolgtraining! Tijdens deze Advanced training bouw je voort op de basistechnieken van Face Sculpting en leer je aanvullende en verfijnde methoden\, waaronder een nieuwe Gua Sha-techniek. Breng je techniek naar een hoger niveau en ontdek de ultieme combinatie van ontspanning en huidverbetering! Model niet nodig – technieken worden geoefend op elkaar. \nWat biedt deze training jou?\n– Verfijning en verdieping van je Face Sculpting-technieken\n– Nieuwe Gua Sha-massage voor spierontspanning en drainage\n– Extra focus op huidverstevigende ingrediënten en contourverbetering\n– Krachtige anti-stress werking voor een ontspannen en frisse uitstraling \nVoorwaarde voor deelname: je hebt eerder de training Gymnastiek voor je huid & Face Sculpting afgerond. \n 
URL:https://studioprogramma.absolution.nl/workshops/absolution-face-sculpting-refresh-12-juni-2025/
LOCATION:Absolution Studio – Apeldoorn\, Europaweg 220\, Apeldoorn\, Gelderland\, 7336 AR\, Nederland
CATEGORIES:Absolution
ATTACH;FMTTYPE=image/jpeg:https://studioprogramma.absolution.nl/wp-content/uploads/2024/10/2024_Creme_du_Temps_©LaurenceRevol_LIFESTYLE_01-scaled.jpg
ORGANIZER;CN="Absolution":MAILTO:info@absolution.nl
GEO:52.1926836;5.9329345
X-APPLE-STRUCTURED-LOCATION;VALUE=URI;X-ADDRESS=Absolution Studio – Apeldoorn Europaweg 220 Apeldoorn Gelderland 7336 AR Nederland;X-APPLE-RADIUS=500;X-TITLE=Europaweg 220:geo:5.9329345,52.1926836
END:VEVENT
BEGIN:VEVENT
DTSTART;TZID=Europe/Helsinki:20250619T100000
DTEND;TZID=Europe/Helsinki:20250619T160000
DTSTAMP:20260421T155033
CREATED:20241021T083311Z
LAST-MODIFIED:20250320T161042Z
UID:8418-1750327200-1750348800@studioprogramma.absolution.nl
SUMMARY:Absolution - Body Re-Lax training - 19 juni 2025
DESCRIPTION:In deze training leer je ontspannende massagetechnieken\, waaronder een voetmassage en een hoofdhuidmassagetechniek geïnspireerd door de traditionele Japanse geneeskunde. Het doel is om de energie in het lichaam te harmoniseren en de geest te kalmeren.   Model: Ja
URL:https://studioprogramma.absolution.nl/workshops/absolution-body-re-lax-training-19-juni-2025/
LOCATION:Absolution Studio – Apeldoorn\, Europaweg 220\, Apeldoorn\, Gelderland\, 7336 AR\, Nederland
CATEGORIES:Absolution
ATTACH;FMTTYPE=image/jpeg:https://studioprogramma.absolution.nl/wp-content/uploads/2024/10/2024_Savons_Noir_et_Blanc_©LaurenceRevol_LIFESTYLE-116-scaled.jpg
ORGANIZER;CN="Absolution":MAILTO:info@absolution.nl
GEO:52.1926836;5.9329345
X-APPLE-STRUCTURED-LOCATION;VALUE=URI;X-ADDRESS=Absolution Studio – Apeldoorn Europaweg 220 Apeldoorn Gelderland 7336 AR Nederland;X-APPLE-RADIUS=500;X-TITLE=Europaweg 220:geo:5.9329345,52.1926836
END:VEVENT
BEGIN:VEVENT
DTSTART;TZID=Europe/Helsinki:20250623T100000
DTEND;TZID=Europe/Helsinki:20250623T160000
DTSTAMP:20260421T155033
CREATED:20241021T083311Z
LAST-MODIFIED:20241021T083311Z
UID:8458-1750672800-1750694400@studioprogramma.absolution.nl
SUMMARY:Absolution - Verkoop training - 23 juni 2025
DESCRIPTION:In deze training leer je om je eigen grenzen te verleggen en in te spelen op de behoeften van jouw klant. Je haalt het beste uit jezelf als Absolution-huidspecialist\, zonder uit te gaan van aannames.
URL:https://studioprogramma.absolution.nl/workshops/absolution-verkoop-training-23-juni-2025/
LOCATION:Absolution Studio – Apeldoorn\, Europaweg 220\, Apeldoorn\, Gelderland\, 7336 AR\, Nederland
CATEGORIES:Absolution
ATTACH;FMTTYPE=image/jpeg:https://studioprogramma.absolution.nl/wp-content/uploads/2024/10/2024__Creme_Douce_Demaq_Creme_Soir_Creme_Beau_Jour©LaurenceRevol_LIFESTYLE-02-scaled.jpg
ORGANIZER;CN="Absolution":MAILTO:info@absolution.nl
GEO:52.1926836;5.9329345
X-APPLE-STRUCTURED-LOCATION;VALUE=URI;X-ADDRESS=Absolution Studio – Apeldoorn Europaweg 220 Apeldoorn Gelderland 7336 AR Nederland;X-APPLE-RADIUS=500;X-TITLE=Europaweg 220:geo:5.9329345,52.1926836
END:VEVENT
BEGIN:VEVENT
DTSTART;TZID=Europe/Helsinki:20250625T100000
DTEND;TZID=Europe/Helsinki:20250625T160000
DTSTAMP:20260421T155033
CREATED:20241021T083311Z
LAST-MODIFIED:20241021T083311Z
UID:8424-1750845600-1750867200@studioprogramma.absolution.nl
SUMMARY:Absolution - Body Re-Start training - 25 juni 2025
DESCRIPTION:In deze training leer je de droge borsteltechniek\, gecombineerd met een energie gevende massage die onder andere voetreflexologie en rektechnieken omvat. Je klant zal zich als herboren voelen!   Model: Ja
URL:https://studioprogramma.absolution.nl/workshops/absolution-body-re-start-training-25-juni-2025/
LOCATION:Absolution Studio – Apeldoorn\, Europaweg 220\, Apeldoorn\, Gelderland\, 7336 AR\, Nederland
CATEGORIES:Absolution
ATTACH;FMTTYPE=image/webp:https://studioprogramma.absolution.nl/wp-content/uploads/2024/05/La-Brosse.webp
ORGANIZER;CN="Absolution":MAILTO:info@absolution.nl
GEO:52.1926836;5.9329345
X-APPLE-STRUCTURED-LOCATION;VALUE=URI;X-ADDRESS=Absolution Studio – Apeldoorn Europaweg 220 Apeldoorn Gelderland 7336 AR Nederland;X-APPLE-RADIUS=500;X-TITLE=Europaweg 220:geo:5.9329345,52.1926836
END:VEVENT
END:VCALENDAR