BEGIN:VCALENDAR
VERSION:2.0
PRODID:-//Studioprogramma Absolution - ECPv6.2.5//NONSGML v1.0//EN
CALSCALE:GREGORIAN
METHOD:PUBLISH
X-WR-CALNAME:Studioprogramma Absolution
X-ORIGINAL-URL:https://studioprogramma.absolution.nl
X-WR-CALDESC:Evenementen voor Studioprogramma Absolution
REFRESH-INTERVAL;VALUE=DURATION:PT1H
X-Robots-Tag:noindex
X-PUBLISHED-TTL:PT1H
BEGIN:VTIMEZONE
TZID:Europe/Helsinki
BEGIN:DAYLIGHT
TZOFFSETFROM:+0200
TZOFFSETTO:+0300
TZNAME:EEST
DTSTART:20220327T010000
END:DAYLIGHT
BEGIN:STANDARD
TZOFFSETFROM:+0300
TZOFFSETTO:+0200
TZNAME:EET
DTSTART:20221030T010000
END:STANDARD
END:VTIMEZONE
BEGIN:VEVENT
DTSTART;TZID=Europe/Helsinki:20220906T100000
DTEND;TZID=Europe/Helsinki:20220906T160000
DTSTAMP:20260423T223107
CREATED:20220620T141828Z
LAST-MODIFIED:20220624T093107Z
UID:3802-1662458400-1662480000@studioprogramma.absolution.nl
SUMMARY:Absolution Gymnastiek voor de huid Training - dinsdag 6 september
DESCRIPTION:Voor iedereen die de basistraining reeds gevolgd heeft en behoefte heeft aan een behandeling die meer gericht is op veroudering en verslapping van de huid. Model: nee
URL:https://studioprogramma.absolution.nl/workshops/absolution-gymnastiek-voor-de-huid-training-dinsdag-6-september/
LOCATION:Gelderland
CATEGORIES:Absolution
ATTACH;FMTTYPE=image/jpeg:https://studioprogramma.absolution.nl/wp-content/uploads/2022/06/ourstory051.jpg
END:VEVENT
BEGIN:VEVENT
DTSTART;TZID=Europe/Helsinki:20220906T100000
DTEND;TZID=Europe/Helsinki:20220906T160000
DTSTAMP:20260423T223107
CREATED:20220620T151950Z
LAST-MODIFIED:20220823T101235Z
UID:3820-1662458400-1662480000@studioprogramma.absolution.nl
SUMMARY:Absolution Casus Training - dinsdag 6 september
DESCRIPTION:In deze training behandelen we de verschillende huidbehoeftes  en welke producten hierbij centraal staan en het beste geadviseerd kunnen worden aan de hand van diverse casussen\nModel: niet nodig
URL:https://studioprogramma.absolution.nl/workshops/absolution-casus-training-dinsdag-6-september/
LOCATION:Gelderland
CATEGORIES:Absolution
ATTACH;FMTTYPE=image/jpeg:https://studioprogramma.absolution.nl/wp-content/uploads/2022/06/Cursus_afbeeldingen_refreshtraining.jpg
END:VEVENT
END:VCALENDAR