BEGIN:VCALENDAR
VERSION:2.0
PRODID:-//Studioprogramma Absolution - ECPv6.2.5//NONSGML v1.0//EN
CALSCALE:GREGORIAN
METHOD:PUBLISH
X-ORIGINAL-URL:https://studioprogramma.absolution.nl
X-WR-CALDESC:Evenementen voor Studioprogramma Absolution
REFRESH-INTERVAL;VALUE=DURATION:PT1H
X-Robots-Tag:noindex
X-PUBLISHED-TTL:PT1H
BEGIN:VTIMEZONE
TZID:Europe/Helsinki
BEGIN:DAYLIGHT
TZOFFSETFROM:+0200
TZOFFSETTO:+0300
TZNAME:EEST
DTSTART:20220327T010000
END:DAYLIGHT
BEGIN:STANDARD
TZOFFSETFROM:+0300
TZOFFSETTO:+0200
TZNAME:EET
DTSTART:20221030T010000
END:STANDARD
END:VTIMEZONE
BEGIN:VEVENT
DTSTART;TZID=Europe/Helsinki:20220914T100000
DTEND;TZID=Europe/Helsinki:20220914T160000
DTSTAMP:20260423T223817
CREATED:20220620T152211Z
LAST-MODIFIED:20220620T152211Z
UID:3823-1663149600-1663171200@studioprogramma.absolution.nl
SUMMARY:Absolution Body Re-Sculpt Training met Cupping  - woensdag 14 september
DESCRIPTION:Wij werken met een droge borstel techniek\, cupping en het body scrub protocol. Model: nee
URL:https://studioprogramma.absolution.nl/workshops/absolution-body-re-sculpt-training-met-cupping-woensdag-14-september/
LOCATION:Gelderland
CATEGORIES:Absolution
END:VEVENT
END:VCALENDAR