BEGIN:VCALENDAR
VERSION:2.0
PRODID:-//Studioprogramma Absolution - ECPv6.2.5//NONSGML v1.0//EN
CALSCALE:GREGORIAN
METHOD:PUBLISH
X-WR-CALNAME:Studioprogramma Absolution
X-ORIGINAL-URL:https://studioprogramma.absolution.nl
X-WR-CALDESC:Evenementen voor Studioprogramma Absolution
REFRESH-INTERVAL;VALUE=DURATION:PT1H
X-Robots-Tag:noindex
X-PUBLISHED-TTL:PT1H
BEGIN:VTIMEZONE
TZID:Europe/Helsinki
BEGIN:DAYLIGHT
TZOFFSETFROM:+0200
TZOFFSETTO:+0300
TZNAME:EEST
DTSTART:20220327T010000
END:DAYLIGHT
BEGIN:STANDARD
TZOFFSETFROM:+0300
TZOFFSETTO:+0200
TZNAME:EET
DTSTART:20221030T010000
END:STANDARD
END:VTIMEZONE
BEGIN:VEVENT
DTSTART;TZID=Europe/Helsinki:20220926T100000
DTEND;TZID=Europe/Helsinki:20220926T160000
DTSTAMP:20260423T223209
CREATED:20220620T133644Z
LAST-MODIFIED:20220620T151454Z
UID:3793-1664186400-1664208000@studioprogramma.absolution.nl
SUMMARY:Absolution verkooptraining - maandag 26 september
DESCRIPTION:In deze training leert u over uw eigen grenzen te stappen om tegemoet te komen aan de behoeftes van de klant. U leert het beste uit uzelf te halen. Zonder uit te gaan van aannames.
URL:https://studioprogramma.absolution.nl/workshops/absolution-verkooptraining-maandag-26-september/
LOCATION:Gelderland
CATEGORIES:Absolution
END:VEVENT
BEGIN:VEVENT
DTSTART;TZID=Europe/Helsinki:20220926T100000
DTEND;TZID=Europe/Helsinki:20220926T160000
DTSTAMP:20260423T223209
CREATED:20220620T133955Z
LAST-MODIFIED:20220620T151459Z
UID:3796-1664186400-1664208000@studioprogramma.absolution.nl
SUMMARY:Absolution Refresh Praktijktraining - maandag 26 september
DESCRIPTION:Deze training is geschikt voor iedereen die de basis theorie- en de basis praktijktraining heeft gevolgd en op de hoogte wil blijven van de nieuwste ontwikkelingen van Absolution. Tijdens deze training komen alle nieuwe producten aan bod en wordt er in de praktijk gewerkt. Model: ja
URL:https://studioprogramma.absolution.nl/workshops/absolution-refresh-praktijktraining-maandag-26-september/
LOCATION:Gelderland
CATEGORIES:Absolution
END:VEVENT
END:VCALENDAR