BEGIN:VCALENDAR
VERSION:2.0
PRODID:-//Studioprogramma Absolution - ECPv6.2.5//NONSGML v1.0//EN
CALSCALE:GREGORIAN
METHOD:PUBLISH
X-ORIGINAL-URL:https://studioprogramma.absolution.nl
X-WR-CALDESC:Evenementen voor Studioprogramma Absolution
REFRESH-INTERVAL;VALUE=DURATION:PT1H
X-Robots-Tag:noindex
X-PUBLISHED-TTL:PT1H
BEGIN:VTIMEZONE
TZID:Europe/Helsinki
BEGIN:DAYLIGHT
TZOFFSETFROM:+0200
TZOFFSETTO:+0300
TZNAME:EEST
DTSTART:20220327T010000
END:DAYLIGHT
BEGIN:STANDARD
TZOFFSETFROM:+0300
TZOFFSETTO:+0200
TZNAME:EET
DTSTART:20221030T010000
END:STANDARD
END:VTIMEZONE
BEGIN:VEVENT
DTSTART;TZID=Europe/Helsinki:20221010T100000
DTEND;TZID=Europe/Helsinki:20221010T160000
DTSTAMP:20260423T210044
CREATED:20220622T114451Z
LAST-MODIFIED:20220622T170627Z
UID:3853-1665396000-1665417600@studioprogramma.absolution.nl
SUMMARY:Absolution Basis Theorie Training - 10 oktober
DESCRIPTION:Voor iedereen die gaat starten met Absolution of een totale herhaling wil.\nTijdens deze training komt de filosofie van Absolution aan bod en gaan we dieper in op de producten met hun specifieke werkingen en bijzondere ingrediënten. Model: niet nodig
URL:https://studioprogramma.absolution.nl/workshops/absolution-basis-theorie-training/
LOCATION:Gelderland
CATEGORIES:Absolution
ATTACH;FMTTYPE=image/jpeg:https://studioprogramma.absolution.nl/wp-content/uploads/2022/06/studio.jpg
END:VEVENT
END:VCALENDAR