BEGIN:VCALENDAR
VERSION:2.0
PRODID:-//Studioprogramma Absolution - ECPv6.2.5//NONSGML v1.0//EN
CALSCALE:GREGORIAN
METHOD:PUBLISH
X-ORIGINAL-URL:https://studioprogramma.absolution.nl
X-WR-CALDESC:Evenementen voor Studioprogramma Absolution
REFRESH-INTERVAL;VALUE=DURATION:PT1H
X-Robots-Tag:noindex
X-PUBLISHED-TTL:PT1H
BEGIN:VTIMEZONE
TZID:Europe/Helsinki
BEGIN:DAYLIGHT
TZOFFSETFROM:+0200
TZOFFSETTO:+0300
TZNAME:EEST
DTSTART:20220327T010000
END:DAYLIGHT
BEGIN:STANDARD
TZOFFSETFROM:+0300
TZOFFSETTO:+0200
TZNAME:EET
DTSTART:20221030T010000
END:STANDARD
END:VTIMEZONE
BEGIN:VEVENT
DTSTART;TZID=Europe/Helsinki:20221011T100000
DTEND;TZID=Europe/Helsinki:20221011T160000
DTSTAMP:20260423T210106
CREATED:20220622T114653Z
LAST-MODIFIED:20220624T091839Z
UID:3856-1665482400-1665504000@studioprogramma.absolution.nl
SUMMARY:Absolution Basis Praktijk Training - dinsdag 11 oktober
DESCRIPTION:Het vervolg op de training Basis Theorie en voor de schoonheidsspecialiste die in de salon de Absolution behandelingen gaat geven.\nTijdens deze training gaan we aan het werk met de producten en de massagetechniek volgens het Absolution protocol.\nDeze unieke benadering en manier van werken legt nadruk op resultaat en huidverbetering en verkoop. Model: ja
URL:https://studioprogramma.absolution.nl/workshops/absolution-basis-praktijk-training-dinsdag-11-oktober/
LOCATION:Gelderland
CATEGORIES:Absolution
ATTACH;FMTTYPE=image/jpeg:https://studioprogramma.absolution.nl/wp-content/uploads/2020/01/Cursus_afbeeldingen_jan2020_bodyresculpt.jpg
END:VEVENT
BEGIN:VEVENT
DTSTART;TZID=Europe/Helsinki:20221011T100000
DTEND;TZID=Europe/Helsinki:20221011T160000
DTSTAMP:20260423T210106
CREATED:20220915T090023Z
LAST-MODIFIED:20220915T091921Z
UID:4383-1665482400-1665504000@studioprogramma.absolution.nl
SUMMARY:Absolution Basis Theorie Training - 11 oktober
DESCRIPTION:Voor iedereen die gaat starten met Absolution of een totale herhaling wil. Tijdens deze training komt de filosofie van Absolution aan bod en gaan we dieper in op de producten met hun specifieke werkingen en bijzondere ingrediënten. Model: niet nodig
URL:https://studioprogramma.absolution.nl/workshops/absolution-basis-theorie-training-11-oktober/
LOCATION:Absolution Studio – Apeldoorn\, Europaweg 220\, Apeldoorn\, Gelderland\, 7336 AR\, Nederland
CATEGORIES:Absolution
ATTACH;FMTTYPE=image/jpeg:https://studioprogramma.absolution.nl/wp-content/uploads/2022/06/Cursus_afbeeldingen_refreshtraining.jpg
ORGANIZER;CN="Absolution":MAILTO:info@absolution.nl
GEO:52.1926836;5.9329345
X-APPLE-STRUCTURED-LOCATION;VALUE=URI;X-ADDRESS=Absolution Studio – Apeldoorn Europaweg 220 Apeldoorn Gelderland 7336 AR Nederland;X-APPLE-RADIUS=500;X-TITLE=Europaweg 220:geo:5.9329345,52.1926836
END:VEVENT
BEGIN:VEVENT
DTSTART;TZID=Europe/Helsinki:20221011T100000
DTEND;TZID=Europe/Helsinki:20221011T163000
DTSTAMP:20260423T210106
CREATED:20220825T132820Z
LAST-MODIFIED:20220825T143222Z
UID:4181-1665482400-1665505800@studioprogramma.absolution.nl
SUMMARY:Absolution Face Sculpting - dinsdag 11 oktober - locatie BELGIE
DESCRIPTION:LOCATIE BELGIË:\nFace Sculpting  is een nieuwe exclusieve massage techniek\, waarbij wij naast de spieren van hals\, decolleté\, nek\, gezicht en hoofd ook de binnenkant van de wangen en de kauwspieren los masseren. Deze “buccal massage” is momenteel erg gewild vanwege de direct zichtbare en langdurige effectiviteit ten aanzien van huid- en contourverbetering. Deze techniek kan je bij iedereen inzetten. Een total work-out voor je gezicht. Naast dat je op huidverbetering werkt\, geeft dit ook een super anti-stress werking (vermindering spierspanning). \nBelangrijk! Voorwaarde voor deelname: Je dient de training ‘Gymnastiek voor de huid’ gevolgd te hebben.\n– Geen model nodig! \n\n+ GOOGLE CALENDAR
URL:https://studioprogramma.absolution.nl/workshops/absolution-face-sculpting-dinsdag-11-oktober-locatie-belgie/
LOCATION:Coach Belgium Roeselare\, Brugsesteenweg 363\, Roeselare\, 8800\, België
CATEGORIES:Absolution
ATTACH;FMTTYPE=image/jpeg:https://studioprogramma.absolution.nl/wp-content/uploads/2022/06/ourstory051.jpg
ORGANIZER;CN="Absolution":MAILTO:info@absolution.nl
END:VEVENT
END:VCALENDAR