BEGIN:VCALENDAR
VERSION:2.0
PRODID:-//Studioprogramma Absolution - ECPv6.2.5//NONSGML v1.0//EN
CALSCALE:GREGORIAN
METHOD:PUBLISH
X-WR-CALNAME:Studioprogramma Absolution
X-ORIGINAL-URL:https://studioprogramma.absolution.nl
X-WR-CALDESC:Evenementen voor Studioprogramma Absolution
REFRESH-INTERVAL;VALUE=DURATION:PT1H
X-Robots-Tag:noindex
X-PUBLISHED-TTL:PT1H
BEGIN:VTIMEZONE
TZID:Europe/Helsinki
BEGIN:DAYLIGHT
TZOFFSETFROM:+0200
TZOFFSETTO:+0300
TZNAME:EEST
DTSTART:20220327T010000
END:DAYLIGHT
BEGIN:STANDARD
TZOFFSETFROM:+0300
TZOFFSETTO:+0200
TZNAME:EET
DTSTART:20221030T010000
END:STANDARD
END:VTIMEZONE
BEGIN:VEVENT
DTSTART;TZID=Europe/Helsinki:20221024T100000
DTEND;TZID=Europe/Helsinki:20221024T160000
DTSTAMP:20260423T205751
CREATED:20220622T114924Z
LAST-MODIFIED:20220622T114924Z
UID:3859-1666605600-1666627200@studioprogramma.absolution.nl
SUMMARY:Absolution Verkoop Training - maandag 24 oktober
DESCRIPTION:In deze training leert u over uw eigen grenzen te stappen om tegemoet te komen aan de behoeftes van de klant. U leert het beste uit uzelf te halen. Zonder uit te gaan van aannames.
URL:https://studioprogramma.absolution.nl/workshops/absolution-verkoop-training-maandag-24-oktober/
LOCATION:Gelderland
CATEGORIES:Absolution
END:VEVENT
END:VCALENDAR