BEGIN:VCALENDAR
VERSION:2.0
PRODID:-//Studioprogramma Absolution - ECPv6.2.5//NONSGML v1.0//EN
CALSCALE:GREGORIAN
METHOD:PUBLISH
X-ORIGINAL-URL:https://studioprogramma.absolution.nl
X-WR-CALDESC:Evenementen voor Studioprogramma Absolution
REFRESH-INTERVAL;VALUE=DURATION:PT1H
X-Robots-Tag:noindex
X-PUBLISHED-TTL:PT1H
BEGIN:VTIMEZONE
TZID:Europe/Helsinki
BEGIN:DAYLIGHT
TZOFFSETFROM:+0200
TZOFFSETTO:+0300
TZNAME:EEST
DTSTART:20220327T010000
END:DAYLIGHT
BEGIN:STANDARD
TZOFFSETFROM:+0300
TZOFFSETTO:+0200
TZNAME:EET
DTSTART:20221030T010000
END:STANDARD
END:VTIMEZONE
BEGIN:VEVENT
DTSTART;TZID=Europe/Helsinki:20221102T100000
DTEND;TZID=Europe/Helsinki:20221102T160000
DTSTAMP:20260423T211023
CREATED:20220622T123420Z
LAST-MODIFIED:20220622T123420Z
UID:3896-1667383200-1667404800@studioprogramma.absolution.nl
SUMMARY:Absolution Workshop Training - woensdag 2 november
DESCRIPTION:Hoe leuk is het om een workshop te kunnen geven aan jouw klanten\nmodel: niet nodig
URL:https://studioprogramma.absolution.nl/workshops/absolution-workshop-training-woensdag-2-november/
LOCATION:Gelderland
CATEGORIES:Absolution
END:VEVENT
END:VCALENDAR