BEGIN:VCALENDAR
VERSION:2.0
PRODID:-//Studioprogramma Absolution - ECPv6.2.5//NONSGML v1.0//EN
CALSCALE:GREGORIAN
METHOD:PUBLISH
X-WR-CALNAME:Studioprogramma Absolution
X-ORIGINAL-URL:https://studioprogramma.absolution.nl
X-WR-CALDESC:Evenementen voor Studioprogramma Absolution
REFRESH-INTERVAL;VALUE=DURATION:PT1H
X-Robots-Tag:noindex
X-PUBLISHED-TTL:PT1H
BEGIN:VTIMEZONE
TZID:Europe/Helsinki
BEGIN:DAYLIGHT
TZOFFSETFROM:+0200
TZOFFSETTO:+0300
TZNAME:EEST
DTSTART:20220327T010000
END:DAYLIGHT
BEGIN:STANDARD
TZOFFSETFROM:+0300
TZOFFSETTO:+0200
TZNAME:EET
DTSTART:20221030T010000
END:STANDARD
END:VTIMEZONE
BEGIN:VEVENT
DTSTART;TZID=Europe/Helsinki:20221206T100000
DTEND;TZID=Europe/Helsinki:20221206T160000
DTSTAMP:20260423T180852
CREATED:20220622T125040Z
LAST-MODIFIED:20220622T170436Z
UID:3908-1670320800-1670342400@studioprogramma.absolution.nl
SUMMARY:Absolution Basis Theorie Training - dinsdag 6 december
DESCRIPTION:Voor iedereen die gaat starten met Absolution of een totale herhaling wil.\nTijdens deze training komt de filosofie van Absolution aan bod en gaan we dieper in op de producten met hun specifieke werkingen en bijzondere ingrediënten. Model: niet nodig
URL:https://studioprogramma.absolution.nl/workshops/absolution-basis-theorie-training-dinsdag-6-december/
LOCATION:Gelderland
CATEGORIES:Absolution
ATTACH;FMTTYPE=image/jpeg:https://studioprogramma.absolution.nl/wp-content/uploads/2022/06/studio.jpg
END:VEVENT
BEGIN:VEVENT
DTSTART;TZID=Europe/Helsinki:20221206T100000
DTEND;TZID=Europe/Helsinki:20221206T160000
DTSTAMP:20260423T180852
CREATED:20220622T125552Z
LAST-MODIFIED:20220622T125552Z
UID:3917-1670320800-1670342400@studioprogramma.absolution.nl
SUMMARY:Absolution Glow Protocol Training - dinsdag 6 december
DESCRIPTION:Wij hebben een nieuwe praktijktraining ontwikkeld met massage technieken waarbij we gebruik maken van een beauty tool voor in de cabine de Kansa Wand. Hierbij hebben we 4 verschillende product protocollen gemaakt. Model: ja
URL:https://studioprogramma.absolution.nl/workshops/absolution-glow-protocol-training-dinsdag-6-december/
LOCATION:Gelderland
CATEGORIES:Absolution
END:VEVENT
END:VCALENDAR