BEGIN:VCALENDAR
VERSION:2.0
PRODID:-//Studioprogramma Absolution - ECPv6.2.5//NONSGML v1.0//EN
CALSCALE:GREGORIAN
METHOD:PUBLISH
X-WR-CALNAME:Studioprogramma Absolution
X-ORIGINAL-URL:https://studioprogramma.absolution.nl
X-WR-CALDESC:Evenementen voor Studioprogramma Absolution
REFRESH-INTERVAL;VALUE=DURATION:PT1H
X-Robots-Tag:noindex
X-PUBLISHED-TTL:PT1H
BEGIN:VTIMEZONE
TZID:Europe/Helsinki
BEGIN:DAYLIGHT
TZOFFSETFROM:+0200
TZOFFSETTO:+0300
TZNAME:EEST
DTSTART:20230326T010000
END:DAYLIGHT
BEGIN:STANDARD
TZOFFSETFROM:+0300
TZOFFSETTO:+0200
TZNAME:EET
DTSTART:20231029T010000
END:STANDARD
END:VTIMEZONE
BEGIN:VEVENT
DTSTART;TZID=Europe/Helsinki:20230208T100000
DTEND;TZID=Europe/Helsinki:20230208T160000
DTSTAMP:20260423T151809
CREATED:20230103T123759Z
LAST-MODIFIED:20230103T123847Z
UID:5122-1675850400-1675872000@studioprogramma.absolution.nl
SUMMARY:Basis Theorie Training: Voor Startende salons! - 8 februari
DESCRIPTION:Basis Theorie Training: Voor Startende salons!\nBelangrijk! : Deze training is uitsluitend voor Startende Absolution Salons! \nMocht je deze training reeds hebben gevolgd\, dan adviseren we jou de Refresh (theorie) training. Heb je vragen of andere wensen\, dan kan je gerust contact opnemen met jouw accountmanager.   \nVoor iedereen die gaat starten met Absolution. Tijdens deze training komt de filosofie van Absolution aan bod en gaan we dieper in op de producten met hun specifieke werkingen.
URL:https://studioprogramma.absolution.nl/workshops/basis-theorie-training-voor-startende-salons-9-februari/
LOCATION:Gelderland
CATEGORIES:Absolution
ATTACH;FMTTYPE=image/jpeg:https://studioprogramma.absolution.nl/wp-content/uploads/2022/06/studio.jpg
END:VEVENT
END:VCALENDAR