BEGIN:VCALENDAR
VERSION:2.0
PRODID:-//Studioprogramma Absolution - ECPv6.2.5//NONSGML v1.0//EN
CALSCALE:GREGORIAN
METHOD:PUBLISH
X-ORIGINAL-URL:https://studioprogramma.absolution.nl
X-WR-CALDESC:Evenementen voor Studioprogramma Absolution
REFRESH-INTERVAL;VALUE=DURATION:PT1H
X-Robots-Tag:noindex
X-PUBLISHED-TTL:PT1H
BEGIN:VTIMEZONE
TZID:Europe/Helsinki
BEGIN:DAYLIGHT
TZOFFSETFROM:+0200
TZOFFSETTO:+0300
TZNAME:EEST
DTSTART:20230326T010000
END:DAYLIGHT
BEGIN:STANDARD
TZOFFSETFROM:+0300
TZOFFSETTO:+0200
TZNAME:EET
DTSTART:20231029T010000
END:STANDARD
END:VTIMEZONE
BEGIN:VEVENT
DTSTART;TZID=Europe/Helsinki:20230228T100000
DTEND;TZID=Europe/Helsinki:20230228T160000
DTSTAMP:20260423T121649
CREATED:20221111T123211Z
LAST-MODIFIED:20221111T123211Z
UID:4793-1677578400-1677600000@studioprogramma.absolution.nl
SUMMARY:Body Re-Lax - dinsdag 28 februari
DESCRIPTION:Body Re-Lax: \nWanneer je toe bent aan een weldaad op het gebied van ont-stressen en ontspannen\, is dit het juiste programma voor jou! \nLaat je meenemen tijdens deze massage door de heerlijke ontspannende geuren van lavendel\, zoete sinaasappel\, welke gecombineerd met de verkwikkende eucalyptus\, zorgen dat je in de volledige ‘relaxmodus’ gaat.    Model: ja
URL:https://studioprogramma.absolution.nl/workshops/body-re-lax-dinsdag-28-februari/
LOCATION:Absolution Studio – Apeldoorn\, Europaweg 220\, Apeldoorn\, Gelderland\, 7336 AR\, Nederland
CATEGORIES:Absolution
ATTACH;FMTTYPE=image/jpeg:https://studioprogramma.absolution.nl/wp-content/uploads/2020/01/Cursus_afbeeldingen_jan2020_Bodyrestart.jpg
ORGANIZER;CN="Absolution":MAILTO:info@absolution.nl
GEO:52.1926836;5.9329345
X-APPLE-STRUCTURED-LOCATION;VALUE=URI;X-ADDRESS=Absolution Studio – Apeldoorn Europaweg 220 Apeldoorn Gelderland 7336 AR Nederland;X-APPLE-RADIUS=500;X-TITLE=Europaweg 220:geo:5.9329345,52.1926836
END:VEVENT
END:VCALENDAR