BEGIN:VCALENDAR
VERSION:2.0
PRODID:-//Studioprogramma Absolution - ECPv6.2.5//NONSGML v1.0//EN
CALSCALE:GREGORIAN
METHOD:PUBLISH
X-WR-CALNAME:Studioprogramma Absolution
X-ORIGINAL-URL:https://studioprogramma.absolution.nl
X-WR-CALDESC:Evenementen voor Studioprogramma Absolution
REFRESH-INTERVAL;VALUE=DURATION:PT1H
X-Robots-Tag:noindex
X-PUBLISHED-TTL:PT1H
BEGIN:VTIMEZONE
TZID:Europe/Helsinki
BEGIN:DAYLIGHT
TZOFFSETFROM:+0200
TZOFFSETTO:+0300
TZNAME:EEST
DTSTART:20230326T010000
END:DAYLIGHT
BEGIN:STANDARD
TZOFFSETFROM:+0300
TZOFFSETTO:+0200
TZNAME:EET
DTSTART:20231029T010000
END:STANDARD
END:VTIMEZONE
BEGIN:VEVENT
DTSTART;TZID=Europe/Helsinki:20230511T100000
DTEND;TZID=Europe/Helsinki:20230511T160000
DTSTAMP:20260423T091855
CREATED:20221111T120127Z
LAST-MODIFIED:20221111T120127Z
UID:4738-1683799200-1683820800@studioprogramma.absolution.nl
SUMMARY:Facial Cupping (nieuw!) - donderdag 11 mei
DESCRIPTION:Facial Cupping (nieuw!) : \nIn deze training leer je een huid verbeterende gezichtsmassage met onze Absolution facial cups. \nDoor deze intensieve massage worden spieren en huid soepel gemaakt\, stimuleren we de bloedsomloop en werken we op het verstrakken en verstevigen van de huid.     Model: nee
URL:https://studioprogramma.absolution.nl/workshops/facial-cupping-nieuw-donderdag-11-mei/
LOCATION:Absolution Studio – Apeldoorn\, Europaweg 220\, Apeldoorn\, Gelderland\, 7336 AR\, Nederland
CATEGORIES:Absolution
ATTACH;FMTTYPE=image/png:https://studioprogramma.absolution.nl/wp-content/uploads/2018/07/logo_Absolution.png
ORGANIZER;CN="Absolution":MAILTO:info@absolution.nl
GEO:52.1926836;5.9329345
X-APPLE-STRUCTURED-LOCATION;VALUE=URI;X-ADDRESS=Absolution Studio – Apeldoorn Europaweg 220 Apeldoorn Gelderland 7336 AR Nederland;X-APPLE-RADIUS=500;X-TITLE=Europaweg 220:geo:5.9329345,52.1926836
END:VEVENT
END:VCALENDAR