BEGIN:VCALENDAR
VERSION:2.0
PRODID:-//Studioprogramma Absolution - ECPv6.2.5//NONSGML v1.0//EN
CALSCALE:GREGORIAN
METHOD:PUBLISH
X-WR-CALNAME:Studioprogramma Absolution
X-ORIGINAL-URL:https://studioprogramma.absolution.nl
X-WR-CALDESC:Evenementen voor Studioprogramma Absolution
REFRESH-INTERVAL;VALUE=DURATION:PT1H
X-Robots-Tag:noindex
X-PUBLISHED-TTL:PT1H
BEGIN:VTIMEZONE
TZID:Europe/Helsinki
BEGIN:DAYLIGHT
TZOFFSETFROM:+0200
TZOFFSETTO:+0300
TZNAME:EEST
DTSTART:20230326T010000
END:DAYLIGHT
BEGIN:STANDARD
TZOFFSETFROM:+0300
TZOFFSETTO:+0200
TZNAME:EET
DTSTART:20231029T010000
END:STANDARD
END:VTIMEZONE
BEGIN:VEVENT
DTSTART;TZID=Europe/Helsinki:20230515T100000
DTEND;TZID=Europe/Helsinki:20230515T160000
DTSTAMP:20260423T092617
CREATED:20221111T121240Z
LAST-MODIFIED:20221111T121240Z
UID:4759-1684144800-1684166400@studioprogramma.absolution.nl
SUMMARY:Ingrediënten training - maandag 15 mei
DESCRIPTION:Absolution Ingrediënten training: \nIn deze training leer je meer over de werking van de mooie ingrediënten van Absolution en in welke producten je deze kunt vinden. Ook leer je wat het verschil is tussen conventionele cosmetica en natuurlijk biologisch gecertificeerde cosmetica en de regel- en wetgeving.
URL:https://studioprogramma.absolution.nl/workshops/ingredienten-training-maandag-15-mei/
LOCATION:Absolution Studio – Apeldoorn\, Europaweg 220\, Apeldoorn\, Gelderland\, 7336 AR\, Nederland
CATEGORIES:Absolution
ATTACH;FMTTYPE=image/jpeg:https://studioprogramma.absolution.nl/wp-content/uploads/2020/01/Cursus_afbeeldingen_jan2020_bodyrelax.jpg
ORGANIZER;CN="Absolution":MAILTO:info@absolution.nl
GEO:52.1926836;5.9329345
X-APPLE-STRUCTURED-LOCATION;VALUE=URI;X-ADDRESS=Absolution Studio – Apeldoorn Europaweg 220 Apeldoorn Gelderland 7336 AR Nederland;X-APPLE-RADIUS=500;X-TITLE=Europaweg 220:geo:5.9329345,52.1926836
END:VEVENT
END:VCALENDAR