BEGIN:VCALENDAR
VERSION:2.0
PRODID:-//Studioprogramma Absolution - ECPv6.2.5//NONSGML v1.0//EN
CALSCALE:GREGORIAN
METHOD:PUBLISH
X-ORIGINAL-URL:https://studioprogramma.absolution.nl
X-WR-CALDESC:Evenementen voor Studioprogramma Absolution
REFRESH-INTERVAL;VALUE=DURATION:PT1H
X-Robots-Tag:noindex
X-PUBLISHED-TTL:PT1H
BEGIN:VTIMEZONE
TZID:Europe/Helsinki
BEGIN:DAYLIGHT
TZOFFSETFROM:+0200
TZOFFSETTO:+0300
TZNAME:EEST
DTSTART:20230326T010000
END:DAYLIGHT
BEGIN:STANDARD
TZOFFSETFROM:+0300
TZOFFSETTO:+0200
TZNAME:EET
DTSTART:20231029T010000
END:STANDARD
END:VTIMEZONE
BEGIN:VEVENT
DTSTART;TZID=Europe/Helsinki:20230530T100000
DTEND;TZID=Europe/Helsinki:20230530T160000
DTSTAMP:20260423T075130
CREATED:20221111T105319Z
LAST-MODIFIED:20230322T150401Z
UID:4641-1685440800-1685462400@studioprogramma.absolution.nl
SUMMARY:Basis Theorie Training - Dinsdag 30 mei - voor startende salons!
DESCRIPTION:Basis Theorie Training: Voor Startende salons!\nBelangrijk! : Deze training is uitsluitend voor Startende Absolution Salons! \nMocht je deze training reeds hebben gevolgd\, dan adviseren we jou de Refresh (theorie) training. Heb je vragen of andere wensen\, dan kan je gerust contact opnemen met jouw accountmanager.   \nVoor iedereen die gaat starten met Absolution. Tijdens deze training komt de filosofie van Absolution aan bod en gaan we dieper in op de producten met hun specifieke werkingen.
URL:https://studioprogramma.absolution.nl/workshops/basis-theorie-training-woensdag-31-mei/
LOCATION:Absolution Studio – Apeldoorn\, Europaweg 220\, Apeldoorn\, Gelderland\, 7336 AR\, Nederland
CATEGORIES:Absolution
ATTACH;FMTTYPE=image/jpeg:https://studioprogramma.absolution.nl/wp-content/uploads/2022/06/studio.jpg
ORGANIZER;CN="Absolution":MAILTO:info@absolution.nl
GEO:52.1926836;5.9329345
X-APPLE-STRUCTURED-LOCATION;VALUE=URI;X-ADDRESS=Absolution Studio – Apeldoorn Europaweg 220 Apeldoorn Gelderland 7336 AR Nederland;X-APPLE-RADIUS=500;X-TITLE=Europaweg 220:geo:5.9329345,52.1926836
END:VEVENT
END:VCALENDAR