BEGIN:VCALENDAR
VERSION:2.0
PRODID:-//Studioprogramma Absolution - ECPv6.2.5//NONSGML v1.0//EN
CALSCALE:GREGORIAN
METHOD:PUBLISH
X-ORIGINAL-URL:https://studioprogramma.absolution.nl
X-WR-CALDESC:Evenementen voor Studioprogramma Absolution
REFRESH-INTERVAL;VALUE=DURATION:PT1H
X-Robots-Tag:noindex
X-PUBLISHED-TTL:PT1H
BEGIN:VTIMEZONE
TZID:Europe/Helsinki
BEGIN:DAYLIGHT
TZOFFSETFROM:+0200
TZOFFSETTO:+0300
TZNAME:EEST
DTSTART:20230326T010000
END:DAYLIGHT
BEGIN:STANDARD
TZOFFSETFROM:+0300
TZOFFSETTO:+0200
TZNAME:EET
DTSTART:20231029T010000
END:STANDARD
END:VTIMEZONE
BEGIN:VEVENT
DTSTART;TZID=Europe/Helsinki:20231024T100000
DTEND;TZID=Europe/Helsinki:20231024T160000
DTSTAMP:20260423T013414
CREATED:20230509T130845Z
LAST-MODIFIED:20230509T130845Z
UID:5545-1698141600-1698163200@studioprogramma.absolution.nl
SUMMARY:Absolution - Massage Peau Calme & Nette - dinsdag 24 oktober
DESCRIPTION: Massage Peau Calme et Nette: \nIn deze training leer je 2 nieuwe massages: intensieve\, afvoerende massagetechnieken die specifiek zijn afgestemd op La Cure Peau Nette en het detoxen van de huid en zachte\, afvoerende massagetechnieken om de kwetsbare huid te kalmeren en te herstellen.    Model: nee
URL:https://studioprogramma.absolution.nl/workshops/absolution-massage-peau-calme-nette-dinsdag-24-oktober/
LOCATION:Absolution Studio – Apeldoorn\, Europaweg 220\, Apeldoorn\, Gelderland\, 7336 AR\, Nederland
CATEGORIES:Absolution
ATTACH;FMTTYPE=image/jpeg:https://studioprogramma.absolution.nl/wp-content/uploads/2020/01/Cursus_afbeeldingen_jan2020_1.jpg
ORGANIZER;CN="Absolution":MAILTO:info@absolution.nl
GEO:52.1926836;5.9329345
X-APPLE-STRUCTURED-LOCATION;VALUE=URI;X-ADDRESS=Absolution Studio – Apeldoorn Europaweg 220 Apeldoorn Gelderland 7336 AR Nederland;X-APPLE-RADIUS=500;X-TITLE=Europaweg 220:geo:5.9329345,52.1926836
END:VEVENT
END:VCALENDAR