BEGIN:VCALENDAR
VERSION:2.0
PRODID:-//Studioprogramma Absolution - ECPv6.2.5//NONSGML v1.0//EN
CALSCALE:GREGORIAN
METHOD:PUBLISH
X-ORIGINAL-URL:https://studioprogramma.absolution.nl
X-WR-CALDESC:Evenementen voor Studioprogramma Absolution
REFRESH-INTERVAL;VALUE=DURATION:PT1H
X-Robots-Tag:noindex
X-PUBLISHED-TTL:PT1H
BEGIN:VTIMEZONE
TZID:Europe/Helsinki
BEGIN:DAYLIGHT
TZOFFSETFROM:+0200
TZOFFSETTO:+0300
TZNAME:EEST
DTSTART:20240331T010000
END:DAYLIGHT
BEGIN:STANDARD
TZOFFSETFROM:+0300
TZOFFSETTO:+0200
TZNAME:EET
DTSTART:20241027T010000
END:STANDARD
END:VTIMEZONE
BEGIN:VEVENT
DTSTART;TZID=Europe/Helsinki:20240321T100000
DTEND;TZID=Europe/Helsinki:20240321T160000
DTSTAMP:20260422T174956
CREATED:20231115T144913Z
LAST-MODIFIED:20231115T144913Z
UID:6168-1711015200-1711036800@studioprogramma.absolution.nl
SUMMARY:Absolution - Refresh basis praktijk training
DESCRIPTION:Voor de huidprofessional die de unieke Absolution behandelmethoden wil herhalen\, perfectioneren en ervaren. Tijdens deze training ga je werken en ervaren.\nWe behandelen alle productgroepen volgens de unieke Absolution filosofie. Model: nee
URL:https://studioprogramma.absolution.nl/workshops/absolution-refresh-basis-praktijk-training-2/
LOCATION:Ministry of Beauty\, Europaweg 220\, 7336 AR Apeldoorn\, Gelderland\, Nederland
CATEGORIES:Absolution
ATTACH;FMTTYPE=image/jpeg:https://studioprogramma.absolution.nl/wp-content/uploads/2020/01/Cursus_afbeeldingen_jan2020_bodyresculpt.jpg
ORGANIZER;CN="Absolution":MAILTO:info@absolution.nl
GEO:52.1926836;5.9329345
X-APPLE-STRUCTURED-LOCATION;VALUE=URI;X-ADDRESS=Ministry of Beauty Europaweg 220 7336 AR Apeldoorn Gelderland Nederland;X-APPLE-RADIUS=500;X-TITLE=Europaweg 220:geo:5.9329345,52.1926836
END:VEVENT
END:VCALENDAR