BEGIN:VCALENDAR
VERSION:2.0
PRODID:-//Studioprogramma Absolution - ECPv6.2.5//NONSGML v1.0//EN
CALSCALE:GREGORIAN
METHOD:PUBLISH
X-ORIGINAL-URL:https://studioprogramma.absolution.nl
X-WR-CALDESC:Evenementen voor Studioprogramma Absolution
REFRESH-INTERVAL;VALUE=DURATION:PT1H
X-Robots-Tag:noindex
X-PUBLISHED-TTL:PT1H
BEGIN:VTIMEZONE
TZID:Europe/Helsinki
BEGIN:DAYLIGHT
TZOFFSETFROM:+0200
TZOFFSETTO:+0300
TZNAME:EEST
DTSTART:20240331T010000
END:DAYLIGHT
BEGIN:STANDARD
TZOFFSETFROM:+0300
TZOFFSETTO:+0200
TZNAME:EET
DTSTART:20241027T010000
END:STANDARD
END:VTIMEZONE
BEGIN:VEVENT
DTSTART;TZID=Europe/Helsinki:20240612T100000
DTEND;TZID=Europe/Helsinki:20240612T160000
DTSTAMP:20260422T125324
CREATED:20231115T144913Z
LAST-MODIFIED:20240530T134336Z
UID:6205-1718186400-1718208000@studioprogramma.absolution.nl
SUMMARY:Absolution - Face Sculpting
DESCRIPTION:Je leert en ervaart een exclusieve massage techniek\, waarbij wij naast de spieren van decolleté\, hals\, nek\, gezicht en hoofd ook de binnenkant van de wangen en de kauwspieren los masseren. Deze “buccal massage” is erg gewild vanwege de direct zichtbare en langdurige effectiviteit ten aanzien van huid- en contourverbetering en geeft een super anti-stress werking. Model: nee.                                                                                                         Belangrijk! Voorwaarde voor deelname: Je dient de training ‘Gymnastiek voor de huid’ gevolgd te hebben!
URL:https://studioprogramma.absolution.nl/workshops/absolution-face-sculpting/
LOCATION:Ministry of Beauty\, Europaweg 220\, 7336 AR Apeldoorn\, Gelderland\, Nederland
CATEGORIES:Absolution
ATTACH;FMTTYPE=image/jpeg:https://studioprogramma.absolution.nl/wp-content/uploads/2024/05/MASQUE-1.jpg
ORGANIZER;CN="Absolution":MAILTO:info@absolution.nl
GEO:52.1926836;5.9329345
X-APPLE-STRUCTURED-LOCATION;VALUE=URI;X-ADDRESS=Ministry of Beauty Europaweg 220 7336 AR Apeldoorn Gelderland Nederland;X-APPLE-RADIUS=500;X-TITLE=Europaweg 220:geo:5.9329345,52.1926836
END:VEVENT
END:VCALENDAR