BEGIN:VCALENDAR
VERSION:2.0
PRODID:-//Studioprogramma Absolution - ECPv6.2.5//NONSGML v1.0//EN
CALSCALE:GREGORIAN
METHOD:PUBLISH
X-ORIGINAL-URL:https://studioprogramma.absolution.nl
X-WR-CALDESC:Evenementen voor Studioprogramma Absolution
REFRESH-INTERVAL;VALUE=DURATION:PT1H
X-Robots-Tag:noindex
X-PUBLISHED-TTL:PT1H
BEGIN:VTIMEZONE
TZID:Europe/Helsinki
BEGIN:DAYLIGHT
TZOFFSETFROM:+0200
TZOFFSETTO:+0300
TZNAME:EEST
DTSTART:20240331T010000
END:DAYLIGHT
BEGIN:STANDARD
TZOFFSETFROM:+0300
TZOFFSETTO:+0200
TZNAME:EET
DTSTART:20241027T010000
END:STANDARD
END:VTIMEZONE
BEGIN:VEVENT
DTSTART;TZID=Europe/Helsinki:20240916T100000
DTEND;TZID=Europe/Helsinki:20240916T160000
DTSTAMP:20260422T073746
CREATED:20240524T090313Z
LAST-MODIFIED:20240524T090313Z
UID:7366-1726480800-1726502400@studioprogramma.absolution.nl
SUMMARY:Absolution - Kansa wand massage training - 16 september
DESCRIPTION:Je leert en ervaart een unieke massage techniek waarbij we gebruik maken van een beauty tool voor in de cabine: de Kansa Wand. Deze massage helpt bij het verwijderen van opgebouwde afvalstoffen in het weefsel door ze los te maken en af te voeren. Ook werken we op het ontspannen van de spieren in het gezicht\, hals en decolleté\, voor die prachtige glow! Model: nee
URL:https://studioprogramma.absolution.nl/workshops/absolution-kansa-wand-massage-training-16-september/
LOCATION:Ministry of Beauty\, Europaweg 220\, 7336 AR Apeldoorn\, Gelderland\, Nederland
CATEGORIES:Absolution
ATTACH;FMTTYPE=image/webp:https://studioprogramma.absolution.nl/wp-content/uploads/2024/05/routine_peau_visage_30_ans_bio_absolution-1152x710-c.webp
ORGANIZER;CN="Absolution":MAILTO:info@absolution.nl
GEO:52.1926836;5.9329345
X-APPLE-STRUCTURED-LOCATION;VALUE=URI;X-ADDRESS=Ministry of Beauty Europaweg 220 7336 AR Apeldoorn Gelderland Nederland;X-APPLE-RADIUS=500;X-TITLE=Europaweg 220:geo:5.9329345,52.1926836
END:VEVENT
END:VCALENDAR