BEGIN:VCALENDAR
VERSION:2.0
PRODID:-//Studioprogramma Absolution - ECPv6.2.5//NONSGML v1.0//EN
CALSCALE:GREGORIAN
METHOD:PUBLISH
X-WR-CALNAME:Studioprogramma Absolution
X-ORIGINAL-URL:https://studioprogramma.absolution.nl
X-WR-CALDESC:Evenementen voor Studioprogramma Absolution
REFRESH-INTERVAL;VALUE=DURATION:PT1H
X-Robots-Tag:noindex
X-PUBLISHED-TTL:PT1H
BEGIN:VTIMEZONE
TZID:Europe/Helsinki
BEGIN:DAYLIGHT
TZOFFSETFROM:+0200
TZOFFSETTO:+0300
TZNAME:EEST
DTSTART:20250330T010000
END:DAYLIGHT
BEGIN:STANDARD
TZOFFSETFROM:+0300
TZOFFSETTO:+0200
TZNAME:EET
DTSTART:20251026T010000
END:STANDARD
END:VTIMEZONE
BEGIN:VEVENT
DTSTART;TZID=Europe/Helsinki:20250129T100000
DTEND;TZID=Europe/Helsinki:20250129T160000
DTSTAMP:20260421T234012
CREATED:20241021T083312Z
LAST-MODIFIED:20241021T083312Z
UID:8215-1738144800-1738166400@studioprogramma.absolution.nl
SUMMARY:Absolution - Kansa Wand massage training - 29 januari 2025
DESCRIPTION:Je leert en ervaart een unieke massagetechniek met de Kansa Wand\, een beauty tool speciaal voor gebruik in de cabine. Deze massage stimuleert de afvoer van opgebouwde afvalstoffen in het weefsel en helpt bij het ontspannen van de spieren in het gezicht\, de hals en het decolleté. Het resultaat is een diepe ontspanning en een prachtige\, stralende glow!   Model: Nee
URL:https://studioprogramma.absolution.nl/workshops/absolution-kansa-wand-massage-training-29-januari-2025/
LOCATION:Absolution Studio – Apeldoorn\, Europaweg 220\, Apeldoorn\, Gelderland\, 7336 AR\, Nederland
CATEGORIES:Absolution
ATTACH;FMTTYPE=image/jpeg:https://studioprogramma.absolution.nl/wp-content/uploads/2024/10/2024_Addiction_TeamDigi_01-scaled.jpg
ORGANIZER;CN="Absolution":MAILTO:info@absolution.nl
GEO:52.1926836;5.9329345
X-APPLE-STRUCTURED-LOCATION;VALUE=URI;X-ADDRESS=Absolution Studio – Apeldoorn Europaweg 220 Apeldoorn Gelderland 7336 AR Nederland;X-APPLE-RADIUS=500;X-TITLE=Europaweg 220:geo:5.9329345,52.1926836
END:VEVENT
END:VCALENDAR