BEGIN:VCALENDAR
VERSION:2.0
PRODID:-//Studioprogramma Absolution - ECPv6.2.5//NONSGML v1.0//EN
CALSCALE:GREGORIAN
METHOD:PUBLISH
X-ORIGINAL-URL:https://studioprogramma.absolution.nl
X-WR-CALDESC:Evenementen voor Studioprogramma Absolution
REFRESH-INTERVAL;VALUE=DURATION:PT1H
X-Robots-Tag:noindex
X-PUBLISHED-TTL:PT1H
BEGIN:VTIMEZONE
TZID:Europe/Helsinki
BEGIN:DAYLIGHT
TZOFFSETFROM:+0200
TZOFFSETTO:+0300
TZNAME:EEST
DTSTART:20250330T010000
END:DAYLIGHT
BEGIN:STANDARD
TZOFFSETFROM:+0300
TZOFFSETTO:+0200
TZNAME:EET
DTSTART:20251026T010000
END:STANDARD
END:VTIMEZONE
BEGIN:VEVENT
DTSTART;TZID=Europe/Helsinki:20250227T100000
DTEND;TZID=Europe/Helsinki:20250227T160000
DTSTAMP:20260421T221255
CREATED:20241021T083312Z
LAST-MODIFIED:20241021T083312Z
UID:8207-1740650400-1740672000@studioprogramma.absolution.nl
SUMMARY:Absolution - Face Sculpting REFRESH - 27 februari 2025
DESCRIPTION:Een herhaling van de exclusieve Face Sculpting-techniek\, inclusief de gewilde “buccal massage”. Deze training biedt de kans om je vaardigheden verder te perfectioneren\, met focus op huid- en contourverbetering en een krachtige anti-stress werking.   Model: Nee \nVoorwaarde voor deelname: Je dient de training ‘ Gymnastiek voor je huid en Face Sculpting’ gevolgd te hebben
URL:https://studioprogramma.absolution.nl/workshops/absolution-face-sculpting-refresh-27-februari-2025/
LOCATION:Absolution Studio – Apeldoorn\, Europaweg 220\, Apeldoorn\, Gelderland\, 7336 AR\, Nederland
CATEGORIES:Absolution
ORGANIZER;CN="Absolution":MAILTO:info@absolution.nl
GEO:52.1926836;5.9329345
X-APPLE-STRUCTURED-LOCATION;VALUE=URI;X-ADDRESS=Absolution Studio – Apeldoorn Europaweg 220 Apeldoorn Gelderland 7336 AR Nederland;X-APPLE-RADIUS=500;X-TITLE=Europaweg 220:geo:5.9329345,52.1926836
END:VEVENT
END:VCALENDAR