BEGIN:VCALENDAR
VERSION:2.0
PRODID:-//Studioprogramma Absolution - ECPv6.2.5//NONSGML v1.0//EN
CALSCALE:GREGORIAN
METHOD:PUBLISH
X-ORIGINAL-URL:https://studioprogramma.absolution.nl
X-WR-CALDESC:Evenementen voor Studioprogramma Absolution
REFRESH-INTERVAL;VALUE=DURATION:PT1H
X-Robots-Tag:noindex
X-PUBLISHED-TTL:PT1H
BEGIN:VTIMEZONE
TZID:Europe/Helsinki
BEGIN:DAYLIGHT
TZOFFSETFROM:+0200
TZOFFSETTO:+0300
TZNAME:EEST
DTSTART:20250330T010000
END:DAYLIGHT
BEGIN:STANDARD
TZOFFSETFROM:+0300
TZOFFSETTO:+0200
TZNAME:EET
DTSTART:20251026T010000
END:STANDARD
END:VTIMEZONE
BEGIN:VEVENT
DTSTART;TZID=Europe/Helsinki:20250311T100000
DTEND;TZID=Europe/Helsinki:20250311T160000
DTSTAMP:20260421T222042
CREATED:20241021T083311Z
LAST-MODIFIED:20241021T083311Z
UID:8445-1741687200-1741708800@studioprogramma.absolution.nl
SUMMARY:Absolution - Ingrediënten training - 11 maart 2025
DESCRIPTION:In deze training leer je meer over onze productsamenstelling\, de regelgeving en ontwikkeling. We behandelen alle producten en  hun prachtige (medicinale) botanische ingrediënten.
URL:https://studioprogramma.absolution.nl/workshops/absolution-ingredienten-training-11-maart-2025/
LOCATION:Absolution Studio – Apeldoorn\, Europaweg 220\, Apeldoorn\, Gelderland\, 7336 AR\, Nederland
CATEGORIES:Absolution
ATTACH;FMTTYPE=image/jpeg:https://studioprogramma.absolution.nl/wp-content/uploads/2024/10/PXL_20220223_094651400.PORTRAIT-scaled.jpg
ORGANIZER;CN="Absolution":MAILTO:info@absolution.nl
GEO:52.1926836;5.9329345
X-APPLE-STRUCTURED-LOCATION;VALUE=URI;X-ADDRESS=Absolution Studio – Apeldoorn Europaweg 220 Apeldoorn Gelderland 7336 AR Nederland;X-APPLE-RADIUS=500;X-TITLE=Europaweg 220:geo:5.9329345,52.1926836
END:VEVENT
END:VCALENDAR