BEGIN:VCALENDAR
VERSION:2.0
PRODID:-//Studioprogramma Absolution - ECPv6.2.5//NONSGML v1.0//EN
CALSCALE:GREGORIAN
METHOD:PUBLISH
X-WR-CALNAME:Studioprogramma Absolution
X-ORIGINAL-URL:https://studioprogramma.absolution.nl
X-WR-CALDESC:Evenementen voor Studioprogramma Absolution
REFRESH-INTERVAL;VALUE=DURATION:PT1H
X-Robots-Tag:noindex
X-PUBLISHED-TTL:PT1H
BEGIN:VTIMEZONE
TZID:Europe/Helsinki
BEGIN:DAYLIGHT
TZOFFSETFROM:+0200
TZOFFSETTO:+0300
TZNAME:EEST
DTSTART:20250330T010000
END:DAYLIGHT
BEGIN:STANDARD
TZOFFSETFROM:+0300
TZOFFSETTO:+0200
TZNAME:EET
DTSTART:20251026T010000
END:STANDARD
END:VTIMEZONE
BEGIN:VEVENT
DTSTART;TZID=Europe/Helsinki:20250527T100000
DTEND;TZID=Europe/Helsinki:20250527T160000
DTSTAMP:20260421T172910
CREATED:20241021T083312Z
LAST-MODIFIED:20250225T161718Z
UID:8168-1748340000-1748361600@studioprogramma.absolution.nl
SUMMARY:Absolution - Basis praktijk training | Advanced - 27 mei 2025
DESCRIPTION:Voor de huidprofessional die de unieke Absolution-behandelmethoden wil herhalen\, perfectioneren en ervaren. Tijdens deze training ga je aan de slag met alle productgroepen en nieuwe producten volgens de Absolution-filosofie\, met extra aandacht voor het verfijnen van de technieken.    Model: Nee \n 
URL:https://studioprogramma.absolution.nl/workshops/absolution-refresh-basis-praktijk-training-27-mei-2025/
LOCATION:Absolution Studio – Apeldoorn\, Europaweg 220\, Apeldoorn\, Gelderland\, 7336 AR\, Nederland
CATEGORIES:Absolution
ATTACH;FMTTYPE=image/jpeg:https://studioprogramma.absolution.nl/wp-content/uploads/2024/10/2023_Creme_de_Sante_Louise_01.jpg
ORGANIZER;CN="Absolution":MAILTO:info@absolution.nl
GEO:52.1926836;5.9329345
X-APPLE-STRUCTURED-LOCATION;VALUE=URI;X-ADDRESS=Absolution Studio – Apeldoorn Europaweg 220 Apeldoorn Gelderland 7336 AR Nederland;X-APPLE-RADIUS=500;X-TITLE=Europaweg 220:geo:5.9329345,52.1926836
END:VEVENT
END:VCALENDAR