BEGIN:VCALENDAR
VERSION:2.0
PRODID:-//Studioprogramma Absolution - ECPv6.2.5//NONSGML v1.0//EN
CALSCALE:GREGORIAN
METHOD:PUBLISH
X-WR-CALNAME:Studioprogramma Absolution
X-ORIGINAL-URL:https://studioprogramma.absolution.nl
X-WR-CALDESC:Evenementen voor Studioprogramma Absolution
REFRESH-INTERVAL;VALUE=DURATION:PT1H
X-Robots-Tag:noindex
X-PUBLISHED-TTL:PT1H
BEGIN:VTIMEZONE
TZID:Europe/Helsinki
BEGIN:DAYLIGHT
TZOFFSETFROM:+0200
TZOFFSETTO:+0300
TZNAME:EEST
DTSTART:20250330T010000
END:DAYLIGHT
BEGIN:STANDARD
TZOFFSETFROM:+0300
TZOFFSETTO:+0200
TZNAME:EET
DTSTART:20251026T010000
END:STANDARD
END:VTIMEZONE
BEGIN:VEVENT
DTSTART;TZID=Europe/Helsinki:20250917T100000
DTEND;TZID=Europe/Helsinki:20250917T160000
DTSTAMP:20260421T131044
CREATED:20250429T123438Z
LAST-MODIFIED:20250429T123438Z
UID:9731-1758103200-1758124800@studioprogramma.absolution.nl
SUMMARY:Absolution Detox & Calming massage - 17 september 2025
DESCRIPTION:In deze training leer en ervaar je twee massages: een intensieve massage gericht op het afvoeren van afvalstoffen bij de huid die uit balans is en neigt naar onzuiverheden\, en\neen kalmerende massage om de sterk reactieve en gevoelige huid te verzachten en te herstellen. \nDaarnaast behandelen we de theorie achter deze specifieke huidbehoeftes\, zodat je beter begrijpt wat deze huiden nodig hebben en hoe je jouw behandelingen hierop afstemt.\nModel meenemen: nee
URL:https://studioprogramma.absolution.nl/workshops/absolution-detox-calming-massage-17-september-2025/
LOCATION:Ministry of Beauty\, Europaweg 220\, 7336 AR Apeldoorn\, Gelderland\, Nederland
CATEGORIES:Absolution
ATTACH;FMTTYPE=image/jpeg:https://studioprogramma.absolution.nl/wp-content/uploads/2025/04/2024_Creme_Riche_©LaurenceRevol_STUDIO-04-scaled.jpg
ORGANIZER;CN="Absolution":MAILTO:info@absolution.nl
GEO:52.1926836;5.9329345
X-APPLE-STRUCTURED-LOCATION;VALUE=URI;X-ADDRESS=Ministry of Beauty Europaweg 220 7336 AR Apeldoorn Gelderland Nederland;X-APPLE-RADIUS=500;X-TITLE=Europaweg 220:geo:5.9329345,52.1926836
END:VEVENT
END:VCALENDAR