BEGIN:VCALENDAR
VERSION:2.0
PRODID:-//Studioprogramma Absolution - ECPv6.2.5//NONSGML v1.0//EN
CALSCALE:GREGORIAN
METHOD:PUBLISH
X-ORIGINAL-URL:https://studioprogramma.absolution.nl
X-WR-CALDESC:Evenementen voor Studioprogramma Absolution
REFRESH-INTERVAL;VALUE=DURATION:PT1H
X-Robots-Tag:noindex
X-PUBLISHED-TTL:PT1H
BEGIN:VTIMEZONE
TZID:Europe/Helsinki
BEGIN:DAYLIGHT
TZOFFSETFROM:+0200
TZOFFSETTO:+0300
TZNAME:EEST
DTSTART:20250330T010000
END:DAYLIGHT
BEGIN:STANDARD
TZOFFSETFROM:+0300
TZOFFSETTO:+0200
TZNAME:EET
DTSTART:20251026T010000
END:STANDARD
END:VTIMEZONE
BEGIN:VEVENT
DTSTART;TZID=Europe/Helsinki:20250925T100000
DTEND;TZID=Europe/Helsinki:20250925T160000
DTSTAMP:20260421T131735
CREATED:20250429T135158Z
LAST-MODIFIED:20250916T131452Z
UID:9806-1758794400-1758816000@studioprogramma.absolution.nl
SUMMARY:Absolution ingrediënten training - 25 september
DESCRIPTION:Tijdens deze inspirerende training duiken we in de wereld van de unieke ingrediënten van Absolution. Je leert alles over de werking van onze (medicinale) botanicals\, de gedachte achter de formuleringen\, én hoe wij voldoen aan de strengste regelgeving. Daarnaast bespreken we de nieuwste innovaties in skincare. \nWe nemen je mee langs alle producten uit het assortiment\, zodat jij jouw klanten nog beter kunt adviseren met kennis én enthousiasme.
URL:https://studioprogramma.absolution.nl/workshops/absolution-ingredienten-training-3/
LOCATION:Ministry of Beauty\, Europaweg 220\, 7336 AR Apeldoorn\, Gelderland\, Nederland
CATEGORIES:Absolution
ORGANIZER;CN="Absolution":MAILTO:info@absolution.nl
GEO:52.1926836;5.9329345
X-APPLE-STRUCTURED-LOCATION;VALUE=URI;X-ADDRESS=Ministry of Beauty Europaweg 220 7336 AR Apeldoorn Gelderland Nederland;X-APPLE-RADIUS=500;X-TITLE=Europaweg 220:geo:5.9329345,52.1926836
END:VEVENT
END:VCALENDAR