BEGIN:VCALENDAR
VERSION:2.0
PRODID:-//Studioprogramma Absolution - ECPv6.2.5//NONSGML v1.0//EN
CALSCALE:GREGORIAN
METHOD:PUBLISH
X-WR-CALNAME:Studioprogramma Absolution
X-ORIGINAL-URL:https://studioprogramma.absolution.nl
X-WR-CALDESC:Evenementen voor Studioprogramma Absolution
REFRESH-INTERVAL;VALUE=DURATION:PT1H
X-Robots-Tag:noindex
X-PUBLISHED-TTL:PT1H
BEGIN:VTIMEZONE
TZID:Europe/Helsinki
BEGIN:DAYLIGHT
TZOFFSETFROM:+0200
TZOFFSETTO:+0300
TZNAME:EEST
DTSTART:20250330T010000
END:DAYLIGHT
BEGIN:STANDARD
TZOFFSETFROM:+0300
TZOFFSETTO:+0200
TZNAME:EET
DTSTART:20251026T010000
END:STANDARD
END:VTIMEZONE
BEGIN:VEVENT
DTSTART;TZID=Europe/Helsinki:20251002T100000
DTEND;TZID=Europe/Helsinki:20251002T160000
DTSTAMP:20260421T114216
CREATED:20250429T123437Z
LAST-MODIFIED:20250429T123437Z
UID:9773-1759399200-1759420800@studioprogramma.absolution.nl
SUMMARY:Absolution Body Re-Lax - 2 oktober 2025
DESCRIPTION:Tijdens deze training leer je ontspannende massagetechnieken die lichaam en geest in balans brengen – van een diepe voetmassage tot een rustgevende hoofdhuidmassage\, geïnspireerd op traditionele Japanse geneeskunde. Het doel? De energie in het lichaam harmoniseren\, spanningen loslaten en de geest volledig tot rust brengen.\nModel meenemen: ja
URL:https://studioprogramma.absolution.nl/workshops/absolution-body-re-lax-2-oktober-2025/
LOCATION:Ministry of Beauty\, Europaweg 220\, 7336 AR Apeldoorn\, Gelderland\, Nederland
CATEGORIES:Absolution
ATTACH;FMTTYPE=image/jpeg:https://studioprogramma.absolution.nl/wp-content/uploads/2024/10/2024_Savons_Noir_et_Blanc_©LaurenceRevol_LIFESTYLE-116-scaled.jpg
ORGANIZER;CN="Absolution":MAILTO:info@absolution.nl
GEO:52.1926836;5.9329345
X-APPLE-STRUCTURED-LOCATION;VALUE=URI;X-ADDRESS=Ministry of Beauty Europaweg 220 7336 AR Apeldoorn Gelderland Nederland;X-APPLE-RADIUS=500;X-TITLE=Europaweg 220:geo:5.9329345,52.1926836
END:VEVENT
END:VCALENDAR