BEGIN:VCALENDAR
VERSION:2.0
PRODID:-//Studioprogramma Absolution - ECPv6.2.5//NONSGML v1.0//EN
CALSCALE:GREGORIAN
METHOD:PUBLISH
X-WR-CALNAME:Studioprogramma Absolution
X-ORIGINAL-URL:https://studioprogramma.absolution.nl
X-WR-CALDESC:Evenementen voor Studioprogramma Absolution
REFRESH-INTERVAL;VALUE=DURATION:PT1H
X-Robots-Tag:noindex
X-PUBLISHED-TTL:PT1H
BEGIN:VTIMEZONE
TZID:Europe/Helsinki
BEGIN:DAYLIGHT
TZOFFSETFROM:+0200
TZOFFSETTO:+0300
TZNAME:EEST
DTSTART:20250330T010000
END:DAYLIGHT
BEGIN:STANDARD
TZOFFSETFROM:+0300
TZOFFSETTO:+0200
TZNAME:EET
DTSTART:20251026T010000
END:STANDARD
END:VTIMEZONE
BEGIN:VEVENT
DTSTART;TZID=Europe/Helsinki:20251008T100000
DTEND;TZID=Europe/Helsinki:20251008T160000
DTSTAMP:20260421T130057
CREATED:20250429T123438Z
LAST-MODIFIED:20250429T123438Z
UID:9710-1759917600-1759939200@studioprogramma.absolution.nl
SUMMARY:Absolution basispraktijk | advanced - 8 oktober 2025
DESCRIPTION:Voor de Absolution huidspecialist die de unieke behandelmethoden wil herhalen\, perfectioneren en ervaren. \nTijdens deze training ga je aan de slag met alle productgroepen en nieuwe producten volgens de Absolution-filosofie\, met extra aandacht voor het verfijnen van de technieken.\nModel meenemen: nee
URL:https://studioprogramma.absolution.nl/workshops/absolution-basispraktijk-advanced-8-oktober-2025/
LOCATION:Ministry of Beauty\, Europaweg 220\, 7336 AR Apeldoorn\, Gelderland\, Nederland
CATEGORIES:Absolution
ATTACH;FMTTYPE=image/jpeg:https://studioprogramma.absolution.nl/wp-content/uploads/2024/10/2024__Creme_Douce_Demaq_Creme_Soir_Creme_Beau_Jour©LaurenceRevol_LIFESTYLE-02-scaled.jpg
ORGANIZER;CN="Absolution":MAILTO:info@absolution.nl
GEO:52.1926836;5.9329345
X-APPLE-STRUCTURED-LOCATION;VALUE=URI;X-ADDRESS=Ministry of Beauty Europaweg 220 7336 AR Apeldoorn Gelderland Nederland;X-APPLE-RADIUS=500;X-TITLE=Europaweg 220:geo:5.9329345,52.1926836
END:VEVENT
END:VCALENDAR