BEGIN:VCALENDAR
VERSION:2.0
PRODID:-//Studioprogramma Absolution - ECPv6.2.5//NONSGML v1.0//EN
CALSCALE:GREGORIAN
METHOD:PUBLISH
X-ORIGINAL-URL:https://studioprogramma.absolution.nl
X-WR-CALDESC:Evenementen voor Studioprogramma Absolution
REFRESH-INTERVAL;VALUE=DURATION:PT1H
X-Robots-Tag:noindex
X-PUBLISHED-TTL:PT1H
BEGIN:VTIMEZONE
TZID:Europe/Helsinki
BEGIN:DAYLIGHT
TZOFFSETFROM:+0200
TZOFFSETTO:+0300
TZNAME:EEST
DTSTART:20250330T010000
END:DAYLIGHT
BEGIN:STANDARD
TZOFFSETFROM:+0300
TZOFFSETTO:+0200
TZNAME:EET
DTSTART:20251026T010000
END:STANDARD
END:VTIMEZONE
BEGIN:VEVENT
DTSTART;TZID=Europe/Helsinki:20251022T100000
DTEND;TZID=Europe/Helsinki:20251022T160000
DTSTAMP:20260421T114512
CREATED:20250429T123438Z
LAST-MODIFIED:20250429T123438Z
UID:9741-1761127200-1761148800@studioprogramma.absolution.nl
SUMMARY:Absolution Gymnastiek voor de huid | Advanced - 22 oktober 2025
DESCRIPTION:Verdiep en perfectioneer jouw vaardigheden met deze vervolgtraining! Tijdens deze advanced training bouw je voort op de basistechnieken van Gymnastiek voor de huid en leer je aanvullende en verfijnde massagemethoden\, waaronder een nieuwe Guasha techniek. Breng je technieken naar een hoger niveau en ervaar de ultieme gymnastiek voor jouw huid! Voorwaarde voor deelname: Je dient de training ‘Gymnastiek voor de huid’ gevolgd te hebben. We verzoeken je om met korte nagels naar de training te komen\, zodat je alle oefeningen goed kunt uitvoeren.\nModel meenemen: nee
URL:https://studioprogramma.absolution.nl/workshops/absolution-gymnastiek-voor-de-huid-advanced-22-oktober-2025/
LOCATION:Ministry of Beauty\, Europaweg 220\, 7336 AR Apeldoorn\, Gelderland\, Nederland
CATEGORIES:Absolution
ATTACH;FMTTYPE=image/jpeg:https://studioprogramma.absolution.nl/wp-content/uploads/2024/05/Image_carree_0001_Absolution_stillife_PAXAddiction.jpg
ORGANIZER;CN="Absolution":MAILTO:info@absolution.nl
GEO:52.1926836;5.9329345
X-APPLE-STRUCTURED-LOCATION;VALUE=URI;X-ADDRESS=Ministry of Beauty Europaweg 220 7336 AR Apeldoorn Gelderland Nederland;X-APPLE-RADIUS=500;X-TITLE=Europaweg 220:geo:5.9329345,52.1926836
END:VEVENT
END:VCALENDAR