BEGIN:VCALENDAR
VERSION:2.0
PRODID:-//Studioprogramma Absolution - ECPv6.2.5//NONSGML v1.0//EN
CALSCALE:GREGORIAN
METHOD:PUBLISH
X-WR-CALNAME:Studioprogramma Absolution
X-ORIGINAL-URL:https://studioprogramma.absolution.nl
X-WR-CALDESC:Evenementen voor Studioprogramma Absolution
REFRESH-INTERVAL;VALUE=DURATION:PT1H
X-Robots-Tag:noindex
X-PUBLISHED-TTL:PT1H
BEGIN:VTIMEZONE
TZID:Europe/Helsinki
BEGIN:DAYLIGHT
TZOFFSETFROM:+0200
TZOFFSETTO:+0300
TZNAME:EEST
DTSTART:20260329T010000
END:DAYLIGHT
BEGIN:STANDARD
TZOFFSETFROM:+0300
TZOFFSETTO:+0200
TZNAME:EET
DTSTART:20261025T010000
END:STANDARD
END:VTIMEZONE
BEGIN:VEVENT
DTSTART;TZID=Europe/Helsinki:20261027T100000
DTEND;TZID=Europe/Helsinki:20261027T160000
DTSTAMP:20260421T130944
CREATED:20260408T145750Z
LAST-MODIFIED:20260408T145750Z
UID:12109-1793095200-1793116800@studioprogramma.absolution.nl
SUMMARY:Absolution Detox & Calming Massage - 27 oktober 2026
DESCRIPTION:In deze training leer en ervaar je twee massages: een intensieve massage gericht op het afvoeren van afvalstoffen bij de huid die uit balans is en neigt naar onzuiverheden\, en een kalmerende massage om sterk reactieve en gevoelige huiden te verzachten en te herstellen. Daarnaast behandelen we de theorie achter deze specifieke huidbehoeftes\, zodat je beter begrijpt wat deze huiden nodig hebben en hoe je jouw behandelingen hierop afstemt. Voor deelname aan deze training is het belangrijk dat de nagels kort zijn. Model: niet nodig.
URL:https://studioprogramma.absolution.nl/workshops/absolution-detox-calming-massage-27-oktober-2026/
LOCATION:Ministry of Beauty\, Europaweg 220\, 7336 AR Apeldoorn\, Gelderland\, Nederland
CATEGORIES:Absolution
ATTACH;FMTTYPE=image/jpeg:https://studioprogramma.absolution.nl/wp-content/uploads/2026/02/2025_©Kordelia_PAX_CBJ_1.jpg
ORGANIZER;CN="Absolution":MAILTO:info@absolution.nl
GEO:52.1926836;5.9329345
X-APPLE-STRUCTURED-LOCATION;VALUE=URI;X-ADDRESS=Ministry of Beauty Europaweg 220 7336 AR Apeldoorn Gelderland Nederland;X-APPLE-RADIUS=500;X-TITLE=Europaweg 220:geo:5.9329345,52.1926836
END:VEVENT
END:VCALENDAR